BEGIN:VCALENDAR
VERSION:2.0
PRODID:-//Valley Streams Zen Sangha - ECPv6.15.18//NONSGML v1.0//EN
CALSCALE:GREGORIAN
METHOD:PUBLISH
X-WR-CALNAME:Valley Streams Zen Sangha
X-ORIGINAL-URL:https://valleystreamszen.org
X-WR-CALDESC:Events for Valley Streams Zen Sangha
REFRESH-INTERVAL;VALUE=DURATION:PT1H
X-Robots-Tag:noindex
X-PUBLISHED-TTL:PT1H
BEGIN:VTIMEZONE
TZID:America/Los_Angeles
BEGIN:DAYLIGHT
TZOFFSETFROM:-0800
TZOFFSETTO:-0700
TZNAME:PDT
DTSTART:20200308T100000
END:DAYLIGHT
BEGIN:STANDARD
TZOFFSETFROM:-0700
TZOFFSETTO:-0800
TZNAME:PST
DTSTART:20201101T090000
END:STANDARD
BEGIN:DAYLIGHT
TZOFFSETFROM:-0800
TZOFFSETTO:-0700
TZNAME:PDT
DTSTART:20210314T100000
END:DAYLIGHT
BEGIN:STANDARD
TZOFFSETFROM:-0700
TZOFFSETTO:-0800
TZNAME:PST
DTSTART:20211107T090000
END:STANDARD
BEGIN:DAYLIGHT
TZOFFSETFROM:-0800
TZOFFSETTO:-0700
TZNAME:PDT
DTSTART:20220313T100000
END:DAYLIGHT
BEGIN:STANDARD
TZOFFSETFROM:-0700
TZOFFSETTO:-0800
TZNAME:PST
DTSTART:20221106T090000
END:STANDARD
END:VTIMEZONE
BEGIN:VEVENT
DTSTART;TZID=America/Los_Angeles:20211128T193000
DTEND;TZID=America/Los_Angeles:20211128T203000
DTSTAMP:20260425T072936
CREATED:20211109T020323Z
LAST-MODIFIED:20211109T020323Z
UID:10294-1638127800-1638131400@valleystreamszen.org
SUMMARY:Rohatsu Sesshin\, led by So-On Jim Hare (in person and online)
DESCRIPTION:Welcome and orientation to Rohatsu Sesshin\, Nov. 28 – Dec. 5\, 2021 \nThis traditional week of intensified practice celebrates the enlightenment of our original teacher in India\, Shakyamuni Buddha. Rohatsu sesshin is a time for bringing light into the dark time of the year and celebrating Buddha’s awakening\, which is our awakening too. This sesshin will be a combination of in-person and online programs. It will last a full week\, but we’ll be sitting only morning and evening periods\, Sunday – Thursday. Friday will be online only; Saturday we offer a full day of sitting in person at the Dharma Center.  We close out the week on Sunday\, Dec. 5\, with a half-day\, in-person program of zazen\, a Dharma talk and closing ceremony.  For questions\, contact So-On Jim Hare\, info@valleystreamszen.org. \nRohatsu Sesshin Schedule       Register on Eventbrite.com
URL:https://valleystreamszen.org/event/rohatsu-sesshin-in-person-and-online-3/
LOCATION:3111 Wissemann Drive\, Sacramento\, CA\, 95826\, United States
CATEGORIES:All Events,Online Event,Retreat
END:VEVENT
END:VCALENDAR