BEGIN:VCALENDAR
VERSION:2.0
PRODID:-//Valley Streams Zen Sangha - ECPv6.15.18//NONSGML v1.0//EN
CALSCALE:GREGORIAN
METHOD:PUBLISH
X-ORIGINAL-URL:https://valleystreamszen.org
X-WR-CALDESC:Events for Valley Streams Zen Sangha
REFRESH-INTERVAL;VALUE=DURATION:PT1H
X-Robots-Tag:noindex
X-PUBLISHED-TTL:PT1H
BEGIN:VTIMEZONE
TZID:America/Los_Angeles
BEGIN:DAYLIGHT
TZOFFSETFROM:-0800
TZOFFSETTO:-0700
TZNAME:PDT
DTSTART:20200308T100000
END:DAYLIGHT
BEGIN:STANDARD
TZOFFSETFROM:-0700
TZOFFSETTO:-0800
TZNAME:PST
DTSTART:20201101T090000
END:STANDARD
BEGIN:DAYLIGHT
TZOFFSETFROM:-0800
TZOFFSETTO:-0700
TZNAME:PDT
DTSTART:20210314T100000
END:DAYLIGHT
BEGIN:STANDARD
TZOFFSETFROM:-0700
TZOFFSETTO:-0800
TZNAME:PST
DTSTART:20211107T090000
END:STANDARD
BEGIN:DAYLIGHT
TZOFFSETFROM:-0800
TZOFFSETTO:-0700
TZNAME:PDT
DTSTART:20220313T100000
END:DAYLIGHT
BEGIN:STANDARD
TZOFFSETFROM:-0700
TZOFFSETTO:-0800
TZNAME:PST
DTSTART:20221106T090000
END:STANDARD
END:VTIMEZONE
BEGIN:VEVENT
DTSTART;TZID=America/Los_Angeles:20211129T060000
DTEND;TZID=America/Los_Angeles:20211129T073000
DTSTAMP:20260424T120431
CREATED:20211117T220133Z
LAST-MODIFIED:20211117T220133Z
UID:10296-1638165600-1638171000@valleystreamszen.org
SUMMARY:Rohatsu Sesshin\, morning program (online)
DESCRIPTION:Morning Rohatsu schedule\, Monday – Wednesday.\n6:00   Zazen\n6:30   Kinhin\n6:40   Zazen\n7:10   Service \nFull Rohatsu Sesshin Schedule     Register on Eventbrite.com \nThis traditional week of intensified practice celebrates the enlightenment of our original teacher in India\, Shakyamuni Buddha. Rohatsu sesshin is a time for bringing light into the dark time of the year and for celebrating Buddha’s awakening\, which is our awakening too. This sesshin is a combination of in-person and online. It will last a full week\, but we’ll be sitting only morning and evening periods\, Sunday – Thursday.  Friday will be online only; Saturday we offer a full day of sitting in person at the Dharma Center.  We close out the week on Sunday\, Dec. 5\, with a half-day\, in-person program of zazen\, a Dharma talk\, followed by a closing ceremony. \n  \n 
URL:https://valleystreamszen.org/event/rohatsu-sesshin-led-by-so-on-jim-hare-in-person-and-online-2/
LOCATION:3111 Wissemann Drive\, Sacramento\, CA\, 95826\, United States
CATEGORIES:All Events,Morning Zazen,Online Event,Retreat
END:VEVENT
BEGIN:VEVENT
DTSTART;TZID=America/Los_Angeles:20211129T190000
DTEND;TZID=America/Los_Angeles:20211129T210000
DTSTAMP:20260424T120431
CREATED:20210819T202451Z
LAST-MODIFIED:20210819T202451Z
UID:10284-1638212400-1638219600@valleystreamszen.org
SUMMARY:Dharma Talk by So On Jim Hare (in person & online)
DESCRIPTION:So’On Jim Hare  serves as Tanto\, or head of practice. He lived in the San Francisco Zen Center community from 1980 to 1984\, and was lay ordained by Tenshin Reb Anderson in 1985. He served as Head Student at Green Gulch Farm during the spring 2002 practice period. He was priest ordained by Rev. Myo Lahey in 2016.\n*Zoom link https://us02web.zoom.us/j/82008151977 \n\nOur Monday night programs begin with zazen (meditation) followed by a devotional service and dharma talk\, group discussion\, practice circle or retreat night. There are no membership requirements to participate. We invite donations to support the room rental\, visits by teachers\, and other sangha activities. Valley Streams Zen Sangha is dedicated to the study of Buddha’s teaching and the practice of meditation. We invite newcomers and experienced Zen students to join us.
URL:https://valleystreamszen.org/event/monday-evening-zazen-and-program-in-person-online-2021-11-29-3/
LOCATION:3111 Wissemann Drive\, Sacramento\, CA\, 95826\, United States
CATEGORIES:All Events,Monday Night Meeting,Online Event
END:VEVENT
END:VCALENDAR