BEGIN:VCALENDAR
VERSION:2.0
PRODID:-//Valley Streams Zen Sangha - ECPv6.15.18//NONSGML v1.0//EN
CALSCALE:GREGORIAN
METHOD:PUBLISH
X-WR-CALNAME:Valley Streams Zen Sangha
X-ORIGINAL-URL:https://valleystreamszen.org
X-WR-CALDESC:Events for Valley Streams Zen Sangha
REFRESH-INTERVAL;VALUE=DURATION:PT1H
X-Robots-Tag:noindex
X-PUBLISHED-TTL:PT1H
BEGIN:VTIMEZONE
TZID:America/Los_Angeles
BEGIN:DAYLIGHT
TZOFFSETFROM:-0800
TZOFFSETTO:-0700
TZNAME:PDT
DTSTART:20200308T100000
END:DAYLIGHT
BEGIN:STANDARD
TZOFFSETFROM:-0700
TZOFFSETTO:-0800
TZNAME:PST
DTSTART:20201101T090000
END:STANDARD
BEGIN:DAYLIGHT
TZOFFSETFROM:-0800
TZOFFSETTO:-0700
TZNAME:PDT
DTSTART:20210314T100000
END:DAYLIGHT
BEGIN:STANDARD
TZOFFSETFROM:-0700
TZOFFSETTO:-0800
TZNAME:PST
DTSTART:20211107T090000
END:STANDARD
BEGIN:DAYLIGHT
TZOFFSETFROM:-0800
TZOFFSETTO:-0700
TZNAME:PDT
DTSTART:20220313T100000
END:DAYLIGHT
BEGIN:STANDARD
TZOFFSETFROM:-0700
TZOFFSETTO:-0800
TZNAME:PST
DTSTART:20221106T090000
END:STANDARD
END:VTIMEZONE
BEGIN:VEVENT
DTSTART;TZID=America/Los_Angeles:20211130T060000
DTEND;TZID=America/Los_Angeles:20211130T073000
DTSTAMP:20260424T120342
CREATED:20211117T220133Z
LAST-MODIFIED:20211117T220133Z
UID:10297-1638252000-1638257400@valleystreamszen.org
SUMMARY:Rohatsu Sesshin\, morning program (online)
DESCRIPTION:Morning Rohatsu schedule\, Monday – Wednesday.\n6:00   Zazen\n6:30   Kinhin\n6:40   Zazen\n7:10   Service \nFull Rohatsu Sesshin Schedule     Register on Eventbrite.com \nThis traditional week of intensified practice celebrates the enlightenment of our original teacher in India\, Shakyamuni Buddha. Rohatsu sesshin is a time for bringing light into the dark time of the year and for celebrating Buddha’s awakening\, which is our awakening too. This sesshin is a combination of in-person and online. It will last a full week\, but we’ll be sitting only morning and evening periods\, Sunday – Thursday.  Friday will be online only; Saturday we offer a full day of sitting in person at the Dharma Center.  We close out the week on Sunday\, Dec. 5\, with a half-day\, in-person program of zazen\, a Dharma talk\, followed by a closing ceremony. \n  \n 
URL:https://valleystreamszen.org/event/rohatsu-sesshin-led-by-so-on-jim-hare-in-person-and-online-2021-11-30-2/
LOCATION:3111 Wissemann Drive\, Sacramento\, CA\, 95826\, United States
CATEGORIES:All Events,Morning Zazen,Online Event,Retreat
END:VEVENT
BEGIN:VEVENT
DTSTART;TZID=America/Los_Angeles:20211130T170000
DTEND;TZID=America/Los_Angeles:20211130T210000
DTSTAMP:20260424T120342
CREATED:20211117T222921Z
LAST-MODIFIED:20211117T222921Z
UID:10299-1638291600-1638306000@valleystreamszen.org
SUMMARY:Rohatsu Sesshin\, evening program (online)
DESCRIPTION:Evening Rohatsu schedule\, Tuesday – Thursday\, 5 pm – 8:45 pm.\n5:00   Zazen\n5:30   Service\nBreak/Dinner\n7:30   Zazen\n8:00   Kinhin\n8:10   Zazen\n8:40   Refuges \nFull Rohatsu Sesshin Schedule \n\nThis traditional week of intensified practice celebrates the enlightenment of our original teacher in India\, Shakyamuni Buddha. Rohatsu sesshin is a time for bringing light into the dark time of the year and for celebrating Buddha’s awakening\, which is our awakening too. This sesshin is a combination of in-person and online. It will last a full week\, but we’ll be sitting only morning and evening periods\, Sunday – Thursday.  Friday will be online only; Saturday we offer a full day of sitting in person at the Dharma Center.  We close out the week on Sunday\, Dec. 5\, with a half-day\, in-person program of zazen\, a Dharma talk\, followed by a closing ceremony.
URL:https://valleystreamszen.org/event/rohatsu-sesshin-evening-program-online-2/
LOCATION:3111 Wissemann Drive\, Sacramento\, CA\, 95826\, United States
CATEGORIES:All Events,Online Event,Retreat
END:VEVENT
END:VCALENDAR