BEGIN:VCALENDAR
VERSION:2.0
PRODID:-//Valley Streams Zen Sangha - ECPv6.15.18//NONSGML v1.0//EN
CALSCALE:GREGORIAN
METHOD:PUBLISH
X-ORIGINAL-URL:https://valleystreamszen.org
X-WR-CALDESC:Events for Valley Streams Zen Sangha
REFRESH-INTERVAL;VALUE=DURATION:PT1H
X-Robots-Tag:noindex
X-PUBLISHED-TTL:PT1H
BEGIN:VTIMEZONE
TZID:America/Los_Angeles
BEGIN:DAYLIGHT
TZOFFSETFROM:-0800
TZOFFSETTO:-0700
TZNAME:PDT
DTSTART:20200308T100000
END:DAYLIGHT
BEGIN:STANDARD
TZOFFSETFROM:-0700
TZOFFSETTO:-0800
TZNAME:PST
DTSTART:20201101T090000
END:STANDARD
BEGIN:DAYLIGHT
TZOFFSETFROM:-0800
TZOFFSETTO:-0700
TZNAME:PDT
DTSTART:20210314T100000
END:DAYLIGHT
BEGIN:STANDARD
TZOFFSETFROM:-0700
TZOFFSETTO:-0800
TZNAME:PST
DTSTART:20211107T090000
END:STANDARD
BEGIN:DAYLIGHT
TZOFFSETFROM:-0800
TZOFFSETTO:-0700
TZNAME:PDT
DTSTART:20220313T100000
END:DAYLIGHT
BEGIN:STANDARD
TZOFFSETFROM:-0700
TZOFFSETTO:-0800
TZNAME:PST
DTSTART:20221106T090000
END:STANDARD
END:VTIMEZONE
BEGIN:VEVENT
DTSTART;TZID=America/Los_Angeles:20211204T090000
DTEND;TZID=America/Los_Angeles:20211204T170000
DTSTAMP:20260424T120433
CREATED:20211117T224424Z
LAST-MODIFIED:20211117T224424Z
UID:10303-1638608400-1638637200@valleystreamszen.org
SUMMARY:Rohatsu Sesshin\, One-Day Sitting (in person)
DESCRIPTION:One-Day Sitting – in person –  9 am – 5 pm\nThis sitting will be in person at the Dharma Center and will not be offered on Zoom. The schedule will be sent to all who have registered at Eventbrite.com\n• Please remember to bring a lunch. \nFull Rohatsu Sesshin Schedule \nThis traditional week of intensified practice celebrates the enlightenment of our original teacher in India\, Shakyamuni Buddha. Rohatsu sesshin is a time for bringing light into the dark time of the year and for celebrating Buddha’s awakening\, which is our awakening too. This sesshin is a combination of in-person and online. It will last a full week\, but we’ll be sitting only morning and evening periods\, Sunday – Thursday.  Friday will be online only; Saturday we offer a full day of sitting in person at the Dharma Center.  We close out the week on Sunday\, Dec. 5\, with a half-day\, in-person program of zazen\, a Dharma talk\, and closing ceremony.
URL:https://valleystreamszen.org/event/rohatsu-sesshin-led-by-so-on-jim-hare-in-person-3/
LOCATION:3111 Wissemann Drive\, Sacramento\, CA\, 95826\, United States
CATEGORIES:All Events,One-Day Sitting,Retreat
END:VEVENT
END:VCALENDAR