BEGIN:VCALENDAR
VERSION:2.0
PRODID:-//Valley Streams Zen Sangha - ECPv6.15.18//NONSGML v1.0//EN
CALSCALE:GREGORIAN
METHOD:PUBLISH
X-WR-CALNAME:Valley Streams Zen Sangha
X-ORIGINAL-URL:https://valleystreamszen.org
X-WR-CALDESC:Events for Valley Streams Zen Sangha
REFRESH-INTERVAL;VALUE=DURATION:PT1H
X-Robots-Tag:noindex
X-PUBLISHED-TTL:PT1H
BEGIN:VTIMEZONE
TZID:America/Los_Angeles
BEGIN:DAYLIGHT
TZOFFSETFROM:-0800
TZOFFSETTO:-0700
TZNAME:PDT
DTSTART:20200308T100000
END:DAYLIGHT
BEGIN:STANDARD
TZOFFSETFROM:-0700
TZOFFSETTO:-0800
TZNAME:PST
DTSTART:20201101T090000
END:STANDARD
BEGIN:DAYLIGHT
TZOFFSETFROM:-0800
TZOFFSETTO:-0700
TZNAME:PDT
DTSTART:20210314T100000
END:DAYLIGHT
BEGIN:STANDARD
TZOFFSETFROM:-0700
TZOFFSETTO:-0800
TZNAME:PST
DTSTART:20211107T090000
END:STANDARD
BEGIN:DAYLIGHT
TZOFFSETFROM:-0800
TZOFFSETTO:-0700
TZNAME:PDT
DTSTART:20220313T100000
END:DAYLIGHT
BEGIN:STANDARD
TZOFFSETFROM:-0700
TZOFFSETTO:-0800
TZNAME:PST
DTSTART:20221106T090000
END:STANDARD
END:VTIMEZONE
BEGIN:VEVENT
DTSTART;TZID=America/Los_Angeles:20211206T190000
DTEND;TZID=America/Los_Angeles:20211206T210000
DTSTAMP:20260424T120343
CREATED:20210819T202451Z
LAST-MODIFIED:20210819T202451Z
UID:10285-1638817200-1638824400@valleystreamszen.org
SUMMARY:Dharma Talk on Patience by Paravrtti Doralee Grindler Katonah (in person & online)
DESCRIPTION:What my quirky coffee pot taught me about patience and what this has to do with Buddha’s Awakening —\nAccording to Norman Fischer\, “Patience (Kshanti paramita) is the most important of all the bodhisattva practices because without it all the others will eventually fail.”  In this world of polarization\, pandemic fears and terrible realities\, shocking racial injustice and violence\, impatience easily takes over.  Through the practice of patience we can transform our impatience – yet what does this mean exactly?  We will together look freshly at the  paramita of patience in light of Buddha’s gift of the dharma. \nParavrtti Doralee Grindler Katonah serves as Ino\, or head of the meditation hall. She studied in the Soto Zen lineage with Sojun Diane Martin in Illinois and Rev. Val Szymanski in California. She was priest ordained in 2019 by Sojun Diane Martin. \n*Zoom link  https://us02web.zoom.us/j/82008151977 \n\nOur Monday night programs begin with zazen (meditation) followed by a devotional service and dharma talk\, group discussion\, practice circle or retreat night. There are no membership requirements to participate. We invite donations to support the room rental\, visits by teachers\, and other sangha activities. Valley Streams Zen Sangha is dedicated to the study of Buddha’s teaching and the practice of meditation. We invite newcomers and experienced Zen students to join us.
URL:https://valleystreamszen.org/event/monday-evening-zazen-and-program-in-person-online-2021-12-06-3/
LOCATION:3111 Wissemann Drive\, Sacramento\, CA\, 95826\, United States
CATEGORIES:All Events,Monday Night Meeting,Online Event
END:VEVENT
END:VCALENDAR