BEGIN:VCALENDAR
VERSION:2.0
PRODID:-//Valley Streams Zen Sangha - ECPv6.15.18//NONSGML v1.0//EN
CALSCALE:GREGORIAN
METHOD:PUBLISH
X-WR-CALNAME:Valley Streams Zen Sangha
X-ORIGINAL-URL:https://valleystreamszen.org
X-WR-CALDESC:Events for Valley Streams Zen Sangha
REFRESH-INTERVAL;VALUE=DURATION:PT1H
X-Robots-Tag:noindex
X-PUBLISHED-TTL:PT1H
BEGIN:VTIMEZONE
TZID:America/Los_Angeles
BEGIN:DAYLIGHT
TZOFFSETFROM:-0800
TZOFFSETTO:-0700
TZNAME:PDT
DTSTART:20210314T100000
END:DAYLIGHT
BEGIN:STANDARD
TZOFFSETFROM:-0700
TZOFFSETTO:-0800
TZNAME:PST
DTSTART:20211107T090000
END:STANDARD
BEGIN:DAYLIGHT
TZOFFSETFROM:-0800
TZOFFSETTO:-0700
TZNAME:PDT
DTSTART:20220313T100000
END:DAYLIGHT
BEGIN:STANDARD
TZOFFSETFROM:-0700
TZOFFSETTO:-0800
TZNAME:PST
DTSTART:20221106T090000
END:STANDARD
BEGIN:DAYLIGHT
TZOFFSETFROM:-0800
TZOFFSETTO:-0700
TZNAME:PDT
DTSTART:20230312T100000
END:DAYLIGHT
BEGIN:STANDARD
TZOFFSETFROM:-0700
TZOFFSETTO:-0800
TZNAME:PST
DTSTART:20231105T090000
END:STANDARD
END:VTIMEZONE
BEGIN:VEVENT
DTSTART;TZID=America/Los_Angeles:20220228T190000
DTEND;TZID=America/Los_Angeles:20220228T210000
DTSTAMP:20260424T063332
CREATED:20211206T234124Z
LAST-MODIFIED:20211206T234124Z
UID:10375-1646074800-1646082000@valleystreamszen.org
SUMMARY:Retreat Night (in-person and online)
DESCRIPTION:On Retreat Night we offer an opportunity to settle into your meditation practice with two or three 25-minute periods of zazen\, interspersed with walking meditation (called kinhin). Turning the light inward we explore the causes of suffering and what can end it. This invitation is extended to everyone. \n*Zoom link  https://us02web.zoom.us/j/82008151977 \n\n 
URL:https://valleystreamszen.org/event/monday-night-zazen-and-program-in-person-and-online-2022-02-28-2/
LOCATION:3111 Wissemann Drive\, Sacramento\, CA\, 95826\, United States
CATEGORIES:All Events,Monday Night Meeting,Online Event
END:VEVENT
END:VCALENDAR