BEGIN:VCALENDAR
VERSION:2.0
PRODID:-//Valley Streams Zen Sangha - ECPv6.15.18//NONSGML v1.0//EN
CALSCALE:GREGORIAN
METHOD:PUBLISH
X-WR-CALNAME:Valley Streams Zen Sangha
X-ORIGINAL-URL:https://valleystreamszen.org
X-WR-CALDESC:Events for Valley Streams Zen Sangha
REFRESH-INTERVAL;VALUE=DURATION:PT1H
X-Robots-Tag:noindex
X-PUBLISHED-TTL:PT1H
BEGIN:VTIMEZONE
TZID:America/Los_Angeles
BEGIN:DAYLIGHT
TZOFFSETFROM:-0800
TZOFFSETTO:-0700
TZNAME:PDT
DTSTART:20210314T100000
END:DAYLIGHT
BEGIN:STANDARD
TZOFFSETFROM:-0700
TZOFFSETTO:-0800
TZNAME:PST
DTSTART:20211107T090000
END:STANDARD
BEGIN:DAYLIGHT
TZOFFSETFROM:-0800
TZOFFSETTO:-0700
TZNAME:PDT
DTSTART:20220313T100000
END:DAYLIGHT
BEGIN:STANDARD
TZOFFSETFROM:-0700
TZOFFSETTO:-0800
TZNAME:PST
DTSTART:20221106T090000
END:STANDARD
BEGIN:DAYLIGHT
TZOFFSETFROM:-0800
TZOFFSETTO:-0700
TZNAME:PDT
DTSTART:20230312T100000
END:DAYLIGHT
BEGIN:STANDARD
TZOFFSETFROM:-0700
TZOFFSETTO:-0800
TZNAME:PST
DTSTART:20231105T090000
END:STANDARD
END:VTIMEZONE
BEGIN:VEVENT
DTSTART;TZID=America/Los_Angeles:20220404T190000
DTEND;TZID=America/Los_Angeles:20220404T210000
DTSTAMP:20260424T173658
CREATED:20220405T090000Z
LAST-MODIFIED:20220401T033114Z
UID:10401-1649098800-1649106000@valleystreamszen.org
SUMMARY:Dharma Talk & Reflection by Paravrtti Doralee Grindler Katonah (in person & online)
DESCRIPTION:In the Eihei Koroku\, Dogen says\, “When you build a pond naturally the moon will come.”  \nCome to our Practice Circle on The Precious Jewel of Sangha Life. \n\nParavrtti Doralee Grindler Katonah serves as Ino\, or head of the meditation hall. She studied in the Soto Zen lineage with Sojun Diane Martin in Illinois and Rev. Val Szymanski in California. She was priest ordained in 2019 by Sojun Diane Martin. \n*Zoom link for this program: https://us02web.zoom.us/j/82008151977 \n\n 
URL:https://valleystreamszen.org/event/monday-night-program-in-person-and-online-2022-04-04-2/
LOCATION:Sacramento Dharma Center\, Sacramento Dharma Center\, 3111 Wissemann Drive\, Sacramento\, CA\, 95826\, United States
CATEGORIES:All Events,Monday Night Meeting,Online Event
ORGANIZER;CN="Valley Streams Zen Sangha":MAILTO:info@valleystreamszen.org
END:VEVENT
END:VCALENDAR