BEGIN:VCALENDAR
VERSION:2.0
PRODID:-//Valley Streams Zen Sangha - ECPv6.15.18//NONSGML v1.0//EN
CALSCALE:GREGORIAN
METHOD:PUBLISH
X-ORIGINAL-URL:https://valleystreamszen.org
X-WR-CALDESC:Events for Valley Streams Zen Sangha
REFRESH-INTERVAL;VALUE=DURATION:PT1H
X-Robots-Tag:noindex
X-PUBLISHED-TTL:PT1H
BEGIN:VTIMEZONE
TZID:America/Los_Angeles
BEGIN:DAYLIGHT
TZOFFSETFROM:-0800
TZOFFSETTO:-0700
TZNAME:PDT
DTSTART:20210314T100000
END:DAYLIGHT
BEGIN:STANDARD
TZOFFSETFROM:-0700
TZOFFSETTO:-0800
TZNAME:PST
DTSTART:20211107T090000
END:STANDARD
BEGIN:DAYLIGHT
TZOFFSETFROM:-0800
TZOFFSETTO:-0700
TZNAME:PDT
DTSTART:20220313T100000
END:DAYLIGHT
BEGIN:STANDARD
TZOFFSETFROM:-0700
TZOFFSETTO:-0800
TZNAME:PST
DTSTART:20221106T090000
END:STANDARD
BEGIN:DAYLIGHT
TZOFFSETFROM:-0800
TZOFFSETTO:-0700
TZNAME:PDT
DTSTART:20230312T100000
END:DAYLIGHT
BEGIN:STANDARD
TZOFFSETFROM:-0700
TZOFFSETTO:-0800
TZNAME:PST
DTSTART:20231105T090000
END:STANDARD
END:VTIMEZONE
BEGIN:VEVENT
DTSTART;TZID=America/Los_Angeles:20220926T190000
DTEND;TZID=America/Los_Angeles:20220926T210000
DTSTAMP:20260422T230556
CREATED:20220927T090000Z
LAST-MODIFIED:20220916T165752Z
UID:11158-1664218800-1664226000@valleystreamszen.org
SUMMARY:Dharma Talk with Rev. Myo Lahey (Hybrid)
DESCRIPTION:Rev. Myo Lahey\, our guiding teacher\,  will join us online via Zoom from Hartford Street Zen Center in San Francisco\, where he is Abbot.  He previously served as Practice Leader at Tassajara Zen Mountain Center. He is a Dharma heir of Tenshin Reb Anderson. \n  \nOur Monday night programs begin with zazen (sitting meditation) followed by a devotional service and dharma talk. There are no membership requirements to participate. We invite donations to support the room rental\, visits by teachers\, and other sangha activities. Valley Streams Zen Sangha is dedicated to the study of Buddha’s teaching and the practice of meditation. We invite newcomers and experienced Zen students to join us. \n*Zoom link for this program: https://us02web.zoom.us/j/82008151977
URL:https://valleystreamszen.org/event/monday-night-meditation-and-program-2022-09-26/
LOCATION:Sacramento Dharma Center\, Sacramento Dharma Center\, 3111 Wissemann Drive\, Sacramento\, CA\, 95826\, United States
CATEGORIES:All Events,Hybrid Event,Monday Night Meeting
ORGANIZER;CN="Valley Streams Zen Sangha":MAILTO:info@valleystreamszen.org
END:VEVENT
END:VCALENDAR