BEGIN:VCALENDAR
VERSION:2.0
PRODID:-//Valley Streams Zen Sangha - ECPv6.15.18//NONSGML v1.0//EN
CALSCALE:GREGORIAN
METHOD:PUBLISH
X-WR-CALNAME:Valley Streams Zen Sangha
X-ORIGINAL-URL:https://valleystreamszen.org
X-WR-CALDESC:Events for Valley Streams Zen Sangha
REFRESH-INTERVAL;VALUE=DURATION:PT1H
X-Robots-Tag:noindex
X-PUBLISHED-TTL:PT1H
BEGIN:VTIMEZONE
TZID:America/Los_Angeles
BEGIN:DAYLIGHT
TZOFFSETFROM:-0800
TZOFFSETTO:-0700
TZNAME:PDT
DTSTART:20210314T100000
END:DAYLIGHT
BEGIN:STANDARD
TZOFFSETFROM:-0700
TZOFFSETTO:-0800
TZNAME:PST
DTSTART:20211107T090000
END:STANDARD
BEGIN:DAYLIGHT
TZOFFSETFROM:-0800
TZOFFSETTO:-0700
TZNAME:PDT
DTSTART:20220313T100000
END:DAYLIGHT
BEGIN:STANDARD
TZOFFSETFROM:-0700
TZOFFSETTO:-0800
TZNAME:PST
DTSTART:20221106T090000
END:STANDARD
BEGIN:DAYLIGHT
TZOFFSETFROM:-0800
TZOFFSETTO:-0700
TZNAME:PDT
DTSTART:20230312T100000
END:DAYLIGHT
BEGIN:STANDARD
TZOFFSETFROM:-0700
TZOFFSETTO:-0800
TZNAME:PST
DTSTART:20231105T090000
END:STANDARD
END:VTIMEZONE
BEGIN:VEVENT
DTSTART;TZID=America/Los_Angeles:20221024T190000
DTEND;TZID=America/Los_Angeles:20221024T210000
DTSTAMP:20260423T005008
CREATED:20221025T090000Z
LAST-MODIFIED:20221021T003656Z
UID:11949-1666638000-1666645200@valleystreamszen.org
SUMMARY:Dharma Talk by Meikyo Bob Rosenbaum (Hybrid) (In-person Teacher)
DESCRIPTION:Meikyo Robert Rosenbaum\, PhD\, received lay entrustment in Soto Zen from Sojun Mel Weitsman.  He is also authorized as a senior teacher of the Taoist practice of Dayan (Wild Goose) Qigong in the lineage of Yang Meijun by Master Hui Liu.  In addition\, he has received denkai  in Ordinary Mind Zen from Karen Terzano. Bob teaches Zen and Qigong at the Meadowmind Center in Sacramento. \nBob is the author of several books including Zen and the Heart of Psychotherapy\, Walking the Way : 81 Zen Encounters with Tao Te Ching and most recently\, That is not your Mind! Zen Reflections on the Sarangama Sutra. \nThe teacher will join us in the zendo. \nTo offer dana to Valley Streams for space rental\, click here. \n*Zoom link for this program: https://us02web.zoom.us/j/82008151977
URL:https://valleystreamszen.org/event/monday-night-meditation-and-program-2022-09-05-2022-10-24/
LOCATION:Sacramento Dharma Center\, Sacramento Dharma Center\, 3111 Wissemann Drive\, Sacramento\, CA\, 95826\, United States
CATEGORIES:All Events,Hybrid Event,Monday Night Meeting
ORGANIZER;CN="Valley Streams Zen Sangha":MAILTO:info@valleystreamszen.org
END:VEVENT
END:VCALENDAR