BEGIN:VCALENDAR
VERSION:2.0
PRODID:-//Valley Streams Zen Sangha - ECPv6.15.18//NONSGML v1.0//EN
CALSCALE:GREGORIAN
METHOD:PUBLISH
X-ORIGINAL-URL:https://valleystreamszen.org
X-WR-CALDESC:Events for Valley Streams Zen Sangha
REFRESH-INTERVAL;VALUE=DURATION:PT1H
X-Robots-Tag:noindex
X-PUBLISHED-TTL:PT1H
BEGIN:VTIMEZONE
TZID:America/Los_Angeles
BEGIN:DAYLIGHT
TZOFFSETFROM:-0800
TZOFFSETTO:-0700
TZNAME:PDT
DTSTART:20210314T100000
END:DAYLIGHT
BEGIN:STANDARD
TZOFFSETFROM:-0700
TZOFFSETTO:-0800
TZNAME:PST
DTSTART:20211107T090000
END:STANDARD
BEGIN:DAYLIGHT
TZOFFSETFROM:-0800
TZOFFSETTO:-0700
TZNAME:PDT
DTSTART:20220313T100000
END:DAYLIGHT
BEGIN:STANDARD
TZOFFSETFROM:-0700
TZOFFSETTO:-0800
TZNAME:PST
DTSTART:20221106T090000
END:STANDARD
BEGIN:DAYLIGHT
TZOFFSETFROM:-0800
TZOFFSETTO:-0700
TZNAME:PDT
DTSTART:20230312T100000
END:DAYLIGHT
BEGIN:STANDARD
TZOFFSETFROM:-0700
TZOFFSETTO:-0800
TZNAME:PST
DTSTART:20231105T090000
END:STANDARD
END:VTIMEZONE
BEGIN:VEVENT
DTSTART;TZID=America/Los_Angeles:20221027T060000
DTEND;TZID=America/Los_Angeles:20221027T073000
DTSTAMP:20260423T023700
CREATED:20220217T220000Z
LAST-MODIFIED:20230508T233436Z
UID:13203-1666850400-1666855800@valleystreamszen.org
SUMMARY:Morning Zazen & Service (Hybrid)
DESCRIPTION:Please join us for early morning silent meditation each Thursday before Study Group meeting. Contact Rollin Ives at twl4148@gmail.com for Zoom login and program information.\nSchedule:\n5:45-Zoom room opens\n6:00-Zazen\n6:30-Walking Meditation\n6:40-Zazen\n7:10-Service   \n•Download  SFZC Chants in PDF. \nTo offer dana to support Valley Streams’ programs and space rental\, click here.
URL:https://valleystreamszen.org/event/morning-zazen-service-in-person-and-online-6-2022-01-27-2022-02-17-2-2022-10-27/2022-10-27/
LOCATION:Sacramento Dharma Center\, Sacramento Dharma Center\, 3111 Wissemann Drive\, Sacramento\, CA\, 95826\, United States
CATEGORIES:All Events,Morning Zazen
ORGANIZER;CN="Valley Streams Zen Sangha":MAILTO:info@valleystreamszen.org
END:VEVENT
BEGIN:VEVENT
DTSTART;TZID=America/Los_Angeles:20221027T080000
DTEND;TZID=America/Los_Angeles:20221027T090000
DTSTAMP:20260423T023700
CREATED:20220218T000000Z
LAST-MODIFIED:20221016T011755Z
UID:11662-1666857600-1666861200@valleystreamszen.org
SUMMARY:Study Group (Hybrid) - On Hiatus
DESCRIPTION:On hiatus until November 10th \nThe Zen Study Group is now meeting at the Dharma Center AND online. The study group is facilitated by Rev. So’on Jim Hare\, with readings from ancient and contemporary Mahayana Buddhist & Soto Zen texts and commentaries. \nTo join the Thursday morning study group\, email the coordinator\, Rollin Ives\, twl4148@gmail.com \n\n\n\n\n\n\n\nTo offer dana to support Valley Streams’ programs and space rental\, click here.
URL:https://valleystreamszen.org/event/study-group-in-person-online-2022-02-17-2-2022-10-27/
LOCATION:Sacramento Dharma Center\, Sacramento Dharma Center\, 3111 Wissemann Drive\, Sacramento\, CA\, 95826\, United States
CATEGORIES:All Events,Hybrid Event,Study Group
ORGANIZER;CN="Valley Streams Zen Sangha":MAILTO:info@valleystreamszen.org
END:VEVENT
END:VCALENDAR