BEGIN:VCALENDAR
VERSION:2.0
PRODID:-//Valley Streams Zen Sangha - ECPv6.15.18//NONSGML v1.0//EN
CALSCALE:GREGORIAN
METHOD:PUBLISH
X-WR-CALNAME:Valley Streams Zen Sangha
X-ORIGINAL-URL:https://valleystreamszen.org
X-WR-CALDESC:Events for Valley Streams Zen Sangha
REFRESH-INTERVAL;VALUE=DURATION:PT1H
X-Robots-Tag:noindex
X-PUBLISHED-TTL:PT1H
BEGIN:VTIMEZONE
TZID:America/Los_Angeles
BEGIN:DAYLIGHT
TZOFFSETFROM:-0800
TZOFFSETTO:-0700
TZNAME:PDT
DTSTART:20220313T100000
END:DAYLIGHT
BEGIN:STANDARD
TZOFFSETFROM:-0700
TZOFFSETTO:-0800
TZNAME:PST
DTSTART:20221106T090000
END:STANDARD
BEGIN:DAYLIGHT
TZOFFSETFROM:-0800
TZOFFSETTO:-0700
TZNAME:PDT
DTSTART:20230312T100000
END:DAYLIGHT
BEGIN:STANDARD
TZOFFSETFROM:-0700
TZOFFSETTO:-0800
TZNAME:PST
DTSTART:20231105T090000
END:STANDARD
BEGIN:DAYLIGHT
TZOFFSETFROM:-0800
TZOFFSETTO:-0700
TZNAME:PDT
DTSTART:20240310T100000
END:DAYLIGHT
BEGIN:STANDARD
TZOFFSETFROM:-0700
TZOFFSETTO:-0800
TZNAME:PST
DTSTART:20241103T090000
END:STANDARD
END:VTIMEZONE
BEGIN:VEVENT
DTSTART;TZID=America/Los_Angeles:20230511T060000
DTEND;TZID=America/Los_Angeles:20230511T073000
DTSTAMP:20260421T204948
CREATED:20221028T212115Z
LAST-MODIFIED:20230509T180817Z
UID:13898-1683784800-1683790200@valleystreamszen.org
SUMMARY:Morning Zazen and Service (Hybrid)
DESCRIPTION:•We will reconvene on May 18•\nJoin us for two periods of zazen (seated meditation) and kinhin (walking meditation)\, or just the first or second second meditation periods\, as your schedule allows. \n6:00 am  – Zazen (sitting meditation) \n6:30 am –  Kinhin (walking meditation) \n6:40 am –  Zazen \n7:10 am –  Morning Service \nPlease arrive a few minutes before the beginning of each period to t ake your seat in the zendo or\, if arriving via zoom\, to allow the AV person time to admit you.  If you arrive on zoom after the beginning of the sit\, the AV person will not admit latecomers until the beginning of the next period.  Stay for a cup of tea after service if you join in person. \nClick here for zoom meeting link. \nTo download chants used in the morning service\, visit the San Francisco Zen Center website. \nTo offer dana to support building rental expenses\, click on our Paypal link.
URL:https://valleystreamszen.org/event/morning-zazen-and-service-hybrid-2023-05-11/
LOCATION:Sacramento Dharma Center\, Sacramento Dharma Center\, 3111 Wissemann Drive\, Sacramento\, CA\, 95826\, United States
CATEGORIES:All Events,Hybrid Event,Morning Zazen
ORGANIZER;CN="Valley Streams Zen Sangha":MAILTO:info@valleystreamszen.org
END:VEVENT
BEGIN:VEVENT
DTSTART;TZID=America/Los_Angeles:20230511T080000
DTEND;TZID=America/Los_Angeles:20230511T090000
DTSTAMP:20260421T204948
CREATED:20220218T000000Z
LAST-MODIFIED:20230509T180719Z
UID:13829-1683792000-1683795600@valleystreamszen.org
SUMMARY:Study Group (Hybrid)
DESCRIPTION:*We will reconvene on May 18*\nThe Zen Study Group meets at the Dharma Center AND on Zoom. The study group is facilitated by Rev. So’on Jim Hare\, with readings from ancient and contemporary Mahayana Buddhist & Soto Zen texts and commentaries. \nTo join the Thursday morning study group\, email the coordinator\, Rollin Ives\, twl4148@gmail.com
URL:https://valleystreamszen.org/event/study-group-in-person-online-2022-02-17-2-2023-05-11/
LOCATION:Sacramento Dharma Center\, Sacramento Dharma Center\, 3111 Wissemann Drive\, Sacramento\, CA\, 95826\, United States
CATEGORIES:All Events,CLOSED,Hybrid Event,Study Group
ORGANIZER;CN="Valley Streams Zen Sangha":MAILTO:info@valleystreamszen.org
END:VEVENT
END:VCALENDAR