BEGIN:VCALENDAR
VERSION:2.0
PRODID:-//Valley Streams Zen Sangha - ECPv6.15.18//NONSGML v1.0//EN
CALSCALE:GREGORIAN
METHOD:PUBLISH
X-ORIGINAL-URL:https://valleystreamszen.org
X-WR-CALDESC:Events for Valley Streams Zen Sangha
REFRESH-INTERVAL;VALUE=DURATION:PT1H
X-Robots-Tag:noindex
X-PUBLISHED-TTL:PT1H
BEGIN:VTIMEZONE
TZID:America/Los_Angeles
BEGIN:DAYLIGHT
TZOFFSETFROM:-0800
TZOFFSETTO:-0700
TZNAME:PDT
DTSTART:20220313T100000
END:DAYLIGHT
BEGIN:STANDARD
TZOFFSETFROM:-0700
TZOFFSETTO:-0800
TZNAME:PST
DTSTART:20221106T090000
END:STANDARD
BEGIN:DAYLIGHT
TZOFFSETFROM:-0800
TZOFFSETTO:-0700
TZNAME:PDT
DTSTART:20230312T100000
END:DAYLIGHT
BEGIN:STANDARD
TZOFFSETFROM:-0700
TZOFFSETTO:-0800
TZNAME:PST
DTSTART:20231105T090000
END:STANDARD
BEGIN:DAYLIGHT
TZOFFSETFROM:-0800
TZOFFSETTO:-0700
TZNAME:PDT
DTSTART:20240310T100000
END:DAYLIGHT
BEGIN:STANDARD
TZOFFSETFROM:-0700
TZOFFSETTO:-0800
TZNAME:PST
DTSTART:20241103T090000
END:STANDARD
END:VTIMEZONE
BEGIN:VEVENT
DTSTART;TZID=America/Los_Angeles:20230701T083000
DTEND;TZID=America/Los_Angeles:20230701T123000
DTSTAMP:20260421T152529
CREATED:20230529T153706Z
LAST-MODIFIED:20230626T161056Z
UID:16200-1688200200-1688214600@valleystreamszen.org
SUMMARY:Half-Day Sitting led by Rev. Parāvṛtti Hokyo Doralee Grindler Katonah : Cultivating Intimacy Within Open US to the World (In-person)
DESCRIPTION:A monk asked Dongshan: What is Buddha? Donshan replied\, ‘Three pounds of flax.’ \nWhether sitting\, walk\, sitting\, standing\, or lying down we open wholeheartedly to the Way and Buddha activity happens on its own. Come\, sit\, and walk together to support each other in continuous practice.  The retreat includes periods of zazen (sitting meditation)\,  kinhin (walking meditation)\, and a dharma talk with a social lunch to follow.  Bring your own bag lunch. Hot water and tea are available.  \nFor more information contact us at info@valleystreamszen.org.  If you have limited or no experience in sitting meditation\, please email the teacher at grindkaton@ icloud.com \nRev. Parāvṛtti  Hokyo Doralee Grindler Katonah serves as Ino\, or head of the meditation hall at Valley Streams Zen Sangha. She studies in the Soto Zen lineage with Sojun Diane Martin\, founder and guiding teacher of Udumbara Zen Center in Illinois and Rev. Val Szymanski\, Head Priest of Bamboo in the Wind Zen Sangha in California. She was lay ordained in 2008 and priest ordained in 2019. She served as head student for the Spring practice period at Bamboo in the Wind Zen Sangha in  May 2022. \nRegister on Eventbrite.
URL:https://valleystreamszen.org/event/half-day-sitting-2/
LOCATION:Sacramento Dharma Center\, Sacramento Dharma Center\, 3111 Wissemann Drive\, Sacramento\, CA\, 95826\, United States
CATEGORIES:All Events,Half-Day Sitting,In-Person Event
ORGANIZER;CN="Valley Streams Zen Sangha":MAILTO:info@valleystreamszen.org
END:VEVENT
END:VCALENDAR