BEGIN:VCALENDAR
VERSION:2.0
PRODID:-//Valley Streams Zen Sangha - ECPv6.15.18//NONSGML v1.0//EN
CALSCALE:GREGORIAN
METHOD:PUBLISH
X-ORIGINAL-URL:https://valleystreamszen.org
X-WR-CALDESC:Events for Valley Streams Zen Sangha
REFRESH-INTERVAL;VALUE=DURATION:PT1H
X-Robots-Tag:noindex
X-PUBLISHED-TTL:PT1H
BEGIN:VTIMEZONE
TZID:America/Los_Angeles
BEGIN:DAYLIGHT
TZOFFSETFROM:-0800
TZOFFSETTO:-0700
TZNAME:PDT
DTSTART:20220313T100000
END:DAYLIGHT
BEGIN:STANDARD
TZOFFSETFROM:-0700
TZOFFSETTO:-0800
TZNAME:PST
DTSTART:20221106T090000
END:STANDARD
BEGIN:DAYLIGHT
TZOFFSETFROM:-0800
TZOFFSETTO:-0700
TZNAME:PDT
DTSTART:20230312T100000
END:DAYLIGHT
BEGIN:STANDARD
TZOFFSETFROM:-0700
TZOFFSETTO:-0800
TZNAME:PST
DTSTART:20231105T090000
END:STANDARD
BEGIN:DAYLIGHT
TZOFFSETFROM:-0800
TZOFFSETTO:-0700
TZNAME:PDT
DTSTART:20240310T100000
END:DAYLIGHT
BEGIN:STANDARD
TZOFFSETFROM:-0700
TZOFFSETTO:-0800
TZNAME:PST
DTSTART:20241103T090000
END:STANDARD
END:VTIMEZONE
BEGIN:VEVENT
DTSTART;TZID=America/Los_Angeles:20230805T083000
DTEND;TZID=America/Los_Angeles:20230805T163000
DTSTAMP:20260421T152529
CREATED:20230719T155228Z
LAST-MODIFIED:20230719T155242Z
UID:16527-1691224200-1691253000@valleystreamszen.org
SUMMARY:Entering the Door of Liberation ~ One-day Retreat Led by Rev. So'on Jim Hare
DESCRIPTION:Sitting in stillness and silence is an excellent method for entering the door of liberation; this door is open to everyone. The first chapter of the Flower Garland Sutra recounts the myriad insights\, understandings\, realizations and visions that have allowed enlightening beings to enter the Dharma door of liberation. In this retreat we will engage sitting and walking meditation – the fundamental Dharma doors of Soto Zen. The day will include a Dharma talk and opportunities for individual practice discussion.  \nOutside the meditation hall we will maintain noble silence. Please bring a bag lunch.  \nRegister on Eventbrite.  Suggested donation $20 -$60.
URL:https://valleystreamszen.org/event/entering-the-door-of-liberation-one-day-retreat-led-by-rev-soon-jim-hare/
LOCATION:Sacramento Dharma Center\, Sacramento Dharma Center\, 3111 Wissemann Drive\, Sacramento\, CA\, 95826\, United States
CATEGORIES:All Events,In-Person Event,One-Day Sitting
ORGANIZER;CN="Valley Streams Zen Sangha":MAILTO:info@valleystreamszen.org
END:VEVENT
END:VCALENDAR