BEGIN:VCALENDAR
VERSION:2.0
PRODID:-//Valley Streams Zen Sangha - ECPv6.15.18//NONSGML v1.0//EN
CALSCALE:GREGORIAN
METHOD:PUBLISH
X-ORIGINAL-URL:https://valleystreamszen.org
X-WR-CALDESC:Events for Valley Streams Zen Sangha
REFRESH-INTERVAL;VALUE=DURATION:PT1H
X-Robots-Tag:noindex
X-PUBLISHED-TTL:PT1H
BEGIN:VTIMEZONE
TZID:America/Los_Angeles
BEGIN:DAYLIGHT
TZOFFSETFROM:-0800
TZOFFSETTO:-0700
TZNAME:PDT
DTSTART:20220313T100000
END:DAYLIGHT
BEGIN:STANDARD
TZOFFSETFROM:-0700
TZOFFSETTO:-0800
TZNAME:PST
DTSTART:20221106T090000
END:STANDARD
BEGIN:DAYLIGHT
TZOFFSETFROM:-0800
TZOFFSETTO:-0700
TZNAME:PDT
DTSTART:20230312T100000
END:DAYLIGHT
BEGIN:STANDARD
TZOFFSETFROM:-0700
TZOFFSETTO:-0800
TZNAME:PST
DTSTART:20231105T090000
END:STANDARD
BEGIN:DAYLIGHT
TZOFFSETFROM:-0800
TZOFFSETTO:-0700
TZNAME:PDT
DTSTART:20240310T100000
END:DAYLIGHT
BEGIN:STANDARD
TZOFFSETFROM:-0700
TZOFFSETTO:-0800
TZNAME:PST
DTSTART:20241103T090000
END:STANDARD
END:VTIMEZONE
BEGIN:VEVENT
DTSTART;TZID=America/Los_Angeles:20230807T190000
DTEND;TZID=America/Los_Angeles:20230807T190000
DTSTAMP:20260421T133457
CREATED:20230719T022430Z
LAST-MODIFIED:20230802T021718Z
UID:16504-1691434800-1691434800@valleystreamszen.org
SUMMARY:Dharma Talk by Rev. Mary Mocine (Speaker in-person)
DESCRIPTION:Reverend Mary Mocine is Abbess of Clear Water Zendo. She trained at San Francisco and Berkeley Zen Centers\, and at Tassajara Zen Monastery. She was priest ordained by Sojun Mel Weitsman in 1994 and received dharma transmission from him in 2005.  She also studied with Jikai Myo-ōn Yvonne Rand\,  former Abbess Zenkei Blanche Hartman and former Abbots Zoketsu Norman Fischer and Tenshin Reb Anderson of the San Francisco Zen Center. \nRev. Mocine graduated from Hastings College of the Law in 1971. In 1988 she became interested in Zen Buddhism and took three months off in 1989 to spend time in intensive residential practice at Green Gulch Farms never returning to the practice of law. \nIn 1998 Rev. Mocine formed a meditation group in Vallejo California. The group grew and Clear Water Zendo was formally opened in January of 2000. The name of the zendo\, Clear Water\, comes from a poem by Zen Master Dogen\, “The Point of Zazen.” \nRealization\, neither general nor particular\,\nis effort without desire.\nClear water all the way to the bottom;\na fish swims like a fish.\nVast sky transparent throughout;\na bird flies like a bird. \nThe Monday night programs begin with zazen (sitting meditation) followed by a devotional service and dharma talk\, group discussion\, practice circle or retreat night. There are no membership requirements to participate. Donations to support the room rental\, visits by teachers\, and other sangha activities. Valley Streams Zen Sangha is dedicated to the study of Buddha’s teaching and the practice of meditation. Newcomers and experienced Zen students alike are invited to join us. \nClick for zoom link to this program.
URL:https://valleystreamszen.org/event/one-day-sitting-6-2019-04-06-4-2/
LOCATION:Sacramento Dharma Center\, Sacramento Dharma Center\, 3111 Wissemann Drive\, Sacramento\, CA\, 95826\, United States
CATEGORIES:All Events,In-Person Event,Monday Night Meeting
END:VEVENT
END:VCALENDAR