BEGIN:VCALENDAR
VERSION:2.0
PRODID:-//Valley Streams Zen Sangha - ECPv6.15.18//NONSGML v1.0//EN
CALSCALE:GREGORIAN
METHOD:PUBLISH
X-ORIGINAL-URL:https://valleystreamszen.org
X-WR-CALDESC:Events for Valley Streams Zen Sangha
REFRESH-INTERVAL;VALUE=DURATION:PT1H
X-Robots-Tag:noindex
X-PUBLISHED-TTL:PT1H
BEGIN:VTIMEZONE
TZID:America/Los_Angeles
BEGIN:DAYLIGHT
TZOFFSETFROM:-0800
TZOFFSETTO:-0700
TZNAME:PDT
DTSTART:20220313T100000
END:DAYLIGHT
BEGIN:STANDARD
TZOFFSETFROM:-0700
TZOFFSETTO:-0800
TZNAME:PST
DTSTART:20221106T090000
END:STANDARD
BEGIN:DAYLIGHT
TZOFFSETFROM:-0800
TZOFFSETTO:-0700
TZNAME:PDT
DTSTART:20230312T100000
END:DAYLIGHT
BEGIN:STANDARD
TZOFFSETFROM:-0700
TZOFFSETTO:-0800
TZNAME:PST
DTSTART:20231105T090000
END:STANDARD
BEGIN:DAYLIGHT
TZOFFSETFROM:-0800
TZOFFSETTO:-0700
TZNAME:PDT
DTSTART:20240310T100000
END:DAYLIGHT
BEGIN:STANDARD
TZOFFSETFROM:-0700
TZOFFSETTO:-0800
TZNAME:PST
DTSTART:20241103T090000
END:STANDARD
END:VTIMEZONE
BEGIN:VEVENT
DTSTART;TZID=America/Los_Angeles:20231002T190000
DTEND;TZID=America/Los_Angeles:20231002T210000
DTSTAMP:20260421T061631
CREATED:20230828T231944Z
LAST-MODIFIED:20230930T173002Z
UID:16625-1696273200-1696280400@valleystreamszen.org
SUMMARY:Civil Rights Pilgrimage with Rev. Parāvṛtti Doralee Grindler Katonah and Malia McCarthy (Hybrid)
DESCRIPTION:      OUR CIVIL RIGHTS PILGRIMAGE TO ALABAMA\nFacing Hate with Love – Beginning a new conversation. \nGoing on Pilgrimage can mean a journey to a sacred place….a seeking of a deeper connection to the larger truth guiding our lives through a visceral encounter with the tremendum.   From Sept. 5-10 eight bodhisattvas traveled to Alabama to witness and learn from the ‘places’ in the South where the roots of the civil rights movement began; where the courage of Black people whose ancestors were enslaved changed the world\, where these denied truths can be witnessed. \n  \nParāvṛtti Doralee Grindler Katonah along with Malia McCarthy will speak of their experiences with time for tender discussion amongst all of us. \nOur Monday night programs begin with zazen (sitting meditation) followed by a devotional service and dharma talk\, group discussion\, or practice circle. There are no membership requirements to participate. We invite donations to support the room rental\, visits by teachers\, and other sangha activities. \nValley Streams Zen Sangha is dedicated to the study of Buddha’s teaching and the practice of meditation. We invite newcomers and experienced Zen students to join us. \n*Click here for Zoom link. 
URL:https://valleystreamszen.org/event/monday-night-meditation-and-program-2022-09-05-2022-11-07-2/
LOCATION:Sacramento Dharma Center\, Sacramento Dharma Center\, 3111 Wissemann Drive\, Sacramento\, CA\, 95826\, United States
CATEGORIES:All Events,Hybrid Event,Monday Night Meeting
END:VEVENT
END:VCALENDAR