BEGIN:VCALENDAR
VERSION:2.0
PRODID:-//Valley Streams Zen Sangha - ECPv6.15.18//NONSGML v1.0//EN
CALSCALE:GREGORIAN
METHOD:PUBLISH
X-ORIGINAL-URL:https://valleystreamszen.org
X-WR-CALDESC:Events for Valley Streams Zen Sangha
REFRESH-INTERVAL;VALUE=DURATION:PT1H
X-Robots-Tag:noindex
X-PUBLISHED-TTL:PT1H
BEGIN:VTIMEZONE
TZID:America/Los_Angeles
BEGIN:DAYLIGHT
TZOFFSETFROM:-0800
TZOFFSETTO:-0700
TZNAME:PDT
DTSTART:20220313T100000
END:DAYLIGHT
BEGIN:STANDARD
TZOFFSETFROM:-0700
TZOFFSETTO:-0800
TZNAME:PST
DTSTART:20221106T090000
END:STANDARD
BEGIN:DAYLIGHT
TZOFFSETFROM:-0800
TZOFFSETTO:-0700
TZNAME:PDT
DTSTART:20230312T100000
END:DAYLIGHT
BEGIN:STANDARD
TZOFFSETFROM:-0700
TZOFFSETTO:-0800
TZNAME:PST
DTSTART:20231105T090000
END:STANDARD
BEGIN:DAYLIGHT
TZOFFSETFROM:-0800
TZOFFSETTO:-0700
TZNAME:PDT
DTSTART:20240310T100000
END:DAYLIGHT
BEGIN:STANDARD
TZOFFSETFROM:-0700
TZOFFSETTO:-0800
TZNAME:PST
DTSTART:20241103T090000
END:STANDARD
END:VTIMEZONE
BEGIN:VEVENT
DTSTART;TZID=America/Los_Angeles:20231009T190000
DTEND;TZID=America/Los_Angeles:20231009T210000
DTSTAMP:20260421T080130
CREATED:20230901T020607Z
LAST-MODIFIED:20230901T020904Z
UID:16648-1696878000-1696885200@valleystreamszen.org
SUMMARY:Medicine Buddha Meditation with Susan Farrar
DESCRIPTION:Susan began practicing in the Tibetan tradition of Buddhism in 2008 and took refuge with Lama Yeshe Jinpa in 2009.  She competed the Buddhist Chaplaincy course of study through the Sati Center in 2019 and considers chaplaincy her “calling” after having spent 5 years as a hospice respite volunteer\, 4 years as a volunteer hospital chaplain\, and is now embarking on a path of hospice chaplaincy as a volunteer.  Through Lion’s Roar Dharma Center\, she has also taught beginners classes and facilitated discussion groups since 2015. \nSusan also sits with Valley Streams Zen Sangha and serves on its Board of Directors as well as on the Board of Directors of Lion’s Roar Dharma Center. \nOur Monday night programs begin with zazen (sitting meditation) followed by a devotional service and dharma talk\, group discussion\, or practice circle. There are no membership requirements to participate. We invite donations to support the room rental\, visits by teachers\, and other sangha activities. \nValley Streams Zen Sangha is dedicated to the study of Buddha’s teaching and the practice of meditation. We invite newcomers and experienced Zen students to join us. \n*Click here for Zoom link. 
URL:https://valleystreamszen.org/event/medicine-buddha-meditation-with-susan-farrar/
LOCATION:Sacramento Dharma Center\, Sacramento Dharma Center\, 3111 Wissemann Drive\, Sacramento\, CA\, 95826\, United States
CATEGORIES:All Events,In-Person Event,Monday Night Meeting
ORGANIZER;CN="Valley Streams Zen Sangha":MAILTO:info@valleystreamszen.org
END:VEVENT
END:VCALENDAR