BEGIN:VCALENDAR
VERSION:2.0
PRODID:-//Valley Streams Zen Sangha - ECPv6.15.18//NONSGML v1.0//EN
CALSCALE:GREGORIAN
METHOD:PUBLISH
X-ORIGINAL-URL:https://valleystreamszen.org
X-WR-CALDESC:Events for Valley Streams Zen Sangha
REFRESH-INTERVAL;VALUE=DURATION:PT1H
X-Robots-Tag:noindex
X-PUBLISHED-TTL:PT1H
BEGIN:VTIMEZONE
TZID:America/Los_Angeles
BEGIN:DAYLIGHT
TZOFFSETFROM:-0800
TZOFFSETTO:-0700
TZNAME:PDT
DTSTART:20220313T100000
END:DAYLIGHT
BEGIN:STANDARD
TZOFFSETFROM:-0700
TZOFFSETTO:-0800
TZNAME:PST
DTSTART:20221106T090000
END:STANDARD
BEGIN:DAYLIGHT
TZOFFSETFROM:-0800
TZOFFSETTO:-0700
TZNAME:PDT
DTSTART:20230312T100000
END:DAYLIGHT
BEGIN:STANDARD
TZOFFSETFROM:-0700
TZOFFSETTO:-0800
TZNAME:PST
DTSTART:20231105T090000
END:STANDARD
BEGIN:DAYLIGHT
TZOFFSETFROM:-0800
TZOFFSETTO:-0700
TZNAME:PDT
DTSTART:20240310T100000
END:DAYLIGHT
BEGIN:STANDARD
TZOFFSETFROM:-0700
TZOFFSETTO:-0800
TZNAME:PST
DTSTART:20241103T090000
END:STANDARD
END:VTIMEZONE
BEGIN:VEVENT
DTSTART;TZID=America/Los_Angeles:20231014T100000
DTEND;TZID=America/Los_Angeles:20231014T130000
DTSTAMP:20260421T080618
CREATED:20231011T000134Z
LAST-MODIFIED:20231011T000547Z
UID:16634-1697277600-1697288400@valleystreamszen.org
SUMMARY:Potluck Brunch and Valley Streams Zen Sangha Annual Meeting (In-person)
DESCRIPTION:Join the Valley Streams for a Sunday potluck brunch and Annual Meeting.   Spouses\, partners\, friends\, and family—all are invited.  Gather at 10 am to share a meal and each other’s company.  After a fun social mixer\, President Dave Jarrell will introduce the 2023-2024 Board and give a report on the state of the sangha.  We look forward to enjoyable conversations and thoughtful contributions to deepening our Buddhist practice in sangha life. \nRSVP via Eventbrite.   \n 
URL:https://valleystreamszen.org/event/annual-meeting-celebrating-20-years-of-valley-streams-zen-sangha-in-person-2/
LOCATION:CA
CATEGORIES:All Events,In-Person Event,Special Event
END:VEVENT
END:VCALENDAR