BEGIN:VCALENDAR
VERSION:2.0
PRODID:-//Valley Streams Zen Sangha - ECPv6.15.18//NONSGML v1.0//EN
CALSCALE:GREGORIAN
METHOD:PUBLISH
X-WR-CALNAME:Valley Streams Zen Sangha
X-ORIGINAL-URL:https://valleystreamszen.org
X-WR-CALDESC:Events for Valley Streams Zen Sangha
REFRESH-INTERVAL;VALUE=DURATION:PT1H
X-Robots-Tag:noindex
X-PUBLISHED-TTL:PT1H
BEGIN:VTIMEZONE
TZID:America/Los_Angeles
BEGIN:DAYLIGHT
TZOFFSETFROM:-0800
TZOFFSETTO:-0700
TZNAME:PDT
DTSTART:20230312T100000
END:DAYLIGHT
BEGIN:STANDARD
TZOFFSETFROM:-0700
TZOFFSETTO:-0800
TZNAME:PST
DTSTART:20231105T090000
END:STANDARD
BEGIN:DAYLIGHT
TZOFFSETFROM:-0800
TZOFFSETTO:-0700
TZNAME:PDT
DTSTART:20240310T100000
END:DAYLIGHT
BEGIN:STANDARD
TZOFFSETFROM:-0700
TZOFFSETTO:-0800
TZNAME:PST
DTSTART:20241103T090000
END:STANDARD
BEGIN:DAYLIGHT
TZOFFSETFROM:-0800
TZOFFSETTO:-0700
TZNAME:PDT
DTSTART:20250309T100000
END:DAYLIGHT
BEGIN:STANDARD
TZOFFSETFROM:-0700
TZOFFSETTO:-0800
TZNAME:PST
DTSTART:20251102T090000
END:STANDARD
END:VTIMEZONE
BEGIN:VEVENT
DTSTART;TZID=America/Los_Angeles:20240406T083000
DTEND;TZID=America/Los_Angeles:20240406T163000
DTSTAMP:20260420T124915
CREATED:20240308T215610Z
LAST-MODIFIED:20240326T161411Z
UID:17543-1712392200-1712421000@valleystreamszen.org
SUMMARY:The Mother of All Buddhas and Celebrating Buddha's Birthday: One-day Retreat led by Rev. Parāvṛtti Doralee Grindler Katonah (In Person)
DESCRIPTION:Prajna Paramita\, the mother of all Buddhas\, invites us to participate in the continual birthing of living spiritual energy in each moment. \n\nCome\, put aside all worldly affairs\, sit zazen and walk together in community. We will touch the ground of Mother Earth\, open our heart/minds to the spiritual energy ready to penetrate and awaken our love for all living beings. Our expressions will spontaneously arise in each moment. These potentials do not arise from our self-effort. The awakening of the Wisdom Body comes by itself.  We will rest\, open\, listen\, and receive. \n\n\nThere is a power which you cannot grasp with your rational mind. It operates freely\, according to the situation\, in a more natural way. At the same time\, this power functions in our lives to clarify and settle activities and is beneficial to all living beings. ~ Eihei Dogen \n\n\nIn the afternoon\, we will enter the Ceremony of Bathing the Baby Buddha – celebrating the Birth of our Buddha nature arising from the Baby Buddha.  If you can only sit half the day\, please arrive at 1:30 p.m.\, to sit the afternoon periods and participate in the ceremony at the end of the day. \n\n\nIf you are new to this practice\, please email  Ino@valleystreamszen.org\, and we will arrange an introduction to zazen at the beginning of the day. \n\n\nPlease bring a bag lunch.
URL:https://valleystreamszen.org/event/one-day-retreat-led-by-rev-parav%e1%b9%9btti-doralee-grindler-katonah-in-person/
LOCATION:Sacramento Dharma Center\, Sacramento Dharma Center\, 3111 Wissemann Drive\, Sacramento\, CA\, 95826\, United States
CATEGORIES:All Events,In-Person Event,One-Day Sitting,Retreat
ORGANIZER;CN="Valley Streams Zen Sangha":MAILTO:info@valleystreamszen.org
END:VEVENT
END:VCALENDAR