BEGIN:VCALENDAR
VERSION:2.0
PRODID:-//Valley Streams Zen Sangha - ECPv6.15.18//NONSGML v1.0//EN
CALSCALE:GREGORIAN
METHOD:PUBLISH
X-ORIGINAL-URL:https://valleystreamszen.org
X-WR-CALDESC:Events for Valley Streams Zen Sangha
REFRESH-INTERVAL;VALUE=DURATION:PT1H
X-Robots-Tag:noindex
X-PUBLISHED-TTL:PT1H
BEGIN:VTIMEZONE
TZID:America/Los_Angeles
BEGIN:DAYLIGHT
TZOFFSETFROM:-0800
TZOFFSETTO:-0700
TZNAME:PDT
DTSTART:20230312T100000
END:DAYLIGHT
BEGIN:STANDARD
TZOFFSETFROM:-0700
TZOFFSETTO:-0800
TZNAME:PST
DTSTART:20231105T090000
END:STANDARD
BEGIN:DAYLIGHT
TZOFFSETFROM:-0800
TZOFFSETTO:-0700
TZNAME:PDT
DTSTART:20240310T100000
END:DAYLIGHT
BEGIN:STANDARD
TZOFFSETFROM:-0700
TZOFFSETTO:-0800
TZNAME:PST
DTSTART:20241103T090000
END:STANDARD
BEGIN:DAYLIGHT
TZOFFSETFROM:-0800
TZOFFSETTO:-0700
TZNAME:PDT
DTSTART:20250309T100000
END:DAYLIGHT
BEGIN:STANDARD
TZOFFSETFROM:-0700
TZOFFSETTO:-0800
TZNAME:PST
DTSTART:20251102T090000
END:STANDARD
END:VTIMEZONE
BEGIN:VEVENT
DTSTART;TZID=America/Los_Angeles:20240803T090000
DTEND;TZID=America/Los_Angeles:20240803T120000
DTSTAMP:20260420T014900
CREATED:20240422T205953Z
LAST-MODIFIED:20240718T183928Z
UID:17875-1722675600-1722686400@valleystreamszen.org
SUMMARY:Half-day Sitting (In Person)
DESCRIPTION:Join the sangha for a half-day of shikantaza or just sitting with alternating periods of zazen (sitting meditation) and kinhin (walking meditation)\, In the “grass-roof hermitage we “just sit” followed by a social lunch at noon (please bring a bag lunch). \nRegistration is requested\, but not required. Dana is appreciated. Donation can be made below. No one will be excluded for lack of funds. If this will be your first retreat day with us or you have questions\, please email: info@valleystreamszen.org \n  \nSong of the Grass-Roof Hermitage\nShih-t’ou (700-790) \nI’ve built a grass hut where there’s nothing of value.\nAfter eating\, I relax and enjoy a nap.\nWhen it was completed\, fresh weeds appeared.\nNow it’s been lived in – covered by weeds… \nJust sitting with head covered\, all things are at rest.\nThus\, this mountain monk doesn’t understand at all.\nLiving here they no longer work to get free.\nWho would proudly arrange seats\, trying to entice guests? \nShitou Xiqian was an early Chinese Zen master. He was called one of Zen’s two ‘great jewels’ For some years\, he meditated continually in a hut built on a rock at Nan Monastery\, and was thus called Shitou (“Priest Rock Head”) \n  \n 
URL:https://valleystreamszen.org/event/one-day-retreat-in-person-2024-08-03/
LOCATION:Valley Streams Zen Sangha\, Sacramento Dharma Center 3111 Wisseman Dr.\, Sacramento\, CA\, 95826\, United States
CATEGORIES:All Events,Half-Day Sitting,In-Person Event,Retreat
ORGANIZER;CN="Valley Streams Zen Sangha":MAILTO:info@valleystreamszen.org
END:VEVENT
END:VCALENDAR