BEGIN:VCALENDAR
VERSION:2.0
PRODID:-//Valley Streams Zen Sangha - ECPv6.15.18//NONSGML v1.0//EN
CALSCALE:GREGORIAN
METHOD:PUBLISH
X-WR-CALNAME:Valley Streams Zen Sangha
X-ORIGINAL-URL:https://valleystreamszen.org
X-WR-CALDESC:Events for Valley Streams Zen Sangha
REFRESH-INTERVAL;VALUE=DURATION:PT1H
X-Robots-Tag:noindex
X-PUBLISHED-TTL:PT1H
BEGIN:VTIMEZONE
TZID:America/Los_Angeles
BEGIN:DAYLIGHT
TZOFFSETFROM:-0800
TZOFFSETTO:-0700
TZNAME:PDT
DTSTART:20230312T100000
END:DAYLIGHT
BEGIN:STANDARD
TZOFFSETFROM:-0700
TZOFFSETTO:-0800
TZNAME:PST
DTSTART:20231105T090000
END:STANDARD
BEGIN:DAYLIGHT
TZOFFSETFROM:-0800
TZOFFSETTO:-0700
TZNAME:PDT
DTSTART:20240310T100000
END:DAYLIGHT
BEGIN:STANDARD
TZOFFSETFROM:-0700
TZOFFSETTO:-0800
TZNAME:PST
DTSTART:20241103T090000
END:STANDARD
BEGIN:DAYLIGHT
TZOFFSETFROM:-0800
TZOFFSETTO:-0700
TZNAME:PDT
DTSTART:20250309T100000
END:DAYLIGHT
BEGIN:STANDARD
TZOFFSETFROM:-0700
TZOFFSETTO:-0800
TZNAME:PST
DTSTART:20251102T090000
END:STANDARD
END:VTIMEZONE
BEGIN:VEVENT
DTSTART;TZID=America/Los_Angeles:20241204T060000
DTEND;TZID=America/Los_Angeles:20241204T073000
DTSTAMP:20260420T014739
CREATED:20241112T213702Z
LAST-MODIFIED:20241112T215720Z
UID:18539-1733292000-1733297400@valleystreamszen.org
SUMMARY:Rohatsu Sesshin Morning Program (Online)
DESCRIPTION:Morning Rohatsu schedule for Monday\, Tuesday\, Wednesday – ONLINE\n6:00 am Zazen\n6:30 am Kinhin\n6:40 am Zazen\n7:10 am Service \nRegister for week-long program on Eventbrite\nFull 7-Day Rohatsu Schedule \nThis traditional week of intensified practice celebrates the enlightenment of our original teacher in India\, Shakyamuni Buddha. Rohatsu sesshin is a time for bringing light into the dark time of the year and for celebrating Buddha’s awakening\, which is our awakening too.
URL:https://valleystreamszen.org/event/rohatsu-sesshin-morning-program-online-2/2024-12-04/
LOCATION:Sacramento Dharma Center\, Sacramento Dharma Center\, 3111 Wissemann Drive\, Sacramento\, CA\, 95826\, United States
CATEGORIES:All Events,Online Event,Retreat,Sesshin
ORGANIZER;CN="Valley Streams Zen Sangha":MAILTO:info@valleystreamszen.org
END:VEVENT
BEGIN:VEVENT
DTSTART;TZID=America/Los_Angeles:20241204T170000
DTEND;TZID=America/Los_Angeles:20241204T210000
DTSTAMP:20260420T014739
CREATED:20241112T214851Z
LAST-MODIFIED:20241125T205803Z
UID:18549-1733331600-1733346000@valleystreamszen.org
SUMMARY:Rohatsu Sesshin Evening Program (Online)
DESCRIPTION:Evening Rohatsu schedule for Tuesday\, Wednesday\, Thursday – ONLINE\n5:00 pm Zazen\n5:30 pm Service\nBreak/Dinner\n7:30 pm Zazen\n8:00 pm Kinhin\n8:10 pm Zazen\n8:40 pm Refuges (PDF) \nRegister for week-long program on Eventbrite\nFull 7-Day Rohatsu Schedule \nThis traditional week of intensified practice celebrates the enlightenment of our original teacher in India\, Shakyamuni Buddha. Rohatsu sesshin is a time for bringing light into the dark time of the year and for celebrating Buddha’s awakening\, which is our awakening too.
URL:https://valleystreamszen.org/event/rohatsu-sesshin-evening-program-online-3/2024-12-04/
LOCATION:Sacramento Dharma Center\, Sacramento Dharma Center\, 3111 Wissemann Drive\, Sacramento\, CA\, 95826\, United States
CATEGORIES:All Events,Online Event,Retreat,Sesshin
ORGANIZER;CN="Valley Streams Zen Sangha":MAILTO:info@valleystreamszen.org
END:VEVENT
END:VCALENDAR