BEGIN:VCALENDAR
VERSION:2.0
PRODID:-//Valley Streams Zen Sangha - ECPv6.15.18//NONSGML v1.0//EN
CALSCALE:GREGORIAN
METHOD:PUBLISH
X-ORIGINAL-URL:https://valleystreamszen.org
X-WR-CALDESC:Events for Valley Streams Zen Sangha
REFRESH-INTERVAL;VALUE=DURATION:PT1H
X-Robots-Tag:noindex
X-PUBLISHED-TTL:PT1H
BEGIN:VTIMEZONE
TZID:America/Los_Angeles
BEGIN:DAYLIGHT
TZOFFSETFROM:-0800
TZOFFSETTO:-0700
TZNAME:PDT
DTSTART:20180311T100000
END:DAYLIGHT
BEGIN:STANDARD
TZOFFSETFROM:-0700
TZOFFSETTO:-0800
TZNAME:PST
DTSTART:20181104T090000
END:STANDARD
BEGIN:DAYLIGHT
TZOFFSETFROM:-0800
TZOFFSETTO:-0700
TZNAME:PDT
DTSTART:20190310T100000
END:DAYLIGHT
BEGIN:STANDARD
TZOFFSETFROM:-0700
TZOFFSETTO:-0800
TZNAME:PST
DTSTART:20191103T090000
END:STANDARD
BEGIN:DAYLIGHT
TZOFFSETFROM:-0800
TZOFFSETTO:-0700
TZNAME:PDT
DTSTART:20200308T100000
END:DAYLIGHT
BEGIN:STANDARD
TZOFFSETFROM:-0700
TZOFFSETTO:-0800
TZNAME:PST
DTSTART:20201101T090000
END:STANDARD
BEGIN:DAYLIGHT
TZOFFSETFROM:-0800
TZOFFSETTO:-0700
TZNAME:PDT
DTSTART:20210314T100000
END:DAYLIGHT
BEGIN:STANDARD
TZOFFSETFROM:-0700
TZOFFSETTO:-0800
TZNAME:PST
DTSTART:20211107T090000
END:STANDARD
BEGIN:DAYLIGHT
TZOFFSETFROM:-0800
TZOFFSETTO:-0700
TZNAME:PDT
DTSTART:20220313T100000
END:DAYLIGHT
BEGIN:STANDARD
TZOFFSETFROM:-0700
TZOFFSETTO:-0800
TZNAME:PST
DTSTART:20221106T090000
END:STANDARD
BEGIN:DAYLIGHT
TZOFFSETFROM:-0800
TZOFFSETTO:-0700
TZNAME:PDT
DTSTART:20230312T100000
END:DAYLIGHT
BEGIN:STANDARD
TZOFFSETFROM:-0700
TZOFFSETTO:-0800
TZNAME:PST
DTSTART:20231105T090000
END:STANDARD
BEGIN:DAYLIGHT
TZOFFSETFROM:-0800
TZOFFSETTO:-0700
TZNAME:PDT
DTSTART:20240310T100000
END:DAYLIGHT
BEGIN:STANDARD
TZOFFSETFROM:-0700
TZOFFSETTO:-0800
TZNAME:PST
DTSTART:20241103T090000
END:STANDARD
BEGIN:DAYLIGHT
TZOFFSETFROM:-0800
TZOFFSETTO:-0700
TZNAME:PDT
DTSTART:20250309T100000
END:DAYLIGHT
BEGIN:STANDARD
TZOFFSETFROM:-0700
TZOFFSETTO:-0800
TZNAME:PST
DTSTART:20251102T090000
END:STANDARD
END:VTIMEZONE
BEGIN:VEVENT
DTSTART;TZID=America/Los_Angeles:20241215T080000
DTEND;TZID=America/Los_Angeles:20241215T100000
DTSTAMP:20260424T193225
CREATED:20240330T210413Z
LAST-MODIFIED:20240330T210413Z
UID:17712-1734249600-1734256800@valleystreamszen.org
SUMMARY:SDC Grounds Maintenance (In Person)
DESCRIPTION:The Sacramento Dharma Center Grounds Committee meets on the third Sunday of the month from 8-10 a.m. to rake\, prune the yard and garden.  Excessive heat or rain cancels. To volunteer\, meet the crew on the third Sunday at the Dharma Center. \nFor more information\, contact Julie DeHart\,  julieedehart@gmail.com
URL:https://valleystreamszen.org/event/sdc-grounds-maintenance-in-person/2024-12-15/
LOCATION:Sacramento Dharma Center\, Sacramento Dharma Center\, 3111 Wissemann Drive\, Sacramento\, CA\, 95826\, United States
CATEGORIES:All Events,Community Service,Dharma Center Work Day
END:VEVENT
BEGIN:VEVENT
DTSTART;TZID=America/Los_Angeles:20241117T080000
DTEND;TZID=America/Los_Angeles:20241117T100000
DTSTAMP:20260424T193225
CREATED:20240330T210413Z
LAST-MODIFIED:20240330T210413Z
UID:17711-1731830400-1731837600@valleystreamszen.org
SUMMARY:SDC Grounds Maintenance (In Person)
DESCRIPTION:The Sacramento Dharma Center Grounds Committee meets on the third Sunday of the month from 8-10 a.m. to rake\, prune the yard and garden.  Excessive heat or rain cancels. To volunteer\, meet the crew on the third Sunday at the Dharma Center. \nFor more information\, contact Julie DeHart\,  julieedehart@gmail.com
URL:https://valleystreamszen.org/event/sdc-grounds-maintenance-in-person/2024-11-17/
LOCATION:Sacramento Dharma Center\, Sacramento Dharma Center\, 3111 Wissemann Drive\, Sacramento\, CA\, 95826\, United States
CATEGORIES:All Events,Community Service,Dharma Center Work Day
END:VEVENT
BEGIN:VEVENT
DTSTART;TZID=America/Los_Angeles:20241020T080000
DTEND;TZID=America/Los_Angeles:20241020T100000
DTSTAMP:20260424T193225
CREATED:20240330T210413Z
LAST-MODIFIED:20240330T210413Z
UID:17710-1729411200-1729418400@valleystreamszen.org
SUMMARY:SDC Grounds Maintenance (In Person)
DESCRIPTION:The Sacramento Dharma Center Grounds Committee meets on the third Sunday of the month from 8-10 a.m. to rake\, prune the yard and garden.  Excessive heat or rain cancels. To volunteer\, meet the crew on the third Sunday at the Dharma Center. \nFor more information\, contact Julie DeHart\,  julieedehart@gmail.com
URL:https://valleystreamszen.org/event/sdc-grounds-maintenance-in-person/2024-10-20/
LOCATION:Sacramento Dharma Center\, Sacramento Dharma Center\, 3111 Wissemann Drive\, Sacramento\, CA\, 95826\, United States
CATEGORIES:All Events,Community Service,Dharma Center Work Day
END:VEVENT
BEGIN:VEVENT
DTSTART;TZID=America/Los_Angeles:20240915T080000
DTEND;TZID=America/Los_Angeles:20240915T100000
DTSTAMP:20260424T193225
CREATED:20240330T210413Z
LAST-MODIFIED:20240330T210413Z
UID:17709-1726387200-1726394400@valleystreamszen.org
SUMMARY:SDC Grounds Maintenance (In Person)
DESCRIPTION:The Sacramento Dharma Center Grounds Committee meets on the third Sunday of the month from 8-10 a.m. to rake\, prune the yard and garden.  Excessive heat or rain cancels. To volunteer\, meet the crew on the third Sunday at the Dharma Center. \nFor more information\, contact Julie DeHart\,  julieedehart@gmail.com
URL:https://valleystreamszen.org/event/sdc-grounds-maintenance-in-person/2024-09-15/
LOCATION:Sacramento Dharma Center\, Sacramento Dharma Center\, 3111 Wissemann Drive\, Sacramento\, CA\, 95826\, United States
CATEGORIES:All Events,Community Service,Dharma Center Work Day
END:VEVENT
BEGIN:VEVENT
DTSTART;TZID=America/Los_Angeles:20240818T080000
DTEND;TZID=America/Los_Angeles:20240818T100000
DTSTAMP:20260424T193225
CREATED:20240330T210413Z
LAST-MODIFIED:20240330T210413Z
UID:17708-1723968000-1723975200@valleystreamszen.org
SUMMARY:SDC Grounds Maintenance (In Person)
DESCRIPTION:The Sacramento Dharma Center Grounds Committee meets on the third Sunday of the month from 8-10 a.m. to rake\, prune the yard and garden.  Excessive heat or rain cancels. To volunteer\, meet the crew on the third Sunday at the Dharma Center. \nFor more information\, contact Julie DeHart\,  julieedehart@gmail.com
URL:https://valleystreamszen.org/event/sdc-grounds-maintenance-in-person/2024-08-18/
LOCATION:Sacramento Dharma Center\, Sacramento Dharma Center\, 3111 Wissemann Drive\, Sacramento\, CA\, 95826\, United States
CATEGORIES:All Events,Community Service,Dharma Center Work Day
END:VEVENT
BEGIN:VEVENT
DTSTART;TZID=America/Los_Angeles:20240721T080000
DTEND;TZID=America/Los_Angeles:20240721T100000
DTSTAMP:20260424T193225
CREATED:20240330T210413Z
LAST-MODIFIED:20240330T210413Z
UID:17707-1721548800-1721556000@valleystreamszen.org
SUMMARY:SDC Grounds Maintenance (In Person)
DESCRIPTION:The Sacramento Dharma Center Grounds Committee meets on the third Sunday of the month from 8-10 a.m. to rake\, prune the yard and garden.  Excessive heat or rain cancels. To volunteer\, meet the crew on the third Sunday at the Dharma Center. \nFor more information\, contact Julie DeHart\,  julieedehart@gmail.com
URL:https://valleystreamszen.org/event/sdc-grounds-maintenance-in-person/2024-07-21/
LOCATION:Sacramento Dharma Center\, Sacramento Dharma Center\, 3111 Wissemann Drive\, Sacramento\, CA\, 95826\, United States
CATEGORIES:All Events,Community Service,Dharma Center Work Day
END:VEVENT
BEGIN:VEVENT
DTSTART;TZID=America/Los_Angeles:20240616T080000
DTEND;TZID=America/Los_Angeles:20240616T100000
DTSTAMP:20260424T193225
CREATED:20240330T210413Z
LAST-MODIFIED:20240330T210413Z
UID:17706-1718524800-1718532000@valleystreamszen.org
SUMMARY:SDC Grounds Maintenance (In Person)
DESCRIPTION:The Sacramento Dharma Center Grounds Committee meets on the third Sunday of the month from 8-10 a.m. to rake\, prune the yard and garden.  Excessive heat or rain cancels. To volunteer\, meet the crew on the third Sunday at the Dharma Center. \nFor more information\, contact Julie DeHart\,  julieedehart@gmail.com
URL:https://valleystreamszen.org/event/sdc-grounds-maintenance-in-person/2024-06-16/
LOCATION:Sacramento Dharma Center\, Sacramento Dharma Center\, 3111 Wissemann Drive\, Sacramento\, CA\, 95826\, United States
CATEGORIES:All Events,Community Service,Dharma Center Work Day
END:VEVENT
BEGIN:VEVENT
DTSTART;TZID=America/Los_Angeles:20240519T080000
DTEND;TZID=America/Los_Angeles:20240519T100000
DTSTAMP:20260424T193225
CREATED:20240330T210413Z
LAST-MODIFIED:20240330T210413Z
UID:17705-1716105600-1716112800@valleystreamszen.org
SUMMARY:SDC Grounds Maintenance (In Person)
DESCRIPTION:The Sacramento Dharma Center Grounds Committee meets on the third Sunday of the month from 8-10 a.m. to rake\, prune the yard and garden.  Excessive heat or rain cancels. To volunteer\, meet the crew on the third Sunday at the Dharma Center. \nFor more information\, contact Julie DeHart\,  julieedehart@gmail.com
URL:https://valleystreamszen.org/event/sdc-grounds-maintenance-in-person/2024-05-19/
LOCATION:Sacramento Dharma Center\, Sacramento Dharma Center\, 3111 Wissemann Drive\, Sacramento\, CA\, 95826\, United States
CATEGORIES:All Events,Community Service,Dharma Center Work Day
END:VEVENT
BEGIN:VEVENT
DTSTART;TZID=America/Los_Angeles:20240421T080000
DTEND;TZID=America/Los_Angeles:20240421T100000
DTSTAMP:20260424T193225
CREATED:20240330T210413Z
LAST-MODIFIED:20240330T210413Z
UID:17704-1713686400-1713693600@valleystreamszen.org
SUMMARY:SDC Grounds Maintenance (In Person)
DESCRIPTION:The Sacramento Dharma Center Grounds Committee meets on the third Sunday of the month from 8-10 a.m. to rake\, prune the yard and garden.  Excessive heat or rain cancels. To volunteer\, meet the crew on the third Sunday at the Dharma Center. \nFor more information\, contact Julie DeHart\,  julieedehart@gmail.com
URL:https://valleystreamszen.org/event/sdc-grounds-maintenance-in-person/2024-04-21/
LOCATION:Sacramento Dharma Center\, Sacramento Dharma Center\, 3111 Wissemann Drive\, Sacramento\, CA\, 95826\, United States
CATEGORIES:All Events,Community Service,Dharma Center Work Day
END:VEVENT
BEGIN:VEVENT
DTSTART;TZID=America/Los_Angeles:20200628T090000
DTEND;TZID=America/Los_Angeles:20200628T120000
DTSTAMP:20260424T193225
CREATED:20190628T201857Z
LAST-MODIFIED:20190628T201857Z
UID:10063-1593334800-1593345600@valleystreamszen.org
SUMMARY:SDC Volunteer Work Day
DESCRIPTION:On the last Sunday of every month volunteers are invited to help with outdoor maintenance\, and other tasks around the Sacramento Dharma Center. It is a great way to show your gratitude\, with the added benefit of making new friends – while social distancing of course since we are following local guidelines for staying safe and healthy.\n\nPlease double check the SDC calendar before attending:\nSacramento Dharma Center Work Day
URL:https://valleystreamszen.org/event/sdc-volunteer-work-day-2019-12-29-2020-06-28-4/2020-06-28/
LOCATION:3111 Wissemann Drive\, Sacramento\, CA\, 95826\, United States
CATEGORIES:All Events,Community Service,Dharma Center Work Day
END:VEVENT
BEGIN:VEVENT
DTSTART;TZID=America/Los_Angeles:20200426T090000
DTEND;TZID=America/Los_Angeles:20200426T120000
DTSTAMP:20260424T193225
CREATED:20190628T201857Z
LAST-MODIFIED:20190628T201857Z
UID:10061-1587891600-1587902400@valleystreamszen.org
SUMMARY:SDC Volunteer Work Day (CANCELED)
DESCRIPTION:The Dharma Center will resume this program as soon as it is safe for us to meet in person.  Until then\, please be safe and practice social distancing with a compassionate heart.\n\n\n\nOn the last Sunday of every month volunteers are invited to help with outdoor maintenance\, indoor cleaning\, and other tasks around the Sacramento Dharma Center. It is a great way to show your gratitude\, with the added benefit of making new friends!\n\nSacramento Dharma Center Work Day
URL:https://valleystreamszen.org/event/sdc-volunteer-work-day-2019-12-29-2020-04-26-4/
LOCATION:3111 Wissemann Drive\, Sacramento\, CA\, 95826\, United States
CATEGORIES:All Events,CLOSED,Community Service,Dharma Center Work Day
END:VEVENT
BEGIN:VEVENT
DTSTART;TZID=America/Los_Angeles:20191229T090000
DTEND;TZID=America/Los_Angeles:20191229T120000
DTSTAMP:20260424T193225
CREATED:20190628T201857Z
LAST-MODIFIED:20190628T201857Z
UID:10058-1577610000-1577620800@valleystreamszen.org
SUMMARY:SDC Volunteer Work Day (suspended)
DESCRIPTION:On the last Sunday of every month volunteers are invited to help with outdoor maintenance\, indoor cleaning\, and other tasks around the Sacramento Dharma Center. It is a great way to show your gratitude\, with the added benefit of making new friends!\n\nSacramento Dharma Center Work Day
URL:https://valleystreamszen.org/event/sdc-volunteer-work-day-2019-12-29-4/2019-12-29/
LOCATION:3111 Wissemann Drive\, Sacramento\, CA\, 95826\, United States
CATEGORIES:All Events,Community Service,Dharma Center Work Day
END:VEVENT
BEGIN:VEVENT
DTSTART;TZID=America/Los_Angeles:20190630T090000
DTEND;TZID=America/Los_Angeles:20190630T120000
DTSTAMP:20260424T193225
CREATED:20190628T201857Z
LAST-MODIFIED:20190628T201857Z
UID:10057-1561885200-1561896000@valleystreamszen.org
SUMMARY:SDC Volunteer Work Day
DESCRIPTION:On the last Sunday of every month volunteers are invited to help with outdoor maintenance\, indoor cleaning\, and other tasks around the Sacramento Dharma Center. It is a great way to show your gratitude\, with the added benefit of making new friends!\n\nSacramento Dharma Center Work Day
URL:https://valleystreamszen.org/event/sdc-volunteer-work-day-4/2019-06-30/
LOCATION:3111 Wissemann Drive\, Sacramento\, CA\, 95826\, United States
CATEGORIES:All Events,Community Service,Dharma Center Work Day
END:VEVENT
END:VCALENDAR