BEGIN:VCALENDAR
VERSION:2.0
PRODID:-//Valley Streams Zen Sangha - ECPv6.15.18//NONSGML v1.0//EN
CALSCALE:GREGORIAN
METHOD:PUBLISH
X-WR-CALNAME:Valley Streams Zen Sangha
X-ORIGINAL-URL:https://valleystreamszen.org
X-WR-CALDESC:Events for Valley Streams Zen Sangha
REFRESH-INTERVAL;VALUE=DURATION:PT1H
X-Robots-Tag:noindex
X-PUBLISHED-TTL:PT1H
BEGIN:VTIMEZONE
TZID:America/Los_Angeles
BEGIN:DAYLIGHT
TZOFFSETFROM:-0800
TZOFFSETTO:-0700
TZNAME:PDT
DTSTART:20210314T100000
END:DAYLIGHT
BEGIN:STANDARD
TZOFFSETFROM:-0700
TZOFFSETTO:-0800
TZNAME:PST
DTSTART:20211107T090000
END:STANDARD
BEGIN:DAYLIGHT
TZOFFSETFROM:-0800
TZOFFSETTO:-0700
TZNAME:PDT
DTSTART:20220313T100000
END:DAYLIGHT
BEGIN:STANDARD
TZOFFSETFROM:-0700
TZOFFSETTO:-0800
TZNAME:PST
DTSTART:20221106T090000
END:STANDARD
BEGIN:DAYLIGHT
TZOFFSETFROM:-0800
TZOFFSETTO:-0700
TZNAME:PDT
DTSTART:20230312T100000
END:DAYLIGHT
BEGIN:STANDARD
TZOFFSETFROM:-0700
TZOFFSETTO:-0800
TZNAME:PST
DTSTART:20231105T090000
END:STANDARD
BEGIN:DAYLIGHT
TZOFFSETFROM:-0800
TZOFFSETTO:-0700
TZNAME:PDT
DTSTART:20240310T100000
END:DAYLIGHT
BEGIN:STANDARD
TZOFFSETFROM:-0700
TZOFFSETTO:-0800
TZNAME:PST
DTSTART:20241103T090000
END:STANDARD
BEGIN:DAYLIGHT
TZOFFSETFROM:-0800
TZOFFSETTO:-0700
TZNAME:PDT
DTSTART:20250309T100000
END:DAYLIGHT
BEGIN:STANDARD
TZOFFSETFROM:-0700
TZOFFSETTO:-0800
TZNAME:PST
DTSTART:20251102T090000
END:STANDARD
END:VTIMEZONE
BEGIN:VEVENT
DTSTART;TZID=America/Los_Angeles:20241229T100000
DTEND;TZID=America/Los_Angeles:20241229T120000
DTSTAMP:20260423T192735
CREATED:20240331T023612Z
LAST-MODIFIED:20240331T023811Z
UID:17744-1735466400-1735473600@valleystreamszen.org
SUMMARY:Family Sangha (In Person)
DESCRIPTION:Welcome to Family Sangha\, sponsored by Sacramento Dharma Center with the support of Sacramento Buddhist Meditation Group\, Valley Streams Zen Sangha\, and Sacramento Insight Meditation. \nOn last Sundays\, parents\, uncles and aunts\, grandparents\, friends\, are invited to come to SDC and share the Buddha path of wisdom and kindness with their children.  Adults are expected to stay on site near their children. \nPlease come to Family Sangha through the West Lobby. \nParticipating family member(s) can join the sangha meditation and/or dharma talk\, while their children enjoy Family Sangha! Please check in with coordinators Ajit or Helen first. Family Sangha is family-created\, all volunteer\, so we ask that newcomers please stay with their children in the program for their first and second visits. Activities focus on fundamental teachings through conversation\, mindfulness\, song(s)\, story\, movement\, nature dharma and active play outside\, snacks\, art and even mindful clean-up.  Families are welcome to stay for refreshments at noon with SBMG. \nIf you have any questions\, or wish to help in any way\, please contact Ajit and Helen at familydharma@sbmg.org.  We are actively seeking childcare helpers and a mindfulness facilitator.  Stipends are available. Please let us know if you have recommendations.
URL:https://valleystreamszen.org/event/family-sangha-in-person-2/2024-12-29/
LOCATION:Sacramento Dharma Center\, Sacramento Dharma Center\, 3111 Wissemann Drive\, Sacramento\, CA\, 95826\, United States
CATEGORIES:All Events,Family Sangha
END:VEVENT
BEGIN:VEVENT
DTSTART;TZID=America/Los_Angeles:20241124T100000
DTEND;TZID=America/Los_Angeles:20241124T120000
DTSTAMP:20260423T192735
CREATED:20240331T023612Z
LAST-MODIFIED:20240331T023810Z
UID:17743-1732442400-1732449600@valleystreamszen.org
SUMMARY:Family Sangha (In Person)
DESCRIPTION:Welcome to Family Sangha\, sponsored by Sacramento Dharma Center with the support of Sacramento Buddhist Meditation Group\, Valley Streams Zen Sangha\, and Sacramento Insight Meditation. \nOn last Sundays\, parents\, uncles and aunts\, grandparents\, friends\, are invited to come to SDC and share the Buddha path of wisdom and kindness with their children.  Adults are expected to stay on site near their children. \nPlease come to Family Sangha through the West Lobby. \nParticipating family member(s) can join the sangha meditation and/or dharma talk\, while their children enjoy Family Sangha! Please check in with coordinators Ajit or Helen first. Family Sangha is family-created\, all volunteer\, so we ask that newcomers please stay with their children in the program for their first and second visits. Activities focus on fundamental teachings through conversation\, mindfulness\, song(s)\, story\, movement\, nature dharma and active play outside\, snacks\, art and even mindful clean-up.  Families are welcome to stay for refreshments at noon with SBMG. \nIf you have any questions\, or wish to help in any way\, please contact Ajit and Helen at familydharma@sbmg.org.  We are actively seeking childcare helpers and a mindfulness facilitator.  Stipends are available. Please let us know if you have recommendations.
URL:https://valleystreamszen.org/event/family-sangha-in-person-2/2024-11-24/
LOCATION:Sacramento Dharma Center\, Sacramento Dharma Center\, 3111 Wissemann Drive\, Sacramento\, CA\, 95826\, United States
CATEGORIES:All Events,Family Sangha
END:VEVENT
BEGIN:VEVENT
DTSTART;TZID=America/Los_Angeles:20241027T100000
DTEND;TZID=America/Los_Angeles:20241027T120000
DTSTAMP:20260423T192735
CREATED:20240331T023612Z
LAST-MODIFIED:20240331T023810Z
UID:17742-1730023200-1730030400@valleystreamszen.org
SUMMARY:Family Sangha (In Person)
DESCRIPTION:Welcome to Family Sangha\, sponsored by Sacramento Dharma Center with the support of Sacramento Buddhist Meditation Group\, Valley Streams Zen Sangha\, and Sacramento Insight Meditation. \nOn last Sundays\, parents\, uncles and aunts\, grandparents\, friends\, are invited to come to SDC and share the Buddha path of wisdom and kindness with their children.  Adults are expected to stay on site near their children. \nPlease come to Family Sangha through the West Lobby. \nParticipating family member(s) can join the sangha meditation and/or dharma talk\, while their children enjoy Family Sangha! Please check in with coordinators Ajit or Helen first. Family Sangha is family-created\, all volunteer\, so we ask that newcomers please stay with their children in the program for their first and second visits. Activities focus on fundamental teachings through conversation\, mindfulness\, song(s)\, story\, movement\, nature dharma and active play outside\, snacks\, art and even mindful clean-up.  Families are welcome to stay for refreshments at noon with SBMG. \nIf you have any questions\, or wish to help in any way\, please contact Ajit and Helen at familydharma@sbmg.org.  We are actively seeking childcare helpers and a mindfulness facilitator.  Stipends are available. Please let us know if you have recommendations.
URL:https://valleystreamszen.org/event/family-sangha-in-person-2/2024-10-27/
LOCATION:Sacramento Dharma Center\, Sacramento Dharma Center\, 3111 Wissemann Drive\, Sacramento\, CA\, 95826\, United States
CATEGORIES:All Events,Family Sangha
END:VEVENT
BEGIN:VEVENT
DTSTART;TZID=America/Los_Angeles:20240929T100000
DTEND;TZID=America/Los_Angeles:20240929T120000
DTSTAMP:20260423T192735
CREATED:20240331T023612Z
LAST-MODIFIED:20240331T023809Z
UID:17741-1727604000-1727611200@valleystreamszen.org
SUMMARY:Family Sangha (In Person)
DESCRIPTION:Welcome to Family Sangha\, sponsored by Sacramento Dharma Center with the support of Sacramento Buddhist Meditation Group\, Valley Streams Zen Sangha\, and Sacramento Insight Meditation. \nOn last Sundays\, parents\, uncles and aunts\, grandparents\, friends\, are invited to come to SDC and share the Buddha path of wisdom and kindness with their children.  Adults are expected to stay on site near their children. \nPlease come to Family Sangha through the West Lobby. \nParticipating family member(s) can join the sangha meditation and/or dharma talk\, while their children enjoy Family Sangha! Please check in with coordinators Ajit or Helen first. Family Sangha is family-created\, all volunteer\, so we ask that newcomers please stay with their children in the program for their first and second visits. Activities focus on fundamental teachings through conversation\, mindfulness\, song(s)\, story\, movement\, nature dharma and active play outside\, snacks\, art and even mindful clean-up.  Families are welcome to stay for refreshments at noon with SBMG. \nIf you have any questions\, or wish to help in any way\, please contact Ajit and Helen at familydharma@sbmg.org.  We are actively seeking childcare helpers and a mindfulness facilitator.  Stipends are available. Please let us know if you have recommendations.
URL:https://valleystreamszen.org/event/family-sangha-in-person-2/2024-09-29/
LOCATION:Sacramento Dharma Center\, Sacramento Dharma Center\, 3111 Wissemann Drive\, Sacramento\, CA\, 95826\, United States
CATEGORIES:All Events,Family Sangha
END:VEVENT
BEGIN:VEVENT
DTSTART;TZID=America/Los_Angeles:20240825T100000
DTEND;TZID=America/Los_Angeles:20240825T120000
DTSTAMP:20260423T192735
CREATED:20240331T023612Z
LAST-MODIFIED:20240331T023809Z
UID:17740-1724580000-1724587200@valleystreamszen.org
SUMMARY:Family Sangha (In Person)
DESCRIPTION:Welcome to Family Sangha\, sponsored by Sacramento Dharma Center with the support of Sacramento Buddhist Meditation Group\, Valley Streams Zen Sangha\, and Sacramento Insight Meditation. \nOn last Sundays\, parents\, uncles and aunts\, grandparents\, friends\, are invited to come to SDC and share the Buddha path of wisdom and kindness with their children.  Adults are expected to stay on site near their children. \nPlease come to Family Sangha through the West Lobby. \nParticipating family member(s) can join the sangha meditation and/or dharma talk\, while their children enjoy Family Sangha! Please check in with coordinators Ajit or Helen first. Family Sangha is family-created\, all volunteer\, so we ask that newcomers please stay with their children in the program for their first and second visits. Activities focus on fundamental teachings through conversation\, mindfulness\, song(s)\, story\, movement\, nature dharma and active play outside\, snacks\, art and even mindful clean-up.  Families are welcome to stay for refreshments at noon with SBMG. \nIf you have any questions\, or wish to help in any way\, please contact Ajit and Helen at familydharma@sbmg.org.  We are actively seeking childcare helpers and a mindfulness facilitator.  Stipends are available. Please let us know if you have recommendations.
URL:https://valleystreamszen.org/event/family-sangha-in-person-2/2024-08-25/
LOCATION:Sacramento Dharma Center\, Sacramento Dharma Center\, 3111 Wissemann Drive\, Sacramento\, CA\, 95826\, United States
CATEGORIES:All Events,Family Sangha
END:VEVENT
BEGIN:VEVENT
DTSTART;TZID=America/Los_Angeles:20240727T100000
DTEND;TZID=America/Los_Angeles:20240727T120000
DTSTAMP:20260423T192735
CREATED:20240331T023612Z
LAST-MODIFIED:20240702T000142Z
UID:17739-1722074400-1722081600@valleystreamszen.org
SUMMARY:Family Sangha Field Trip (In Person)
DESCRIPTION:Welcome to Family Sangha\, sponsored by Sacramento Dharma Center with the support of Sacramento Buddhist Meditation Group\, Valley Streams Zen Sangha\, and Sacramento Insight Meditation. \nOn SATURDAY July 27\, Family Sangha will meet at the playground of Soil Born Farms. 2140 Chase Dr\, Rancho Cordova\, CA. The playground is just past the Farm Stand and Kids’ Garden. Look for the event host\, Ian\, who will be wearing a shirt with mango prints on it for easy identification! We will explore how farm plants and animals grow\, change\, and nourish us\, and become aware\, close up\, of our interdependence with the natural world. \nTime: Saturday (not Sunday!)\, July 27. 10 AM–12 PM. Please arrive 15–20 minutes early to allow time for parking and walking to the playground. \nSoil Born Farms\, a nonprofit urban agriculture and education project\, is open to the public on Saturdays from 8am-3pm. Following the Family Sangha event\, you and your family may linger\, wander around\, buy food at the café\, and buy produce at the farm stand. Please contact Ian MacLeod at ian.r.macleod@gmail.com with questions. \nIf you have any questions\, or wish to help in any way\, please contact Ajit and Helen at familydharma@sbmg.org. We are actively seeking childcare helpers and a mindfulness facilitator. Stipends are available. Please let us know if you have recommendations.
URL:https://valleystreamszen.org/event/family-sangha-in-person-2-2024-07-28/
LOCATION:Soil Born Farms\, 2140 Chase Dr\, Rancho Cordova\, 95670\, United States
CATEGORIES:All Events,Family Sangha,In-Person Event
END:VEVENT
BEGIN:VEVENT
DTSTART;TZID=America/Los_Angeles:20240630T100000
DTEND;TZID=America/Los_Angeles:20240630T120000
DTSTAMP:20260423T192735
CREATED:20240331T023612Z
LAST-MODIFIED:20240331T023808Z
UID:17738-1719741600-1719748800@valleystreamszen.org
SUMMARY:Family Sangha (In Person)
DESCRIPTION:Welcome to Family Sangha\, sponsored by Sacramento Dharma Center with the support of Sacramento Buddhist Meditation Group\, Valley Streams Zen Sangha\, and Sacramento Insight Meditation. \nOn last Sundays\, parents\, uncles and aunts\, grandparents\, friends\, are invited to come to SDC and share the Buddha path of wisdom and kindness with their children.  Adults are expected to stay on site near their children. \nPlease come to Family Sangha through the West Lobby. \nParticipating family member(s) can join the sangha meditation and/or dharma talk\, while their children enjoy Family Sangha! Please check in with coordinators Ajit or Helen first. Family Sangha is family-created\, all volunteer\, so we ask that newcomers please stay with their children in the program for their first and second visits. Activities focus on fundamental teachings through conversation\, mindfulness\, song(s)\, story\, movement\, nature dharma and active play outside\, snacks\, art and even mindful clean-up.  Families are welcome to stay for refreshments at noon with SBMG. \nIf you have any questions\, or wish to help in any way\, please contact Ajit and Helen at familydharma@sbmg.org.  We are actively seeking childcare helpers and a mindfulness facilitator.  Stipends are available. Please let us know if you have recommendations.
URL:https://valleystreamszen.org/event/family-sangha-in-person-2/2024-06-30/
LOCATION:Sacramento Dharma Center\, Sacramento Dharma Center\, 3111 Wissemann Drive\, Sacramento\, CA\, 95826\, United States
CATEGORIES:All Events,Family Sangha
END:VEVENT
BEGIN:VEVENT
DTSTART;TZID=America/Los_Angeles:20240526T100000
DTEND;TZID=America/Los_Angeles:20240526T120000
DTSTAMP:20260423T192735
CREATED:20240331T023612Z
LAST-MODIFIED:20240331T023808Z
UID:17737-1716717600-1716724800@valleystreamszen.org
SUMMARY:Family Sangha (In Person)
DESCRIPTION:Welcome to Family Sangha\, sponsored by Sacramento Dharma Center with the support of Sacramento Buddhist Meditation Group\, Valley Streams Zen Sangha\, and Sacramento Insight Meditation. \nOn last Sundays\, parents\, uncles and aunts\, grandparents\, friends\, are invited to come to SDC and share the Buddha path of wisdom and kindness with their children.  Adults are expected to stay on site near their children. \nPlease come to Family Sangha through the West Lobby. \nParticipating family member(s) can join the sangha meditation and/or dharma talk\, while their children enjoy Family Sangha! Please check in with coordinators Ajit or Helen first. Family Sangha is family-created\, all volunteer\, so we ask that newcomers please stay with their children in the program for their first and second visits. Activities focus on fundamental teachings through conversation\, mindfulness\, song(s)\, story\, movement\, nature dharma and active play outside\, snacks\, art and even mindful clean-up.  Families are welcome to stay for refreshments at noon with SBMG. \nIf you have any questions\, or wish to help in any way\, please contact Ajit and Helen at familydharma@sbmg.org.  We are actively seeking childcare helpers and a mindfulness facilitator.  Stipends are available. Please let us know if you have recommendations.
URL:https://valleystreamszen.org/event/family-sangha-in-person-2/2024-05-26/
LOCATION:Sacramento Dharma Center\, Sacramento Dharma Center\, 3111 Wissemann Drive\, Sacramento\, CA\, 95826\, United States
CATEGORIES:All Events,Family Sangha
END:VEVENT
BEGIN:VEVENT
DTSTART;TZID=America/Los_Angeles:20240428T100000
DTEND;TZID=America/Los_Angeles:20240428T120000
DTSTAMP:20260423T192735
CREATED:20240331T023612Z
LAST-MODIFIED:20240331T023807Z
UID:17736-1714298400-1714305600@valleystreamszen.org
SUMMARY:Family Sangha (In Person)
DESCRIPTION:Welcome to Family Sangha\, sponsored by Sacramento Dharma Center with the support of Sacramento Buddhist Meditation Group\, Valley Streams Zen Sangha\, and Sacramento Insight Meditation. \nOn last Sundays\, parents\, uncles and aunts\, grandparents\, friends\, are invited to come to SDC and share the Buddha path of wisdom and kindness with their children.  Adults are expected to stay on site near their children. \nPlease come to Family Sangha through the West Lobby. \nParticipating family member(s) can join the sangha meditation and/or dharma talk\, while their children enjoy Family Sangha! Please check in with coordinators Ajit or Helen first. Family Sangha is family-created\, all volunteer\, so we ask that newcomers please stay with their children in the program for their first and second visits. Activities focus on fundamental teachings through conversation\, mindfulness\, song(s)\, story\, movement\, nature dharma and active play outside\, snacks\, art and even mindful clean-up.  Families are welcome to stay for refreshments at noon with SBMG. \nIf you have any questions\, or wish to help in any way\, please contact Ajit and Helen at familydharma@sbmg.org.  We are actively seeking childcare helpers and a mindfulness facilitator.  Stipends are available. Please let us know if you have recommendations.
URL:https://valleystreamszen.org/event/family-sangha-in-person-2/2024-04-28/
LOCATION:Sacramento Dharma Center\, Sacramento Dharma Center\, 3111 Wissemann Drive\, Sacramento\, CA\, 95826\, United States
CATEGORIES:All Events,Family Sangha
END:VEVENT
BEGIN:VEVENT
DTSTART;TZID=America/Los_Angeles:20240331T100000
DTEND;TZID=America/Los_Angeles:20240331T120000
DTSTAMP:20260423T192735
CREATED:20240331T023612Z
LAST-MODIFIED:20240331T023807Z
UID:17734-1711879200-1711886400@valleystreamszen.org
SUMMARY:Family Sangha (In Person)
DESCRIPTION:Welcome to Family Sangha\, sponsored by Sacramento Dharma Center with the support of Sacramento Buddhist Meditation Group\, Valley Streams Zen Sangha\, and Sacramento Insight Meditation. \nOn last Sundays\, parents\, uncles and aunts\, grandparents\, friends\, are invited to come to SDC and share the Buddha path of wisdom and kindness with their children.  Adults are expected to stay on site near their children. \nPlease come to Family Sangha through the West Lobby. \nParticipating family member(s) can join the sangha meditation and/or dharma talk\, while their children enjoy Family Sangha! Please check in with coordinators Ajit or Helen first. Family Sangha is family-created\, all volunteer\, so we ask that newcomers please stay with their children in the program for their first and second visits. Activities focus on fundamental teachings through conversation\, mindfulness\, song(s)\, story\, movement\, nature dharma and active play outside\, snacks\, art and even mindful clean-up.  Families are welcome to stay for refreshments at noon with SBMG. \nIf you have any questions\, or wish to help in any way\, please contact Ajit and Helen at familydharma@sbmg.org.  We are actively seeking childcare helpers and a mindfulness facilitator.  Stipends are available. Please let us know if you have recommendations.
URL:https://valleystreamszen.org/event/family-sangha-in-person-2/2024-03-31/
LOCATION:Sacramento Dharma Center\, Sacramento Dharma Center\, 3111 Wissemann Drive\, Sacramento\, CA\, 95826\, United States
CATEGORIES:All Events,Family Sangha
END:VEVENT
BEGIN:VEVENT
DTSTART;TZID=America/Los_Angeles:20220626T100000
DTEND;TZID=America/Los_Angeles:20220626T120000
DTSTAMP:20260423T192735
CREATED:20220627T000000Z
LAST-MODIFIED:20230202T011723Z
UID:11801-1656237600-1656244800@valleystreamszen.org
SUMMARY:Family Sangha (In person)
DESCRIPTION:Family Sangha – Last Sunday of the Month 10:00am – 12:00 pm\n\n\nOne of the many dilemmas that parents face is how to hand down their spiritual values and practice to their children. We are fortunate that the Sacramento Dharma Center is now hosting a Family Sangha! Meeting on the last Sunday of the month from 10:00 am – 12:00 pm\, this is a great way for children\, parents\, grandparents\, aunts and uncles – the whole family – to learn about and further their dharma practice in a kid-oriented social setting. \nLike all sanghas\, this one operates on dana. This giving can take many forms. The facilitators tell us that this can include\, “helping a bit\, some funds to launch or a monthly contribution so FS could give a stipend to a facilitator\, helping with the admin\, doing art\, yoga\, mindfulness\, stories\, gardening\, with the kids\, all kinds of possibilities.” \nPrior to the pandemic\, Sacramento Buddhist Meditation Group (SBMG)\, one of our co-tenants at SDC\, operated this very popular sangha\, and we are very happy to see that it has returned\, and is now a “mahasangha” monthly event. \nPlease check the SDC event calendar\, or contact Helen Hobart at hdhobart@gmail.com for details.
URL:https://valleystreamszen.org/event/family-sangha-in-person/2022-06-26/
LOCATION:Sacramento Dharma Center\, Sacramento Dharma Center\, 3111 Wissemann Drive\, Sacramento\, CA\, 95826\, United States
CATEGORIES:All Events,Family Sangha,In-Person Event
END:VEVENT
END:VCALENDAR