BEGIN:VCALENDAR
VERSION:2.0
PRODID:-//Valley Streams Zen Sangha - ECPv6.15.18//NONSGML v1.0//EN
CALSCALE:GREGORIAN
METHOD:PUBLISH
X-WR-CALNAME:Valley Streams Zen Sangha
X-ORIGINAL-URL:https://valleystreamszen.org
X-WR-CALDESC:Events for Valley Streams Zen Sangha
REFRESH-INTERVAL;VALUE=DURATION:PT1H
X-Robots-Tag:noindex
X-PUBLISHED-TTL:PT1H
BEGIN:VTIMEZONE
TZID:America/Los_Angeles
BEGIN:DAYLIGHT
TZOFFSETFROM:-0800
TZOFFSETTO:-0700
TZNAME:PDT
DTSTART:20210314T100000
END:DAYLIGHT
BEGIN:STANDARD
TZOFFSETFROM:-0700
TZOFFSETTO:-0800
TZNAME:PST
DTSTART:20211107T090000
END:STANDARD
BEGIN:DAYLIGHT
TZOFFSETFROM:-0800
TZOFFSETTO:-0700
TZNAME:PDT
DTSTART:20220313T100000
END:DAYLIGHT
BEGIN:STANDARD
TZOFFSETFROM:-0700
TZOFFSETTO:-0800
TZNAME:PST
DTSTART:20221106T090000
END:STANDARD
BEGIN:DAYLIGHT
TZOFFSETFROM:-0800
TZOFFSETTO:-0700
TZNAME:PDT
DTSTART:20230312T100000
END:DAYLIGHT
BEGIN:STANDARD
TZOFFSETFROM:-0700
TZOFFSETTO:-0800
TZNAME:PST
DTSTART:20231105T090000
END:STANDARD
END:VTIMEZONE
BEGIN:VEVENT
DTSTART;TZID=America/Los_Angeles:20220711T190000
DTEND;TZID=America/Los_Angeles:20220711T210000
DTSTAMP:20260422T075449
CREATED:20220712T090000Z
LAST-MODIFIED:20220623T185505Z
UID:11147-1657566000-1657573200@valleystreamszen.org
SUMMARY:Dharma Talk by Rev. Myo Lahey (Hybrid)
DESCRIPTION:Rev. Myo Lahey\, our guiding teacher\,  will join us online via Zoom from Hartford Street Zen Center in San Francisco\, where he is Abbot.  He previously served as Practice Leader at Tassajara Zen Mountain Center. He is a Dharma heir of Tenshin Reb Anderson. \n*Zoom link for this program: https://us02web.zoom.us/j/82008151977
URL:https://valleystreamszen.org/event/monday-night-meditation-and-program-2022-07-11/
LOCATION:Sacramento Dharma Center\, Sacramento Dharma Center\, 3111 Wissemann Drive\, Sacramento\, CA\, 95826\, United States
CATEGORIES:All Events,Hybrid Event,Monday Night Meeting
ORGANIZER;CN="Valley Streams Zen Sangha":MAILTO:info@valleystreamszen.org
END:VEVENT
BEGIN:VEVENT
DTSTART;TZID=America/Los_Angeles:20220718T190000
DTEND;TZID=America/Los_Angeles:20220718T210000
DTSTAMP:20260422T075449
CREATED:20220719T090000Z
LAST-MODIFIED:20220917T040447Z
UID:11148-1658170800-1658178000@valleystreamszen.org
SUMMARY:Dharma Talk by So'on Jim Hare (Hybrid)
DESCRIPTION:So-On Jim Hare\, our Tanto\, or head of practice\, will be in person at the Sacramento Dharma Center.  He lived in the San Francisco Zen Center community from 1980 to 1984\, and was lay ordained by Tenshin Reb Anderson in 1985. He served as Head Student at Green Gulch Farm during the spring 2002 practice period. He was priest ordained by Rev. Myo Lahey in 2016. \n*Zoom link for this program: https://us02web.zoom.us/j/82008151977
URL:https://valleystreamszen.org/event/monday-night-meditation-and-program-2022-07-18/
LOCATION:Sacramento Dharma Center\, Sacramento Dharma Center\, 3111 Wissemann Drive\, Sacramento\, CA\, 95826\, United States
CATEGORIES:All Events,Hybrid Event,Monday Night Meeting
ORGANIZER;CN="Valley Streams Zen Sangha":MAILTO:info@valleystreamszen.org
END:VEVENT
BEGIN:VEVENT
DTSTART;TZID=America/Los_Angeles:20220725T190000
DTEND;TZID=America/Los_Angeles:20220725T210000
DTSTAMP:20260422T075449
CREATED:20220726T090000Z
LAST-MODIFIED:20220623T192403Z
UID:11149-1658775600-1658782800@valleystreamszen.org
SUMMARY:Dharma Talk by Ryuko Laura Burges (Hybrid)
DESCRIPTION:Guest teacher Ryuko Laura Burges\, a lay-entrusted dharma teacher in the Suzuki Roshi lineage\, will join us in person or online.  She teaches classes\, lectures\, and leads retreats in Northern California. A teacher of children for 35 years\, she now mentors aspiring teachers. Laura co-founded the Sangha in Recovery Program at the San Francisco Zen Center and is the abiding teacher at Lenox House Meditation Group in Oakland. Shambhala Publishers will be offering her Buddhist children’s books\, Buddhist Stories for Kids: Jataka Tales of Kindness\, Friendship\, and Forgiveness\,  (December 2022) and Zen for Kids: 50+ Mindful Activities and Stories to Shine Loving-Kindness in the World (March 2023). Laura’s most recent book\, Finding Our Way: Zen Awakening in Recovery\, will be published by Shambhala in the Fall of 2023. \n*Zoom link for this program: https://us02web.zoom.us/j/82008151977
URL:https://valleystreamszen.org/event/monday-night-meditation-and-program-2022-07-25/
LOCATION:Sacramento Dharma Center\, Sacramento Dharma Center\, 3111 Wissemann Drive\, Sacramento\, CA\, 95826\, United States
CATEGORIES:All Events,Hybrid Event,Monday Night Meeting
ORGANIZER;CN="Valley Streams Zen Sangha":MAILTO:info@valleystreamszen.org
END:VEVENT
END:VCALENDAR