BEGIN:VCALENDAR
VERSION:2.0
PRODID:-//Valley Streams Zen Sangha - ECPv6.15.18//NONSGML v1.0//EN
CALSCALE:GREGORIAN
METHOD:PUBLISH
X-WR-CALNAME:Valley Streams Zen Sangha
X-ORIGINAL-URL:https://valleystreamszen.org
X-WR-CALDESC:Events for Valley Streams Zen Sangha
REFRESH-INTERVAL;VALUE=DURATION:PT1H
X-Robots-Tag:noindex
X-PUBLISHED-TTL:PT1H
BEGIN:VTIMEZONE
TZID:America/Los_Angeles
BEGIN:DAYLIGHT
TZOFFSETFROM:-0800
TZOFFSETTO:-0700
TZNAME:PDT
DTSTART:20210314T100000
END:DAYLIGHT
BEGIN:STANDARD
TZOFFSETFROM:-0700
TZOFFSETTO:-0800
TZNAME:PST
DTSTART:20211107T090000
END:STANDARD
BEGIN:DAYLIGHT
TZOFFSETFROM:-0800
TZOFFSETTO:-0700
TZNAME:PDT
DTSTART:20220313T100000
END:DAYLIGHT
BEGIN:STANDARD
TZOFFSETFROM:-0700
TZOFFSETTO:-0800
TZNAME:PST
DTSTART:20221106T090000
END:STANDARD
BEGIN:DAYLIGHT
TZOFFSETFROM:-0800
TZOFFSETTO:-0700
TZNAME:PDT
DTSTART:20230312T100000
END:DAYLIGHT
BEGIN:STANDARD
TZOFFSETFROM:-0700
TZOFFSETTO:-0800
TZNAME:PST
DTSTART:20231105T090000
END:STANDARD
END:VTIMEZONE
BEGIN:VEVENT
DTSTART;TZID=America/Los_Angeles:20220808T190000
DTEND;TZID=America/Los_Angeles:20220808T210000
DTSTAMP:20260422T060132
CREATED:20220809T090000Z
LAST-MODIFIED:20220805T173623Z
UID:11151-1659985200-1659992400@valleystreamszen.org
SUMMARY:Dharma Talk by Rev. Renshin Bunce (Hybrid : teacher in person)
DESCRIPTION:Rev. Renshin Bunce will offer the dharma talk in the zendo this evening. She was lay ordained by Myogen Steve Stucky in 1996\, and priest ordained by Zenkei Blanche Hartman at San Francisco Zen Center in 2003. She served as Shuso (head student) with Myogen at Tassajara in 2008 and received dharma transmission from him in April of 2013.  After completing the Sati Center’s Buddhist Chaplaincy Training and residency\, she has been employed as a hospice chaplain since 2010.\nRenshin is a photographer and author of Love and Fear: Stories from a Hospice Chaplain (2020)\, and Entering the Monastery (2014).  She offers Beginner’s Mind Zen Meditation at Transfiguration Episcopal Church in San Mateo\, and also assists Zen students in the sewing of Buddhas’s robe. \n*Zoom link for this program: https://us02web.zoom.us/j/82008151977
URL:https://valleystreamszen.org/event/monday-night-meditation-and-program-2022-08-08/
LOCATION:Sacramento Dharma Center\, Sacramento Dharma Center\, 3111 Wissemann Drive\, Sacramento\, CA\, 95826\, United States
CATEGORIES:All Events,Hybrid Event,Monday Night Meeting
ORGANIZER;CN="Valley Streams Zen Sangha":MAILTO:info@valleystreamszen.org
END:VEVENT
BEGIN:VEVENT
DTSTART;TZID=America/Los_Angeles:20220815T190000
DTEND;TZID=America/Los_Angeles:20220815T210000
DTSTAMP:20260422T060132
CREATED:20220816T090000Z
LAST-MODIFIED:20220816T203138Z
UID:11152-1660590000-1660597200@valleystreamszen.org
SUMMARY:Full Moon Ceremony (Hybrid)
DESCRIPTION:This ceremony reminds us that enlightenment is enacted with Bodhisattva precepts\, which are recited in a call and response format during the ceremony.  We enter the ceremony following two 30-minute periods of zazen interspersed with walking meditation.\nWhole-heartedly we celebrate the whole moon.  Everyone is invited to participate.\n*Full Moon Ceremony Chants\n*Zoom link for this program: https://us02web.zoom.us/j/82008151977
URL:https://valleystreamszen.org/event/monday-night-meditation-and-program-2022-08-15/
LOCATION:Sacramento Dharma Center\, Sacramento Dharma Center\, 3111 Wissemann Drive\, Sacramento\, CA\, 95826\, United States
CATEGORIES:All Events,Full Moon Ceremony,Hybrid Event,Monday Night Meeting
ORGANIZER;CN="Valley Streams Zen Sangha":MAILTO:info@valleystreamszen.org
END:VEVENT
BEGIN:VEVENT
DTSTART;TZID=America/Los_Angeles:20220822T190000
DTEND;TZID=America/Los_Angeles:20220822T210000
DTSTAMP:20260422T060132
CREATED:20220823T090000Z
LAST-MODIFIED:20220917T040343Z
UID:11153-1661194800-1661202000@valleystreamszen.org
SUMMARY:Dharma Talk by So'on Jim Hare (Hybrid)
DESCRIPTION:So’on Jim Hare  serves as Tanto\, or head of practice. He lived in the San Francisco Zen Center community from 1980 to 1984\, and was lay ordained by Tenshin Reb Anderson in 1985. He served as Head Student at Green Gulch Farm during the spring 2002 practice period\, and was priest ordained by Rev. Myo Lahey in 2016. \n*Zoom link for this program: https://us02web.zoom.us/j/82008151977
URL:https://valleystreamszen.org/event/monday-night-meditation-and-program-2022-08-22/
LOCATION:Sacramento Dharma Center\, Sacramento Dharma Center\, 3111 Wissemann Drive\, Sacramento\, CA\, 95826\, United States
CATEGORIES:All Events,Hybrid Event,Monday Night Meeting
ORGANIZER;CN="Valley Streams Zen Sangha":MAILTO:info@valleystreamszen.org
END:VEVENT
END:VCALENDAR