BEGIN:VCALENDAR
VERSION:2.0
PRODID:-//Valley Streams Zen Sangha - ECPv6.15.18//NONSGML v1.0//EN
CALSCALE:GREGORIAN
METHOD:PUBLISH
X-WR-CALNAME:Valley Streams Zen Sangha
X-ORIGINAL-URL:https://valleystreamszen.org
X-WR-CALDESC:Events for Valley Streams Zen Sangha
REFRESH-INTERVAL;VALUE=DURATION:PT1H
X-Robots-Tag:noindex
X-PUBLISHED-TTL:PT1H
BEGIN:VTIMEZONE
TZID:America/Los_Angeles
BEGIN:DAYLIGHT
TZOFFSETFROM:-0800
TZOFFSETTO:-0700
TZNAME:PDT
DTSTART:20230312T100000
END:DAYLIGHT
BEGIN:STANDARD
TZOFFSETFROM:-0700
TZOFFSETTO:-0800
TZNAME:PST
DTSTART:20231105T090000
END:STANDARD
BEGIN:DAYLIGHT
TZOFFSETFROM:-0800
TZOFFSETTO:-0700
TZNAME:PDT
DTSTART:20240310T100000
END:DAYLIGHT
BEGIN:STANDARD
TZOFFSETFROM:-0700
TZOFFSETTO:-0800
TZNAME:PST
DTSTART:20241103T090000
END:STANDARD
BEGIN:DAYLIGHT
TZOFFSETFROM:-0800
TZOFFSETTO:-0700
TZNAME:PDT
DTSTART:20250309T100000
END:DAYLIGHT
BEGIN:STANDARD
TZOFFSETFROM:-0700
TZOFFSETTO:-0800
TZNAME:PST
DTSTART:20251102T090000
END:STANDARD
END:VTIMEZONE
BEGIN:VEVENT
DTSTART;TZID=America/Los_Angeles:20240504T083000
DTEND;TZID=America/Los_Angeles:20240504T123000
DTSTAMP:20260423T224027
CREATED:20240422T204531Z
LAST-MODIFIED:20240422T220407Z
UID:17854-1714811400-1714825800@valleystreamszen.org
SUMMARY:In Praise of the Middle Way: Half-day Sitting led by So’on Jim Hare (In Person)
DESCRIPTION:“And what is the middle way realized by the Tathagata that – producing vision\, producing knowledge – leads to calm\, to direct knowledge\, to self-awakening\, to Unbinding?  Precisely this Noble Eightfold Path: right view\, right resolve\, right speech\, right action\, right livelihood\, right effort\, right mindfulness\, right concentration. This is the middle way realized by the Tathagata that – producing vision\, producing knowledge – leads to calm\, to direct knowledge\, to self-awakening\, to Unbinding.”   (from Dhammacakkappavattana Sutra: Setting in Motion the Wheel of Dharma\, Thanissaro Bhikkhu\, translator.) \nPlease bring a bag lunch if you would like to join us for a social lunch following the sitting. \nRegistration below.  If this will be your first half-day sitting\, or you have questions\, please contact us at Info@valleystreamszen.org or 916-456-7752.
URL:https://valleystreamszen.org/event/in-praise-of-the-middle-way-half-day-retreat-led-by-soon-jim-hare-in-person/
LOCATION:Sacramento Dharma Center\, Sacramento Dharma Center\, 3111 Wissemann Drive\, Sacramento\, CA\, 95826\, United States
CATEGORIES:All Events,Half-Day Sitting,In-Person Event,Retreat
ORGANIZER;CN="Valley Streams Zen Sangha":MAILTO:info@valleystreamszen.org
END:VEVENT
BEGIN:VEVENT
DTSTART;TZID=America/Los_Angeles:20240513T180000
DTEND;TZID=America/Los_Angeles:20240513T184000
DTSTAMP:20260423T224027
CREATED:20220412T080000Z
LAST-MODIFIED:20251106T200052Z
UID:16279-1715623200-1715625600@valleystreamszen.org
SUMMARY:Introduction to Zen Meditation (In Person Only)
DESCRIPTION:On the second Monday of each month\, we offer a 40-minute introduction to Zen practice.  We focus on the art of sitting meditation\, with emphasis on posture\, breath and mental focus. This is for new meditators and those wishing to refresh their practice of meditative immersion. \nFollowing the instruction the Valley Streams Zen Sangha meets for a 30-minute meditation in the Dharma Hall followed by a 10-minute service and Dharma talk. You are invited to stay for these events after the instruction.\n  * Meets in the Library at Sacramento Dharma Center.   \nSign up for Weekly Emails to receive current program information.
URL:https://valleystreamszen.org/event/introduction-to-zen-meditation-in-person-2022-03-14-2022-04-11-2022-12-12/2024-05-13/
LOCATION:Sacramento Dharma Center\, Sacramento Dharma Center\, 3111 Wissemann Drive\, Sacramento\, CA\, 95826\, United States
CATEGORIES:All Events,In-Person Event,Meditation Instruction
ORGANIZER;CN="Valley Streams Zen Sangha":MAILTO:info@valleystreamszen.org
END:VEVENT
BEGIN:VEVENT
DTSTART;VALUE=DATE:20240524
DTEND;VALUE=DATE:20240529
DTSTAMP:20260423T224027
CREATED:20240429T180553Z
LAST-MODIFIED:20240429T180553Z
UID:18003-1716508800-1716940799@valleystreamszen.org
SUMMARY:Tassajara Sangha Week (In Person)
DESCRIPTION:
URL:https://valleystreamszen.org/event/tassajara-sangha-week-in-person/
LOCATION:Sacramento Dharma Center\, Sacramento Dharma Center\, 3111 Wissemann Drive\, Sacramento\, CA\, 95826\, United States
CATEGORIES:All Events,In-Person Event,Special Event
ORGANIZER;CN="Valley Streams Zen Sangha":MAILTO:info@valleystreamszen.org
END:VEVENT
END:VCALENDAR