BEGIN:VCALENDAR
VERSION:2.0
PRODID:-//Valley Streams Zen Sangha - ECPv6.15.18//NONSGML v1.0//EN
CALSCALE:GREGORIAN
METHOD:PUBLISH
X-ORIGINAL-URL:https://valleystreamszen.org
X-WR-CALDESC:Events for Valley Streams Zen Sangha
REFRESH-INTERVAL;VALUE=DURATION:PT1H
X-Robots-Tag:noindex
X-PUBLISHED-TTL:PT1H
BEGIN:VTIMEZONE
TZID:America/Los_Angeles
BEGIN:DAYLIGHT
TZOFFSETFROM:-0800
TZOFFSETTO:-0700
TZNAME:PDT
DTSTART:20230312T100000
END:DAYLIGHT
BEGIN:STANDARD
TZOFFSETFROM:-0700
TZOFFSETTO:-0800
TZNAME:PST
DTSTART:20231105T090000
END:STANDARD
BEGIN:DAYLIGHT
TZOFFSETFROM:-0800
TZOFFSETTO:-0700
TZNAME:PDT
DTSTART:20240310T100000
END:DAYLIGHT
BEGIN:STANDARD
TZOFFSETFROM:-0700
TZOFFSETTO:-0800
TZNAME:PST
DTSTART:20241103T090000
END:STANDARD
BEGIN:DAYLIGHT
TZOFFSETFROM:-0800
TZOFFSETTO:-0700
TZNAME:PDT
DTSTART:20250309T100000
END:DAYLIGHT
BEGIN:STANDARD
TZOFFSETFROM:-0700
TZOFFSETTO:-0800
TZNAME:PST
DTSTART:20251102T090000
END:STANDARD
END:VTIMEZONE
BEGIN:VEVENT
DTSTART;TZID=America/Los_Angeles:20240601T083000
DTEND;TZID=America/Los_Angeles:20240601T163000
DTSTAMP:20260423T164642
CREATED:20240422T205953Z
LAST-MODIFIED:20240507T180247Z
UID:17866-1717230600-1717259400@valleystreamszen.org
SUMMARY:The Illusion of Separate Self - One-day Retreat led by Kokyo Henkel (In Person)
DESCRIPTION:In morning and afternoon discussions\, we will explore the Buddha’s teaching of the discontent that arises from the unconscious belief in separate self\, and the freedom that comes from not holding this belief. \nKokyo Henkel was ordained as a Zen priest in 1994 by Tenshin Reb Anderson Roshi\, receiving the Dharma name Kokyo Yakai (Luminous Owl\, Midnight Liberation 光梟夜解). He received Dharma Transmission from Tenshin Roshi in 2010\, becoming a lineage-holder authorized to guide others on the path. From 2010 – 2020 Kokyo was teacher at the Santa Cruz Zen Center. He has also been practicing with the Tibetan Dzogchen (“Great Perfection”) Teacher Tsoknyi Rinpoche since 2003\, in California\, Colorado\, and Kathmandu. \nOur retreat day will include sitting and walking meditation\, a Dharma talk and afternoon discussion period. Outside the meditation hall we will maintain noble silence. Please bring a bag lunch. \nTickets can be purchased below with suggested donation $20 -$100. No one will be excluded for lack of funds. If this will be your first retreat day with us or you have questions\, please email: info@valleystreamszen.org
URL:https://valleystreamszen.org/event/one-day-retreat-in-person/
LOCATION:Valley Streams Zen Sangha\, Sacramento Dharma Center 3111 Wisseman Dr.\, Sacramento\, CA\, 95826\, United States
CATEGORIES:All Events,In-Person Event,One-Day Sitting,Retreat
ORGANIZER;CN="Valley Streams Zen Sangha":MAILTO:info@valleystreamszen.org
END:VEVENT
BEGIN:VEVENT
DTSTART;TZID=America/Los_Angeles:20240610T180000
DTEND;TZID=America/Los_Angeles:20240610T184000
DTSTAMP:20260423T164642
CREATED:20220412T080000Z
LAST-MODIFIED:20251106T200053Z
UID:16280-1718042400-1718044800@valleystreamszen.org
SUMMARY:Introduction to Zen Meditation (In Person Only)
DESCRIPTION:On the second Monday of each month\, we offer a 40-minute introduction to Zen practice.  We focus on the art of sitting meditation\, with emphasis on posture\, breath and mental focus. This is for new meditators and those wishing to refresh their practice of meditative immersion. \nFollowing the instruction the Valley Streams Zen Sangha meets for a 30-minute meditation in the Dharma Hall followed by a 10-minute service and Dharma talk. You are invited to stay for these events after the instruction.\n  * Meets in the Library at Sacramento Dharma Center.   \nSign up for Weekly Emails to receive current program information.
URL:https://valleystreamszen.org/event/introduction-to-zen-meditation-in-person-2022-03-14-2022-04-11-2022-12-12/2024-06-10/
LOCATION:Sacramento Dharma Center\, Sacramento Dharma Center\, 3111 Wissemann Drive\, Sacramento\, CA\, 95826\, United States
CATEGORIES:All Events,In-Person Event,Meditation Instruction
ORGANIZER;CN="Valley Streams Zen Sangha":MAILTO:info@valleystreamszen.org
END:VEVENT
BEGIN:VEVENT
DTSTART;TZID=America/Los_Angeles:20240622T100000
DTEND;TZID=America/Los_Angeles:20240622T150000
DTSTAMP:20260423T164642
CREATED:20240511T012421Z
LAST-MODIFIED:20240511T012421Z
UID:18046-1719050400-1719068400@valleystreamszen.org
SUMMARY:SDC Intersangha Library Cataloguing Party (In Person)
DESCRIPTION:If you are a Dharma bibliophile (and even if you are not) join us to create an internet accessible catalogue of SDC’s Buddhist book collection. Bring your own computing device (laptop\, mobile\, pad). \nCome for the morning (10:00-Noon) or afternoon sessions (1:00 – 3:30)\, or the whole day. Meditate with fellow SBMG\, SIM and VSZS sangha members and share a potluck lunch. \nR.S.V.P. to Jody Ansell at joaansell@gmail.com
URL:https://valleystreamszen.org/event/sdc-intersangha-library-cataloguing-party-in-person/
LOCATION:Sacramento Dharma Center\, Sacramento Dharma Center\, 3111 Wissemann Drive\, Sacramento\, CA\, 95826\, United States
CATEGORIES:All Events,In-Person Event,Special Event
END:VEVENT
END:VCALENDAR