BEGIN:VCALENDAR
VERSION:2.0
PRODID:-//Valley Streams Zen Sangha - ECPv6.15.18//NONSGML v1.0//EN
CALSCALE:GREGORIAN
METHOD:PUBLISH
X-WR-CALNAME:Valley Streams Zen Sangha
X-ORIGINAL-URL:https://valleystreamszen.org
X-WR-CALDESC:Events for Valley Streams Zen Sangha
REFRESH-INTERVAL;VALUE=DURATION:PT1H
X-Robots-Tag:noindex
X-PUBLISHED-TTL:PT1H
BEGIN:VTIMEZONE
TZID:America/Los_Angeles
BEGIN:DAYLIGHT
TZOFFSETFROM:-0800
TZOFFSETTO:-0700
TZNAME:PDT
DTSTART:20230312T100000
END:DAYLIGHT
BEGIN:STANDARD
TZOFFSETFROM:-0700
TZOFFSETTO:-0800
TZNAME:PST
DTSTART:20231105T090000
END:STANDARD
BEGIN:DAYLIGHT
TZOFFSETFROM:-0800
TZOFFSETTO:-0700
TZNAME:PDT
DTSTART:20240310T100000
END:DAYLIGHT
BEGIN:STANDARD
TZOFFSETFROM:-0700
TZOFFSETTO:-0800
TZNAME:PST
DTSTART:20241103T090000
END:STANDARD
BEGIN:DAYLIGHT
TZOFFSETFROM:-0800
TZOFFSETTO:-0700
TZNAME:PDT
DTSTART:20250309T100000
END:DAYLIGHT
BEGIN:STANDARD
TZOFFSETFROM:-0700
TZOFFSETTO:-0800
TZNAME:PST
DTSTART:20251102T090000
END:STANDARD
END:VTIMEZONE
BEGIN:VEVENT
DTSTART;TZID=America/Los_Angeles:20241014T180000
DTEND;TZID=America/Los_Angeles:20241014T184000
DTSTAMP:20260423T051548
CREATED:20220412T080000Z
LAST-MODIFIED:20251106T200100Z
UID:16284-1728928800-1728931200@valleystreamszen.org
SUMMARY:Introduction to Zen Meditation (In Person Only)
DESCRIPTION:On the second Monday of each month\, we offer a 40-minute introduction to Zen practice.  We focus on the art of sitting meditation\, with emphasis on posture\, breath and mental focus. This is for new meditators and those wishing to refresh their practice of meditative immersion. \nFollowing the instruction the Valley Streams Zen Sangha meets for a 30-minute meditation in the Dharma Hall followed by a 10-minute service and Dharma talk. You are invited to stay for these events after the instruction.\n  * Meets in the Library at Sacramento Dharma Center.   \nSign up for Weekly Emails to receive current program information.
URL:https://valleystreamszen.org/event/introduction-to-zen-meditation-in-person-2022-03-14-2022-04-11-2022-12-12/2024-10-14/
LOCATION:Sacramento Dharma Center\, Sacramento Dharma Center\, 3111 Wissemann Drive\, Sacramento\, CA\, 95826\, United States
CATEGORIES:All Events,In-Person Event,Meditation Instruction
ORGANIZER;CN="Valley Streams Zen Sangha":MAILTO:info@valleystreamszen.org
END:VEVENT
BEGIN:VEVENT
DTSTART;TZID=America/Los_Angeles:20241019T100000
DTEND;TZID=America/Los_Angeles:20241019T130000
DTSTAMP:20260423T051548
CREATED:20240820T232538Z
LAST-MODIFIED:20240821T210739Z
UID:18332-1729332000-1729342800@valleystreamszen.org
SUMMARY:Valley Streams Zen Sangha Annual Meeting (In-person)
DESCRIPTION:You are invited to Valley Streams’ Annual Meeting and potluck brunch. Spouses\, partners\, friends\, and family—all are welcome. Gather at 10 a.m. to share a meal and each other’s company. After the brunch\, the 2024-2025 Board and officers will be introduced and give a report on the state of the sangha. You will get an update on the Sangha’s financial health\, including the Maitreya Fund that was established last year to provide a resource for future Sangha leadership. We look forward to enjoyable conversations and hearing your thoughts about ongoing Sangha activities.
URL:https://valleystreamszen.org/event/valley-streams-zen-sangha-annual-meeting-in-person/
LOCATION:Sacramento Dharma Center\, Sacramento Dharma Center\, 3111 Wissemann Drive\, Sacramento\, CA\, 95826\, United States
CATEGORIES:All Events,In-Person Event,Special Event
ORGANIZER;CN="Valley Streams Zen Sangha":MAILTO:info@valleystreamszen.org
END:VEVENT
END:VCALENDAR