BEGIN:VCALENDAR
VERSION:2.0
PRODID:-//Valley Streams Zen Sangha - ECPv6.15.18//NONSGML v1.0//EN
CALSCALE:GREGORIAN
METHOD:PUBLISH
X-WR-CALNAME:Valley Streams Zen Sangha
X-ORIGINAL-URL:https://valleystreamszen.org
X-WR-CALDESC:Events for Valley Streams Zen Sangha
REFRESH-INTERVAL;VALUE=DURATION:PT1H
X-Robots-Tag:noindex
X-PUBLISHED-TTL:PT1H
BEGIN:VTIMEZONE
TZID:America/Los_Angeles
BEGIN:DAYLIGHT
TZOFFSETFROM:-0800
TZOFFSETTO:-0700
TZNAME:PDT
DTSTART:20230312T100000
END:DAYLIGHT
BEGIN:STANDARD
TZOFFSETFROM:-0700
TZOFFSETTO:-0800
TZNAME:PST
DTSTART:20231105T090000
END:STANDARD
BEGIN:DAYLIGHT
TZOFFSETFROM:-0800
TZOFFSETTO:-0700
TZNAME:PDT
DTSTART:20240310T100000
END:DAYLIGHT
BEGIN:STANDARD
TZOFFSETFROM:-0700
TZOFFSETTO:-0800
TZNAME:PST
DTSTART:20241103T090000
END:STANDARD
BEGIN:DAYLIGHT
TZOFFSETFROM:-0800
TZOFFSETTO:-0700
TZNAME:PDT
DTSTART:20250309T100000
END:DAYLIGHT
BEGIN:STANDARD
TZOFFSETFROM:-0700
TZOFFSETTO:-0800
TZNAME:PST
DTSTART:20251102T090000
END:STANDARD
END:VTIMEZONE
BEGIN:VEVENT
DTSTART;TZID=America/Los_Angeles:20241206T083000
DTEND;TZID=America/Los_Angeles:20241206T204500
DTSTAMP:20260422T135046
CREATED:20241112T215209Z
LAST-MODIFIED:20241112T220141Z
UID:18551-1733473800-1733517900@valleystreamszen.org
SUMMARY:Rohatsu Sesshin Full Day Sitting (In Person)
DESCRIPTION:Full-Day Sitting – In Person – 8:30 am – 8:45 pm\nThis sitting will be in person at the Dharma Center and will not be offered on Zoom. Traditional oryoki meals will be served at noon and for the “medicine meal” in the evening. \nRegister for week-long program on Eventbrite\nFull 7-Day Rohatsu Schedule \nThis traditional week of intensified practice celebrates the enlightenment of our original teacher in India\, Shakyamuni Buddha. Rohatsu sesshin is a time for bringing light into the dark time of the year and for celebrating Buddha’s awakening\, which is our awakening too.
URL:https://valleystreamszen.org/event/rohatsu-sesshin-full-day-sitting-in-person-3/2024-12-06/
LOCATION:Sacramento Dharma Center\, Sacramento Dharma Center\, 3111 Wissemann Drive\, Sacramento\, CA\, 95826\, United States
CATEGORIES:All Events,In-Person Event,One-Day Sitting,Retreat,Sesshin
ORGANIZER;CN="Valley Streams Zen Sangha":MAILTO:info@valleystreamszen.org
END:VEVENT
BEGIN:VEVENT
DTSTART;TZID=America/Los_Angeles:20241207T083000
DTEND;TZID=America/Los_Angeles:20241207T204500
DTSTAMP:20260422T135046
CREATED:20241112T215209Z
LAST-MODIFIED:20241112T220141Z
UID:18552-1733560200-1733604300@valleystreamszen.org
SUMMARY:Rohatsu Sesshin Full Day Sitting (In Person)
DESCRIPTION:Full-Day Sitting – In Person – 8:30 am – 8:45 pm\nThis sitting will be in person at the Dharma Center and will not be offered on Zoom. Traditional oryoki meals will be served at noon and for the “medicine meal” in the evening. \nRegister for week-long program on Eventbrite\nFull 7-Day Rohatsu Schedule \nThis traditional week of intensified practice celebrates the enlightenment of our original teacher in India\, Shakyamuni Buddha. Rohatsu sesshin is a time for bringing light into the dark time of the year and for celebrating Buddha’s awakening\, which is our awakening too.
URL:https://valleystreamszen.org/event/rohatsu-sesshin-full-day-sitting-in-person-3/2024-12-07/
LOCATION:Sacramento Dharma Center\, Sacramento Dharma Center\, 3111 Wissemann Drive\, Sacramento\, CA\, 95826\, United States
CATEGORIES:All Events,In-Person Event,One-Day Sitting,Retreat,Sesshin
ORGANIZER;CN="Valley Streams Zen Sangha":MAILTO:info@valleystreamszen.org
END:VEVENT
BEGIN:VEVENT
DTSTART;TZID=America/Los_Angeles:20241208T083000
DTEND;TZID=America/Los_Angeles:20241208T120000
DTSTAMP:20260422T135046
CREATED:20241112T215436Z
LAST-MODIFIED:20241112T215436Z
UID:18554-1733646600-1733659200@valleystreamszen.org
SUMMARY:Rohatsu Sesshin Half-Day Sitting and Buddha’s Enlightenment Ceremony (In Person)
DESCRIPTION:  \nHalf-day Sitting – In Person – 8:30 am – 12 noon.\nToday concludes the seven days of intensive practice with a half-day sitting and the Buddha’s Enlightenment Ceremony.\nWe will gather after the ceremony to share a buffet lunch. \nRegister for week-long program on Eventbrite\nFull 7-Day Rohatsu Schedule \nThis traditional week of intensified practice celebrates the enlightenment of our original teacher in India\, Shakyamuni Buddha. Rohatsu sesshin is a time for bringing light into the dark time of the year and for celebrating Buddha’s awakening\, which is our awakening too.
URL:https://valleystreamszen.org/event/rohatsu-sesshin-half-day-sitting-and-buddhas-enlightenment-ceremony-in-person-2/
LOCATION:Sacramento Dharma Center\, Sacramento Dharma Center\, 3111 Wissemann Drive\, Sacramento\, CA\, 95826\, United States
CATEGORIES:All Events,Half-Day Sitting,In-Person Event,Retreat,Sesshin
ORGANIZER;CN="Valley Streams Zen Sangha":MAILTO:info@valleystreamszen.org
END:VEVENT
BEGIN:VEVENT
DTSTART;TZID=America/Los_Angeles:20241209T180000
DTEND;TZID=America/Los_Angeles:20241209T184000
DTSTAMP:20260422T135046
CREATED:20220412T080000Z
LAST-MODIFIED:20251106T200102Z
UID:16286-1733767200-1733769600@valleystreamszen.org
SUMMARY:Introduction to Zen Meditation (In Person Only)
DESCRIPTION:On the second Monday of each month\, we offer a 40-minute introduction to Zen practice.  We focus on the art of sitting meditation\, with emphasis on posture\, breath and mental focus. This is for new meditators and those wishing to refresh their practice of meditative immersion. \nFollowing the instruction the Valley Streams Zen Sangha meets for a 30-minute meditation in the Dharma Hall followed by a 10-minute service and Dharma talk. You are invited to stay for these events after the instruction.\n  * Meets in the Library at Sacramento Dharma Center.   \nSign up for Weekly Emails to receive current program information.
URL:https://valleystreamszen.org/event/introduction-to-zen-meditation-in-person-2022-03-14-2022-04-11-2022-12-12/2024-12-09/
LOCATION:Sacramento Dharma Center\, Sacramento Dharma Center\, 3111 Wissemann Drive\, Sacramento\, CA\, 95826\, United States
CATEGORIES:All Events,In-Person Event,Meditation Instruction
ORGANIZER;CN="Valley Streams Zen Sangha":MAILTO:info@valleystreamszen.org
END:VEVENT
END:VCALENDAR