BEGIN:VCALENDAR
VERSION:2.0
PRODID:-//Valley Streams Zen Sangha - ECPv6.15.18//NONSGML v1.0//EN
CALSCALE:GREGORIAN
METHOD:PUBLISH
X-WR-CALNAME:Valley Streams Zen Sangha
X-ORIGINAL-URL:https://valleystreamszen.org
X-WR-CALDESC:Events for Valley Streams Zen Sangha
REFRESH-INTERVAL;VALUE=DURATION:PT1H
X-Robots-Tag:noindex
X-PUBLISHED-TTL:PT1H
BEGIN:VTIMEZONE
TZID:America/Los_Angeles
BEGIN:DAYLIGHT
TZOFFSETFROM:-0800
TZOFFSETTO:-0700
TZNAME:PDT
DTSTART:20240310T100000
END:DAYLIGHT
BEGIN:STANDARD
TZOFFSETFROM:-0700
TZOFFSETTO:-0800
TZNAME:PST
DTSTART:20241103T090000
END:STANDARD
BEGIN:DAYLIGHT
TZOFFSETFROM:-0800
TZOFFSETTO:-0700
TZNAME:PDT
DTSTART:20250309T100000
END:DAYLIGHT
BEGIN:STANDARD
TZOFFSETFROM:-0700
TZOFFSETTO:-0800
TZNAME:PST
DTSTART:20251102T090000
END:STANDARD
BEGIN:DAYLIGHT
TZOFFSETFROM:-0800
TZOFFSETTO:-0700
TZNAME:PDT
DTSTART:20260308T100000
END:DAYLIGHT
BEGIN:STANDARD
TZOFFSETFROM:-0700
TZOFFSETTO:-0800
TZNAME:PST
DTSTART:20261101T090000
END:STANDARD
END:VTIMEZONE
BEGIN:VEVENT
DTSTART;TZID=America/Los_Angeles:20250607T083000
DTEND;TZID=America/Los_Angeles:20250607T123000
DTSTAMP:20260421T210023
CREATED:20250410T171913Z
LAST-MODIFIED:20250520T194101Z
UID:19617-1749285000-1749299400@valleystreamszen.org
SUMMARY:"Letting Go of Self-Concern" - Half-day Sitting led by Rev. So’on Jim Hare (In Person Only)
DESCRIPTION:Join us for a half-day of sitting and walking meditation with a Dharma talk focusing on the practice that releases us from self-obsession. \n\n\n\n\n\nThere is a movie playing in the untrained consciousness. This movie stars me\, is produced and directed by me. The plot of the movie features my interests\, my problems\, and my desires. Other people are the supporting cast. \nThe direction of Zen practice is toward a more inclusive\, less self-centered awareness. How do we make that movie? Arousing the spirit of awakening is to imagine and realize a more panoramic vision of the self. \nThis half-day retreat will feature periods of sitting and walking meditation and a Dharma talk by So’on Jim Hare. A social lunch will follow the retreat; please bring your own. No one will be turned away for lack of funds. For more information\, please email us at info@valleystreamszen.org. \n\n\n\n\n\nPlease register here.
URL:https://valleystreamszen.org/event/half-day-sitting-led-by-soon-jim-hare-in-person-only/
LOCATION:Sacramento Dharma Center\, Sacramento Dharma Center\, 3111 Wissemann Drive\, Sacramento\, CA\, 95826\, United States
CATEGORIES:All Events,Half-Day Sitting,In-Person Event,Retreat
ORGANIZER;CN="Valley Streams Zen Sangha":MAILTO:info@valleystreamszen.org
END:VEVENT
BEGIN:VEVENT
DTSTART;TZID=America/Los_Angeles:20250609T180000
DTEND;TZID=America/Los_Angeles:20250609T184000
DTSTAMP:20260421T210023
CREATED:20220412T080000Z
LAST-MODIFIED:20251106T200108Z
UID:19486-1749492000-1749494400@valleystreamszen.org
SUMMARY:Introduction to Zen Meditation (In Person Only)
DESCRIPTION:On the second Monday of each month\, we offer a 40-minute introduction to Zen practice.  We focus on the art of sitting meditation\, with emphasis on posture\, breath and mental focus. This is for new meditators and those wishing to refresh their practice of meditative immersion. \nFollowing the instruction the Valley Streams Zen Sangha meets for a 30-minute meditation in the Dharma Hall followed by a 10-minute service and Dharma talk. You are invited to stay for these events after the instruction.\n  * Meets in the Library at Sacramento Dharma Center.   \nSign up for Weekly Emails to receive current program information.
URL:https://valleystreamszen.org/event/introduction-to-zen-meditation-in-person-2022-03-14-2022-04-11-2022-12-12/2025-06-09/
LOCATION:Sacramento Dharma Center\, Sacramento Dharma Center\, 3111 Wissemann Drive\, Sacramento\, CA\, 95826\, United States
CATEGORIES:All Events,In-Person Event,Meditation Instruction
ORGANIZER;CN="Valley Streams Zen Sangha":MAILTO:info@valleystreamszen.org
END:VEVENT
BEGIN:VEVENT
DTSTART;VALUE=DATE:20250612
DTEND;VALUE=DATE:20250616
DTSTAMP:20260421T210023
CREATED:20250410T172146Z
LAST-MODIFIED:20250607T173950Z
UID:19621-1749686400-1750031999@valleystreamszen.org
SUMMARY:Women’s Retreat – Green Gulch Farm (In Person Only)
DESCRIPTION:For details please contact Doralee Grindler Katonah at ino@valleystreamszen.org
URL:https://valleystreamszen.org/event/womens-retreat-green-gulch-farm-in-person-only/
LOCATION:Green Gulch Farm\, 1601 Shoreline Hwy\, Muir Beach\, CA\, 94965\, United States
CATEGORIES:All Events,In-Person Event,Retreat,Special Event
ORGANIZER;CN="Valley Streams Zen Sangha":MAILTO:info@valleystreamszen.org
END:VEVENT
END:VCALENDAR