BEGIN:VCALENDAR
VERSION:2.0
PRODID:-//Valley Streams Zen Sangha - ECPv6.15.18//NONSGML v1.0//EN
CALSCALE:GREGORIAN
METHOD:PUBLISH
X-ORIGINAL-URL:https://valleystreamszen.org
X-WR-CALDESC:Events for Valley Streams Zen Sangha
REFRESH-INTERVAL;VALUE=DURATION:PT1H
X-Robots-Tag:noindex
X-PUBLISHED-TTL:PT1H
BEGIN:VTIMEZONE
TZID:America/Los_Angeles
BEGIN:DAYLIGHT
TZOFFSETFROM:-0800
TZOFFSETTO:-0700
TZNAME:PDT
DTSTART:20240310T100000
END:DAYLIGHT
BEGIN:STANDARD
TZOFFSETFROM:-0700
TZOFFSETTO:-0800
TZNAME:PST
DTSTART:20241103T090000
END:STANDARD
BEGIN:DAYLIGHT
TZOFFSETFROM:-0800
TZOFFSETTO:-0700
TZNAME:PDT
DTSTART:20250309T100000
END:DAYLIGHT
BEGIN:STANDARD
TZOFFSETFROM:-0700
TZOFFSETTO:-0800
TZNAME:PST
DTSTART:20251102T090000
END:STANDARD
BEGIN:DAYLIGHT
TZOFFSETFROM:-0800
TZOFFSETTO:-0700
TZNAME:PDT
DTSTART:20260308T100000
END:DAYLIGHT
BEGIN:STANDARD
TZOFFSETFROM:-0700
TZOFFSETTO:-0800
TZNAME:PST
DTSTART:20261101T090000
END:STANDARD
END:VTIMEZONE
BEGIN:VEVENT
DTSTART;TZID=America/Los_Angeles:20251004T083000
DTEND;TZID=America/Los_Angeles:20251004T123000
DTSTAMP:20260421T082337
CREATED:20250807T201356Z
LAST-MODIFIED:20250918T143635Z
UID:19901-1759566600-1759581000@valleystreamszen.org
SUMMARY:"Realizing Non-Duality" - Half-day Sitting led by Rev. So’on Jim Hare (In Person Only)
DESCRIPTION:“The Way is not difficult\, just avoid picking and choosing.” So said one of our ancient Chinese Zen teachers. The irony of this statement has not been lost over the centuries: as human beings we seem to be built for picking and choosing. Does that mean we will always be remote from the Buddha Way? That can’t be so! But how do we leap beyond our preferences\, the strong habit falling into one side or the other? This question will be the theme of our retreat. \nThis half-day retreat will feature periods of sitting and walking meditation and a Dharma talk by So’on Jim Hare. A social lunch will follow the retreat; please bring your own. No one will be turned away for lack of funds. If this will be your first extended sitting with us\, please send us a note at info@valleystreamszen.org to introduce yourself. \nPlease register here.
URL:https://valleystreamszen.org/event/half-day-sitting-led-by-rev-soon-jim-hare-in-person-only/
LOCATION:Sacramento Dharma Center\, Sacramento Dharma Center\, 3111 Wissemann Drive\, Sacramento\, CA\, 95826\, United States
CATEGORIES:All Events,Half-Day Sitting,In-Person Event,Retreat
ORGANIZER;CN="Valley Streams Zen Sangha":MAILTO:info@valleystreamszen.org
END:VEVENT
BEGIN:VEVENT
DTSTART;TZID=America/Los_Angeles:20251013T180000
DTEND;TZID=America/Los_Angeles:20251013T184000
DTSTAMP:20260421T082337
CREATED:20220412T080000Z
LAST-MODIFIED:20251106T200110Z
UID:19490-1760378400-1760380800@valleystreamszen.org
SUMMARY:Introduction to Zen Meditation (In Person Only)
DESCRIPTION:On the second Monday of each month\, we offer a 40-minute introduction to Zen practice.  We focus on the art of sitting meditation\, with emphasis on posture\, breath and mental focus. This is for new meditators and those wishing to refresh their practice of meditative immersion. \nFollowing the instruction the Valley Streams Zen Sangha meets for a 30-minute meditation in the Dharma Hall followed by a 10-minute service and Dharma talk. You are invited to stay for these events after the instruction.\n  * Meets in the Library at Sacramento Dharma Center.   \nSign up for Weekly Emails to receive current program information.
URL:https://valleystreamszen.org/event/introduction-to-zen-meditation-in-person-2022-03-14-2022-04-11-2022-12-12/2025-10-13/
LOCATION:Sacramento Dharma Center\, Sacramento Dharma Center\, 3111 Wissemann Drive\, Sacramento\, CA\, 95826\, United States
CATEGORIES:All Events,In-Person Event,Meditation Instruction
ORGANIZER;CN="Valley Streams Zen Sangha":MAILTO:info@valleystreamszen.org
END:VEVENT
BEGIN:VEVENT
DTSTART;TZID=America/Los_Angeles:20251018T100000
DTEND;TZID=America/Los_Angeles:20251018T130000
DTSTAMP:20260421T082337
CREATED:20250807T202850Z
LAST-MODIFIED:20251008T002742Z
UID:19910-1760781600-1760792400@valleystreamszen.org
SUMMARY:Sangha Annual Meeting & Potluck Brunch (In Person Only)
DESCRIPTION:You are invited to Valley Streams Zen Sangha’s Annual Meeting and potluck brunch. Spouses\, partners\, friends\, and family—all are welcome. Gather in the West Lobby at 10 a.m. to share a meal and each other’s company. After the brunch\, the 2025-2026 Board and officers will be introduced and give a report on the state of the sangha. You will get an update on the Sangha’s financial health\, including the Maitreya Fund that was established last year to provide a resource for future Sangha leadership. We look forward to enjoyable conversations and hearing your thoughts about ongoing Sangha activities. \nBONUS – A SILENT AUCTION of specialty items (at discount prices) will be offered in the Board Room! \nPlease RSVP here.
URL:https://valleystreamszen.org/event/valley-streams-zen-sangha-annual-meeting-in-person-only/
LOCATION:Sacramento Dharma Center\, Sacramento Dharma Center\, 3111 Wissemann Drive\, Sacramento\, CA\, 95826\, United States
CATEGORIES:All Events,In-Person Event,Special Event
ORGANIZER;CN="Valley Streams Zen Sangha":MAILTO:info@valleystreamszen.org
END:VEVENT
END:VCALENDAR