BEGIN:VCALENDAR
VERSION:2.0
PRODID:-//Valley Streams Zen Sangha - ECPv6.15.18//NONSGML v1.0//EN
CALSCALE:GREGORIAN
METHOD:PUBLISH
X-WR-CALNAME:Valley Streams Zen Sangha
X-ORIGINAL-URL:https://valleystreamszen.org
X-WR-CALDESC:Events for Valley Streams Zen Sangha
REFRESH-INTERVAL;VALUE=DURATION:PT1H
X-Robots-Tag:noindex
X-PUBLISHED-TTL:PT1H
BEGIN:VTIMEZONE
TZID:America/Los_Angeles
BEGIN:DAYLIGHT
TZOFFSETFROM:-0800
TZOFFSETTO:-0700
TZNAME:PDT
DTSTART:20250309T100000
END:DAYLIGHT
BEGIN:STANDARD
TZOFFSETFROM:-0700
TZOFFSETTO:-0800
TZNAME:PST
DTSTART:20251102T090000
END:STANDARD
BEGIN:DAYLIGHT
TZOFFSETFROM:-0800
TZOFFSETTO:-0700
TZNAME:PDT
DTSTART:20260308T100000
END:DAYLIGHT
BEGIN:STANDARD
TZOFFSETFROM:-0700
TZOFFSETTO:-0800
TZNAME:PST
DTSTART:20261101T090000
END:STANDARD
BEGIN:DAYLIGHT
TZOFFSETFROM:-0800
TZOFFSETTO:-0700
TZNAME:PDT
DTSTART:20270314T100000
END:DAYLIGHT
BEGIN:STANDARD
TZOFFSETFROM:-0700
TZOFFSETTO:-0800
TZNAME:PST
DTSTART:20271107T090000
END:STANDARD
END:VTIMEZONE
BEGIN:VEVENT
DTSTART;TZID=America/Los_Angeles:20260301T123000
DTEND;TZID=America/Los_Angeles:20260301T140000
DTSTAMP:20260420T185700
CREATED:20260216T190643Z
LAST-MODIFIED:20260216T190643Z
UID:20600-1772368200-1772373600@valleystreamszen.org
SUMMARY:Library Debut Party (In Person Only)
DESCRIPTION:The SDC Library Committee is excited to announce that we are throwing a debut party to celebrate over two years of volunteer work. Our  library of more than 1\,600 Buddhist related titles has been reorganized and catalogued online.\n**Please join us as we mark this accomplishment and share SDC’s resource!\nHighlights include: \n\nIntroduction to the new electronic catalog which allows the collection to be searched from anywhere.\nDisplay of unusual and amazing books in the inventory.\nRefreshments!\n\nSharing inspiration: We encourage participants to bring a short (no more than one small paragraph) quote\, adage or saying from a book/author that has inspired your practice to read at the gathering.\nFor more information\, please contact Jody Ansell (Joaansell@gmail.com)
URL:https://valleystreamszen.org/event/library-debut-party-in-person-only/
LOCATION:Sacramento Dharma Center\, Sacramento Dharma Center\, 3111 Wissemann Drive\, Sacramento\, CA\, 95826\, United States
CATEGORIES:All Events,In-Person Event,Special Event
END:VEVENT
BEGIN:VEVENT
DTSTART;TZID=America/Los_Angeles:20260307T083000
DTEND;TZID=America/Los_Angeles:20260307T123000
DTSTAMP:20260420T185700
CREATED:20260106T003203Z
LAST-MODIFIED:20260218T062023Z
UID:20451-1772872200-1772886600@valleystreamszen.org
SUMMARY:"Zen Freedom\, Zen Enjoyment" - Half-day Sitting led by Nyokai Kristin Diggs (In Person Only)
DESCRIPTION:This half-day retreat will include zazen\, walking meditation (kinhin)\, a Dharma talk by Nyokai Kristin Diggs\, and a social lunch to follow. \nNyokai Kristin Diggs joined our sangha as Teacher in 2026. Prior to moving to Sacramento\, she trained residentially at all three San Francisco Zen Center temples (2014-2025)\, holding a number of senior positions\, including Ino\, Tenzo\, and Work Leader. Lay ordained by Tenshin Reb Anderson and priest ordained by Eijun Linda Cutts\, she served as Shuso during the winter 2025 practice period at Tassajara Zen Mountain Center\, led by Eijun Linda Cutts. \nIn her Dharma talk\, Nyokai Kristin Diggs will discuss “Not ignoring causation and not falling under its yoke.” Suzuki Roshi said\, “Real freedom is to not feel limited when wearing this Zen robe\, this troublesome formal robe. Similarly in our busy life we should wear this civilization…without ignoring it\, without being caught by it. Without going anywhere\, without escaping it\, we can find composure in this busy life.” \nA social lunch – bring your own – will follow the sitting. \nAttendance is available on a sliding scale from $10 to $50. No one will be turned away for lack of funds. \nIf this will be your first extended sitting with us\, please send us a note at info@valleystreamszen.org to introduce yourself. \nPlease register here.
URL:https://valleystreamszen.org/event/half-day-sitting-led-by-kristin-diggs-katonah-in-person-only/
LOCATION:Sacramento Dharma Center\, Sacramento Dharma Center\, 3111 Wissemann Drive\, Sacramento\, CA\, 95826\, United States
CATEGORIES:All Events,Half-Day Sitting,In-Person Event,Retreat
ORGANIZER;CN="Valley Streams Zen Sangha":MAILTO:info@valleystreamszen.org
END:VEVENT
BEGIN:VEVENT
DTSTART;TZID=America/Los_Angeles:20260309T180000
DTEND;TZID=America/Los_Angeles:20260309T184000
DTSTAMP:20260420T185700
CREATED:20220412T080000Z
LAST-MODIFIED:20220412T080000Z
UID:20266-1773079200-1773081600@valleystreamszen.org
SUMMARY:Introduction to Zen Meditation (In Person Only)
DESCRIPTION:On the second Monday of each month\, we offer a 40-minute introduction to Zen practice.  We focus on the art of sitting meditation\, with emphasis on posture\, breath and mental focus. This is for new meditators and those wishing to refresh their practice of meditative immersion. \nFollowing the instruction the Valley Streams Zen Sangha meets for a 30-minute meditation in the Dharma Hall followed by a 10-minute service and Dharma talk. You are invited to stay for these events after the instruction.\n  * Meets in the Library at Sacramento Dharma Center.   \nSign up for Weekly Emails to receive current program information.
URL:https://valleystreamszen.org/event/introduction-to-zen-meditation-in-person-2022-03-14-2022-04-11-2022-12-12/2026-03-09/
LOCATION:Sacramento Dharma Center\, Sacramento Dharma Center\, 3111 Wissemann Drive\, Sacramento\, CA\, 95826\, United States
CATEGORIES:All Events,In-Person Event,Meditation Instruction
ORGANIZER;CN="Valley Streams Zen Sangha":MAILTO:info@valleystreamszen.org
END:VEVENT
END:VCALENDAR