BEGIN:VCALENDAR
VERSION:2.0
PRODID:-//Valley Streams Zen Sangha - ECPv6.15.18//NONSGML v1.0//EN
CALSCALE:GREGORIAN
METHOD:PUBLISH
X-WR-CALNAME:Valley Streams Zen Sangha
X-ORIGINAL-URL:https://valleystreamszen.org
X-WR-CALDESC:Events for Valley Streams Zen Sangha
REFRESH-INTERVAL;VALUE=DURATION:PT1H
X-Robots-Tag:noindex
X-PUBLISHED-TTL:PT1H
BEGIN:VTIMEZONE
TZID:America/Los_Angeles
BEGIN:DAYLIGHT
TZOFFSETFROM:-0800
TZOFFSETTO:-0700
TZNAME:PDT
DTSTART:20250309T100000
END:DAYLIGHT
BEGIN:STANDARD
TZOFFSETFROM:-0700
TZOFFSETTO:-0800
TZNAME:PST
DTSTART:20251102T090000
END:STANDARD
BEGIN:DAYLIGHT
TZOFFSETFROM:-0800
TZOFFSETTO:-0700
TZNAME:PDT
DTSTART:20260308T100000
END:DAYLIGHT
BEGIN:STANDARD
TZOFFSETFROM:-0700
TZOFFSETTO:-0800
TZNAME:PST
DTSTART:20261101T090000
END:STANDARD
BEGIN:DAYLIGHT
TZOFFSETFROM:-0800
TZOFFSETTO:-0700
TZNAME:PDT
DTSTART:20270314T100000
END:DAYLIGHT
BEGIN:STANDARD
TZOFFSETFROM:-0700
TZOFFSETTO:-0800
TZNAME:PST
DTSTART:20271107T090000
END:STANDARD
END:VTIMEZONE
BEGIN:VEVENT
DTSTART;TZID=America/Los_Angeles:20260309T180000
DTEND;TZID=America/Los_Angeles:20260309T184000
DTSTAMP:20260421T180011
CREATED:20220412T080000Z
LAST-MODIFIED:20220412T080000Z
UID:20266-1773079200-1773081600@valleystreamszen.org
SUMMARY:Introduction to Zen Meditation (In Person Only)
DESCRIPTION:On the second Monday of each month\, we offer a 40-minute introduction to Zen practice.  We focus on the art of sitting meditation\, with emphasis on posture\, breath and mental focus. This is for new meditators and those wishing to refresh their practice of meditative immersion. \nFollowing the instruction the Valley Streams Zen Sangha meets for a 30-minute meditation in the Dharma Hall followed by a 10-minute service and Dharma talk. You are invited to stay for these events after the instruction.\n  * Meets in the Library at Sacramento Dharma Center.   \nSign up for Weekly Emails to receive current program information.
URL:https://valleystreamszen.org/event/introduction-to-zen-meditation-in-person-2022-03-14-2022-04-11-2022-12-12/2026-03-09/
LOCATION:Sacramento Dharma Center\, Sacramento Dharma Center\, 3111 Wissemann Drive\, Sacramento\, CA\, 95826\, United States
CATEGORIES:All Events,In-Person Event,Meditation Instruction
ORGANIZER;CN="Valley Streams Zen Sangha":MAILTO:info@valleystreamszen.org
END:VEVENT
BEGIN:VEVENT
DTSTART;TZID=America/Los_Angeles:20260404T083000
DTEND;TZID=America/Los_Angeles:20260404T163000
DTSTAMP:20260421T180011
CREATED:20260108T235108Z
LAST-MODIFIED:20260324T193454Z
UID:20467-1775291400-1775320200@valleystreamszen.org
SUMMARY:"Shitou's Thatched Hermitage" - One-day Retreat led by Kokyo Henkel (In Person Only)
DESCRIPTION:In this Dharma poem we hear how to build a thatched hut and to practice zazen by turning the light around. \nOur daylong retreat will focus on the classic Zen poem\, Song Of The Thatched Hermitage by our lineage ancestor Shitou\, who also wrote the Sandokai or the Harmony of Difference and Equality. There will be morning and afternoon talks\, zazen\, and optional dokusan (private interviews). The retreat will end with a celebration of Buddha’s Birthday. \nYour registration offering supports our guest teacher and the ongoing activities of Valley Streams Zen Sangha. No one will be turned away for lack of funds. Contact info@valleystreamszen.org to request a scholarship\, or if this will be your first retreat with us. \nKokyo Henkel has been practicing Zen since 1990\, in residence at Tassajara Zen Mountain Center\, Green Gulch Farm Zen Center\, No Abode Hermitage in Mill Valley\, Bukkokuji Monastery in Japan\, and Santa Cruz Zen Center. He was ordained as a Zen priest in 1994 by Tenshin Anderson Roshi and received Dharma Transmission from him in 2010. Kokyo has also been practicing with the Tibetan Dzogchen (“Great Completeness”) teacher Tsoknyi Rinpoche since 2003\, in California\, Colorado\, and Kathmandu\, as well as other Tibetan teachers in the Nyingma and Kagyu traditions\, completing Vajrayana ngondro (foundational practices) in 2020. Kokyo’s retreat near Tassajara\, called Bright Window Hermitage\, welcomes Buddhist practitioners of all traditions. \nPlease register here.
URL:https://valleystreamszen.org/event/one-day-retreat-buddhas-birthday-celebration-in-person-only-2/
LOCATION:Sacramento Dharma Center\, Sacramento Dharma Center\, 3111 Wissemann Drive\, Sacramento\, CA\, 95826\, United States
CATEGORIES:All Events,In-Person Event,One-Day Sitting,Retreat
ORGANIZER;CN="Valley Streams Zen Sangha":MAILTO:info@valleystreamszen.org
END:VEVENT
BEGIN:VEVENT
DTSTART;TZID=America/Los_Angeles:20260413T180000
DTEND;TZID=America/Los_Angeles:20260413T184000
DTSTAMP:20260421T180011
CREATED:20220412T080000Z
LAST-MODIFIED:20220412T080000Z
UID:20267-1776103200-1776105600@valleystreamszen.org
SUMMARY:Introduction to Zen Meditation (In Person Only)
DESCRIPTION:On the second Monday of each month\, we offer a 40-minute introduction to Zen practice.  We focus on the art of sitting meditation\, with emphasis on posture\, breath and mental focus. This is for new meditators and those wishing to refresh their practice of meditative immersion. \nFollowing the instruction the Valley Streams Zen Sangha meets for a 30-minute meditation in the Dharma Hall followed by a 10-minute service and Dharma talk. You are invited to stay for these events after the instruction.\n  * Meets in the Library at Sacramento Dharma Center.   \nSign up for Weekly Emails to receive current program information.
URL:https://valleystreamszen.org/event/introduction-to-zen-meditation-in-person-2022-03-14-2022-04-11-2022-12-12/2026-04-13/
LOCATION:Sacramento Dharma Center\, Sacramento Dharma Center\, 3111 Wissemann Drive\, Sacramento\, CA\, 95826\, United States
CATEGORIES:All Events,In-Person Event,Meditation Instruction
ORGANIZER;CN="Valley Streams Zen Sangha":MAILTO:info@valleystreamszen.org
END:VEVENT
BEGIN:VEVENT
DTSTART;VALUE=DATE:20260430
DTEND;VALUE=DATE:20260504
DTSTAMP:20260421T180011
CREATED:20260108T234625Z
LAST-MODIFIED:20260320T202440Z
UID:20465-1777507200-1777852799@valleystreamszen.org
SUMMARY:Women’s Retreat at Green Gulch Farm (In Person Only)
DESCRIPTION:Be part of our Sangha of Embodied Women Co-creating Our Future. Our weekend together at Green Gulch Farm will include dharma teachings\, meditation\, mindfulness practice\, yoga\, conversation and sharing\, communal living and eating. There will be generous free time for walking in nature or whatever your heart desires. Plus\, the merriment of art making and koan theater. This is the place from which trust\, faith\, creativity and friendship grow. \nRegistration is limited\, so please apply today. For registration details and application\, contact Doralee Grindler Katonah\, grindkaton@icloud.com\, 916.284.4783 or Katrena Paine\, katrenapaine@gmail.com\, 916-261-9902.
URL:https://valleystreamszen.org/event/womens-retreat-at-green-gulch-farm-in-person-only/
LOCATION:Green Gulch Farm\, 1601 Shoreline Hwy\, Muir Beach\, CA\, 94965\, United States
CATEGORIES:All Events,In-Person Event,Retreat
ORGANIZER;CN="Valley Streams Zen Sangha":MAILTO:info@valleystreamszen.org
END:VEVENT
BEGIN:VEVENT
DTSTART;TZID=America/Los_Angeles:20260502T083000
DTEND;TZID=America/Los_Angeles:20260502T123000
DTSTAMP:20260421T180011
CREATED:20260330T215856Z
LAST-MODIFIED:20260421T203649Z
UID:20716-1777710600-1777725000@valleystreamszen.org
SUMMARY:"Cultivating the Mind of Equality" - Half-day Sitting led by So’on Jim Hare (In Person Only)
DESCRIPTION:Our practice of observing thoughts and feelings without getting involved in them cultivates the mind of equality. \nAs we go through life\, we learn that it is not possible to control circumstances so that everything always goes smoothly; not possible to make it so that there are never any deviations from our plans\, our hopes\, and our desires. Zen practice is teaches us how to meet pleasant and unpleasant circumstances with the mind of equaity. \n“There is a power which you cannot grasp with your rational mind. It operates freely\, according to the situation\, in a more natural way. At the same time\, this power functions in our lives to clarify and settle activities and is beneficial to all living beings.” Dogen \nIf this will be your first extended sitting with us\, please send us a note at info@valleystreamszen.org to introduce yourself. \nA social lunch – bring your own – will follow the sitting. \nAttendance is available on a sliding scale from $10 to $50. No one will be turned away for lack of funds. \nPlease register here.
URL:https://valleystreamszen.org/event/half-day-sitting-led-by-rev-soon-jim-hare-in-person-only-2-2/
LOCATION:Sacramento Dharma Center\, Sacramento Dharma Center\, 3111 Wissemann Drive\, Sacramento\, CA\, 95826\, United States
CATEGORIES:All Events,Half-Day Sitting,In-Person Event,Retreat
ORGANIZER;CN="Valley Streams Zen Sangha":MAILTO:info@valleystreamszen.org
END:VEVENT
BEGIN:VEVENT
DTSTART;TZID=America/Los_Angeles:20260511T180000
DTEND;TZID=America/Los_Angeles:20260511T184000
DTSTAMP:20260421T180011
CREATED:20220412T080000Z
LAST-MODIFIED:20220412T080000Z
UID:20268-1778522400-1778524800@valleystreamszen.org
SUMMARY:Introduction to Zen Meditation (In Person Only)
DESCRIPTION:On the second Monday of each month\, we offer a 40-minute introduction to Zen practice.  We focus on the art of sitting meditation\, with emphasis on posture\, breath and mental focus. This is for new meditators and those wishing to refresh their practice of meditative immersion. \nFollowing the instruction the Valley Streams Zen Sangha meets for a 30-minute meditation in the Dharma Hall followed by a 10-minute service and Dharma talk. You are invited to stay for these events after the instruction.\n  * Meets in the Library at Sacramento Dharma Center.   \nSign up for Weekly Emails to receive current program information.
URL:https://valleystreamszen.org/event/introduction-to-zen-meditation-in-person-2022-03-14-2022-04-11-2022-12-12/2026-05-11/
LOCATION:Sacramento Dharma Center\, Sacramento Dharma Center\, 3111 Wissemann Drive\, Sacramento\, CA\, 95826\, United States
CATEGORIES:All Events,In-Person Event,Meditation Instruction
ORGANIZER;CN="Valley Streams Zen Sangha":MAILTO:info@valleystreamszen.org
END:VEVENT
BEGIN:VEVENT
DTSTART;TZID=America/Los_Angeles:20260608T180000
DTEND;TZID=America/Los_Angeles:20260608T184000
DTSTAMP:20260421T180011
CREATED:20220412T080000Z
LAST-MODIFIED:20220412T080000Z
UID:20269-1780941600-1780944000@valleystreamszen.org
SUMMARY:Introduction to Zen Meditation (In Person Only)
DESCRIPTION:On the second Monday of each month\, we offer a 40-minute introduction to Zen practice.  We focus on the art of sitting meditation\, with emphasis on posture\, breath and mental focus. This is for new meditators and those wishing to refresh their practice of meditative immersion. \nFollowing the instruction the Valley Streams Zen Sangha meets for a 30-minute meditation in the Dharma Hall followed by a 10-minute service and Dharma talk. You are invited to stay for these events after the instruction.\n  * Meets in the Library at Sacramento Dharma Center.   \nSign up for Weekly Emails to receive current program information.
URL:https://valleystreamszen.org/event/introduction-to-zen-meditation-in-person-2022-03-14-2022-04-11-2022-12-12/2026-06-08/
LOCATION:Sacramento Dharma Center\, Sacramento Dharma Center\, 3111 Wissemann Drive\, Sacramento\, CA\, 95826\, United States
CATEGORIES:All Events,In-Person Event,Meditation Instruction
ORGANIZER;CN="Valley Streams Zen Sangha":MAILTO:info@valleystreamszen.org
END:VEVENT
BEGIN:VEVENT
DTSTART;TZID=America/Los_Angeles:20260713T180000
DTEND;TZID=America/Los_Angeles:20260713T184000
DTSTAMP:20260421T180011
CREATED:20220412T080000Z
LAST-MODIFIED:20220412T080000Z
UID:20270-1783965600-1783968000@valleystreamszen.org
SUMMARY:Introduction to Zen Meditation (In Person Only)
DESCRIPTION:On the second Monday of each month\, we offer a 40-minute introduction to Zen practice.  We focus on the art of sitting meditation\, with emphasis on posture\, breath and mental focus. This is for new meditators and those wishing to refresh their practice of meditative immersion. \nFollowing the instruction the Valley Streams Zen Sangha meets for a 30-minute meditation in the Dharma Hall followed by a 10-minute service and Dharma talk. You are invited to stay for these events after the instruction.\n  * Meets in the Library at Sacramento Dharma Center.   \nSign up for Weekly Emails to receive current program information.
URL:https://valleystreamszen.org/event/introduction-to-zen-meditation-in-person-2022-03-14-2022-04-11-2022-12-12/2026-07-13/
LOCATION:Sacramento Dharma Center\, Sacramento Dharma Center\, 3111 Wissemann Drive\, Sacramento\, CA\, 95826\, United States
CATEGORIES:All Events,In-Person Event,Meditation Instruction
ORGANIZER;CN="Valley Streams Zen Sangha":MAILTO:info@valleystreamszen.org
END:VEVENT
BEGIN:VEVENT
DTSTART;TZID=America/Los_Angeles:20260810T180000
DTEND;TZID=America/Los_Angeles:20260810T184000
DTSTAMP:20260421T180011
CREATED:20220412T080000Z
LAST-MODIFIED:20220412T080000Z
UID:20271-1786384800-1786387200@valleystreamszen.org
SUMMARY:Introduction to Zen Meditation (In Person Only)
DESCRIPTION:On the second Monday of each month\, we offer a 40-minute introduction to Zen practice.  We focus on the art of sitting meditation\, with emphasis on posture\, breath and mental focus. This is for new meditators and those wishing to refresh their practice of meditative immersion. \nFollowing the instruction the Valley Streams Zen Sangha meets for a 30-minute meditation in the Dharma Hall followed by a 10-minute service and Dharma talk. You are invited to stay for these events after the instruction.\n  * Meets in the Library at Sacramento Dharma Center.   \nSign up for Weekly Emails to receive current program information.
URL:https://valleystreamszen.org/event/introduction-to-zen-meditation-in-person-2022-03-14-2022-04-11-2022-12-12/2026-08-10/
LOCATION:Sacramento Dharma Center\, Sacramento Dharma Center\, 3111 Wissemann Drive\, Sacramento\, CA\, 95826\, United States
CATEGORIES:All Events,In-Person Event,Meditation Instruction
ORGANIZER;CN="Valley Streams Zen Sangha":MAILTO:info@valleystreamszen.org
END:VEVENT
BEGIN:VEVENT
DTSTART;TZID=America/Los_Angeles:20260914T180000
DTEND;TZID=America/Los_Angeles:20260914T184000
DTSTAMP:20260421T180011
CREATED:20220412T080000Z
LAST-MODIFIED:20220412T080000Z
UID:20272-1789408800-1789411200@valleystreamszen.org
SUMMARY:Introduction to Zen Meditation (In Person Only)
DESCRIPTION:On the second Monday of each month\, we offer a 40-minute introduction to Zen practice.  We focus on the art of sitting meditation\, with emphasis on posture\, breath and mental focus. This is for new meditators and those wishing to refresh their practice of meditative immersion. \nFollowing the instruction the Valley Streams Zen Sangha meets for a 30-minute meditation in the Dharma Hall followed by a 10-minute service and Dharma talk. You are invited to stay for these events after the instruction.\n  * Meets in the Library at Sacramento Dharma Center.   \nSign up for Weekly Emails to receive current program information.
URL:https://valleystreamszen.org/event/introduction-to-zen-meditation-in-person-2022-03-14-2022-04-11-2022-12-12/2026-09-14/
LOCATION:Sacramento Dharma Center\, Sacramento Dharma Center\, 3111 Wissemann Drive\, Sacramento\, CA\, 95826\, United States
CATEGORIES:All Events,In-Person Event,Meditation Instruction
ORGANIZER;CN="Valley Streams Zen Sangha":MAILTO:info@valleystreamszen.org
END:VEVENT
BEGIN:VEVENT
DTSTART;TZID=America/Los_Angeles:20261012T180000
DTEND;TZID=America/Los_Angeles:20261012T184000
DTSTAMP:20260421T180011
CREATED:20220412T080000Z
LAST-MODIFIED:20220412T080000Z
UID:20273-1791828000-1791830400@valleystreamszen.org
SUMMARY:Introduction to Zen Meditation (In Person Only)
DESCRIPTION:On the second Monday of each month\, we offer a 40-minute introduction to Zen practice.  We focus on the art of sitting meditation\, with emphasis on posture\, breath and mental focus. This is for new meditators and those wishing to refresh their practice of meditative immersion. \nFollowing the instruction the Valley Streams Zen Sangha meets for a 30-minute meditation in the Dharma Hall followed by a 10-minute service and Dharma talk. You are invited to stay for these events after the instruction.\n  * Meets in the Library at Sacramento Dharma Center.   \nSign up for Weekly Emails to receive current program information.
URL:https://valleystreamszen.org/event/introduction-to-zen-meditation-in-person-2022-03-14-2022-04-11-2022-12-12/2026-10-12/
LOCATION:Sacramento Dharma Center\, Sacramento Dharma Center\, 3111 Wissemann Drive\, Sacramento\, CA\, 95826\, United States
CATEGORIES:All Events,In-Person Event,Meditation Instruction
ORGANIZER;CN="Valley Streams Zen Sangha":MAILTO:info@valleystreamszen.org
END:VEVENT
BEGIN:VEVENT
DTSTART;TZID=America/Los_Angeles:20261109T180000
DTEND;TZID=America/Los_Angeles:20261109T184000
DTSTAMP:20260421T180011
CREATED:20220412T080000Z
LAST-MODIFIED:20220412T080000Z
UID:20274-1794247200-1794249600@valleystreamszen.org
SUMMARY:Introduction to Zen Meditation (In Person Only)
DESCRIPTION:On the second Monday of each month\, we offer a 40-minute introduction to Zen practice.  We focus on the art of sitting meditation\, with emphasis on posture\, breath and mental focus. This is for new meditators and those wishing to refresh their practice of meditative immersion. \nFollowing the instruction the Valley Streams Zen Sangha meets for a 30-minute meditation in the Dharma Hall followed by a 10-minute service and Dharma talk. You are invited to stay for these events after the instruction.\n  * Meets in the Library at Sacramento Dharma Center.   \nSign up for Weekly Emails to receive current program information.
URL:https://valleystreamszen.org/event/introduction-to-zen-meditation-in-person-2022-03-14-2022-04-11-2022-12-12/2026-11-09/
LOCATION:Sacramento Dharma Center\, Sacramento Dharma Center\, 3111 Wissemann Drive\, Sacramento\, CA\, 95826\, United States
CATEGORIES:All Events,In-Person Event,Meditation Instruction
ORGANIZER;CN="Valley Streams Zen Sangha":MAILTO:info@valleystreamszen.org
END:VEVENT
END:VCALENDAR