BEGIN:VCALENDAR
VERSION:2.0
PRODID:-//Valley Streams Zen Sangha - ECPv6.15.18//NONSGML v1.0//EN
CALSCALE:GREGORIAN
METHOD:PUBLISH
X-ORIGINAL-URL:https://valleystreamszen.org
X-WR-CALDESC:Events for Valley Streams Zen Sangha
REFRESH-INTERVAL;VALUE=DURATION:PT1H
X-Robots-Tag:noindex
X-PUBLISHED-TTL:PT1H
BEGIN:VTIMEZONE
TZID:America/Los_Angeles
BEGIN:DAYLIGHT
TZOFFSETFROM:-0800
TZOFFSETTO:-0700
TZNAME:PDT
DTSTART:20220313T100000
END:DAYLIGHT
BEGIN:STANDARD
TZOFFSETFROM:-0700
TZOFFSETTO:-0800
TZNAME:PST
DTSTART:20221106T090000
END:STANDARD
BEGIN:DAYLIGHT
TZOFFSETFROM:-0800
TZOFFSETTO:-0700
TZNAME:PDT
DTSTART:20230312T100000
END:DAYLIGHT
BEGIN:STANDARD
TZOFFSETFROM:-0700
TZOFFSETTO:-0800
TZNAME:PST
DTSTART:20231105T090000
END:STANDARD
BEGIN:DAYLIGHT
TZOFFSETFROM:-0800
TZOFFSETTO:-0700
TZNAME:PDT
DTSTART:20240310T100000
END:DAYLIGHT
BEGIN:STANDARD
TZOFFSETFROM:-0700
TZOFFSETTO:-0800
TZNAME:PST
DTSTART:20241103T090000
END:STANDARD
END:VTIMEZONE
BEGIN:VEVENT
DTSTART;TZID=America/Los_Angeles:20230501T190000
DTEND;TZID=America/Los_Angeles:20230501T210000
DTSTAMP:20260425T061310
CREATED:20230409T213826Z
LAST-MODIFIED:20230409T214006Z
UID:15983-1682967600-1682974800@valleystreamszen.org
SUMMARY:Dharma Talk by Rev. Myō Lahey (Speaker on Zoom)
DESCRIPTION:Rev. Myō Lahey\, Valley Streams’ guiding teacher\,  joins us online via Zoom from Hartford Street Zen Center in San Francisco\, where he is Abbot.  He previously served as Practice Leader at Tassajara Zen Mountain Center. He is a Dharma heir of Tenshin Reb Anderson. \nOur Monday night programs are hybrid beginning  with zazen (sitting meditation) followed by a devotional service and dharma talk\, group discussion\, practice circle or retreat night. There are no membership requirements to participate. We invite donations to support the room rental\, visits by teachers\, and other sangha activities. Valley Streams Zen Sangha is dedicated to the study of Buddha’s teaching and the practice of meditation. We invite newcomers and experienced Zen students to join us. \n*Zoom link for this program: https://us02web.zoom.us/j/82008151977
URL:https://valleystreamszen.org/event/dharma-talk-by-rev-myo-lahey-speaker-on-zoom/
LOCATION:Sacramento Dharma Center\, Sacramento Dharma Center\, 3111 Wissemann Drive\, Sacramento\, CA\, 95826\, United States
CATEGORIES:All Events,Hybrid Event,Monday Night Meeting
ORGANIZER;CN="Valley Streams Zen Sangha":MAILTO:info@valleystreamszen.org
END:VEVENT
BEGIN:VEVENT
DTSTART;TZID=America/Los_Angeles:20230522T190000
DTEND;TZID=America/Los_Angeles:20230522T210000
DTSTAMP:20260425T061310
CREATED:20230329T174121Z
LAST-MODIFIED:20230329T175333Z
UID:15959-1684782000-1684789200@valleystreamszen.org
SUMMARY:Practice Talk by Tō Ji Chi Kai Oscar Balaguer (Speaker in person)
DESCRIPTION:Spiritually inspired art can illuminate Zen teaching and enrich Zen practice without the need for verbal overlay. in his talk “Zen Practice and Inspired Art\,” Oscar will consider four approaches to expressing the ineffable through imagery\, using examples from Zen and other traditions.  Oscar is a retired environmental scientist\, a long-time student of Tenshin Reb Anderson\, and a devotee of the capacity to create and love art.  \n*Zoom link for this program: https://us02web.zoom.us/j/82008151977
URL:https://valleystreamszen.org/event/practice-talk-by-to-ji-chi-kai-oscar-balaguer-speaker-in-person/
LOCATION:Sacramento Dharma Center\, Sacramento Dharma Center\, 3111 Wissemann Drive\, Sacramento\, CA\, 95826\, United States
CATEGORIES:All Events,Hybrid Event,Monday Night Meeting
ORGANIZER;CN="Valley Streams Zen Sangha":MAILTO:info@valleystreamszen.org
END:VEVENT
BEGIN:VEVENT
DTSTART;TZID=America/Los_Angeles:20230529T190000
DTEND;TZID=America/Los_Angeles:20230529T210000
DTSTAMP:20260425T061310
CREATED:20230409T223553Z
LAST-MODIFIED:20230409T224344Z
UID:16016-1685386800-1685394000@valleystreamszen.org
SUMMARY:ZENDO CLOSED for Memorial Day
DESCRIPTION:
URL:https://valleystreamszen.org/event/zendo-closed-for-memorial-day/
LOCATION:Sacramento Dharma Center\, Sacramento Dharma Center\, 3111 Wissemann Drive\, Sacramento\, CA\, 95826\, United States
CATEGORIES:All Events,CLOSED,Monday Night Meeting
ORGANIZER;CN="Valley Streams Zen Sangha":MAILTO:info@valleystreamszen.org
END:VEVENT
END:VCALENDAR