BEGIN:VCALENDAR
VERSION:2.0
PRODID:-//Valley Streams Zen Sangha - ECPv6.15.18//NONSGML v1.0//EN
CALSCALE:GREGORIAN
METHOD:PUBLISH
X-WR-CALNAME:Valley Streams Zen Sangha
X-ORIGINAL-URL:https://valleystreamszen.org
X-WR-CALDESC:Events for Valley Streams Zen Sangha
REFRESH-INTERVAL;VALUE=DURATION:PT1H
X-Robots-Tag:noindex
X-PUBLISHED-TTL:PT1H
BEGIN:VTIMEZONE
TZID:America/Los_Angeles
BEGIN:DAYLIGHT
TZOFFSETFROM:-0800
TZOFFSETTO:-0700
TZNAME:PDT
DTSTART:20220313T100000
END:DAYLIGHT
BEGIN:STANDARD
TZOFFSETFROM:-0700
TZOFFSETTO:-0800
TZNAME:PST
DTSTART:20221106T090000
END:STANDARD
BEGIN:DAYLIGHT
TZOFFSETFROM:-0800
TZOFFSETTO:-0700
TZNAME:PDT
DTSTART:20230312T100000
END:DAYLIGHT
BEGIN:STANDARD
TZOFFSETFROM:-0700
TZOFFSETTO:-0800
TZNAME:PST
DTSTART:20231105T090000
END:STANDARD
BEGIN:DAYLIGHT
TZOFFSETFROM:-0800
TZOFFSETTO:-0700
TZNAME:PDT
DTSTART:20240310T100000
END:DAYLIGHT
BEGIN:STANDARD
TZOFFSETFROM:-0700
TZOFFSETTO:-0800
TZNAME:PST
DTSTART:20241103T090000
END:STANDARD
END:VTIMEZONE
BEGIN:VEVENT
DTSTART;TZID=America/Los_Angeles:20230605T190000
DTEND;TZID=America/Los_Angeles:20230605T210000
DTSTAMP:20260424T211510
CREATED:20230409T230431Z
LAST-MODIFIED:20230516T203711Z
UID:16018-1685991600-1685998800@valleystreamszen.org
SUMMARY:A Dramatic Reading of the Holy Teaching of Vimalakīrti
DESCRIPTION:This beloved text\, unique among Buddhist Scriptures\, contains the quintessence of Mahayana doctrines\, taught with vivid imagery\, dramatic encounters and sly humor.  Members of the Thursday morning study group  recently completed a study of this text and\, together other cast members\,  present a dramatic reading of excepts from the Vimalakīrti Sutra\, slightly adapted. \nOur Monday night programs begin with zazen (sitting meditation) followed by a devotional service and dharma talk\, group discussion\, practice circle or retreat night. There are no membership requirements to participate. We invite donations to support the room rental\, visits by teachers\, and other sangha activities. Valley Streams Zen Sangha is dedicated to the study of Buddha’s teaching and the practice of meditation. We invite newcomers and experienced Zen students to join us. \n*Zoom link for this program: https://us02web.zoom.us/j/82008151977
URL:https://valleystreamszen.org/event/a-dramatic-reading-of-the-holy-teaching-of-vimalakirti/
LOCATION:Sacramento Dharma Center\, Sacramento Dharma Center\, 3111 Wissemann Drive\, Sacramento\, CA\, 95826\, United States
CATEGORIES:All Events,Hybrid Event,Monday Night Meeting
ORGANIZER;CN="Valley Streams Zen Sangha":MAILTO:info@valleystreamszen.org
END:VEVENT
BEGIN:VEVENT
DTSTART;TZID=America/Los_Angeles:20230612T190000
DTEND;TZID=America/Los_Angeles:20230612T210000
DTSTAMP:20260424T211510
CREATED:20230502T184244Z
LAST-MODIFIED:20230722T015028Z
UID:16090-1686596400-1686603600@valleystreamszen.org
SUMMARY:Dharma Talk by Rev. So'on Jim Hare (Speaker in-person)
DESCRIPTION:Rev. So’on Jim Hare  serves as Tanto\, or head of practice. He lived in the San Francisco Zen Center community from 1980 to 1984\, and was lay ordained by Tenshin Reb Anderson in 1985. He served as Head Student at Green Gulch Farm during the spring 2002 practice period\, and was priest ordained by Rev. Myo Lahey in 2016. \nOur Monday night programs begin with zazen (sitting meditation) followed by a devotional service and dharma talk\, group discussion\, practice circle or retreat night. There are no membership requirements to participate. We invite donations to support the room rental\, visits by teachers\, and other sangha activities. Valley Streams Zen Sangha is dedicated to the study of Buddha’s teaching and the practice of meditation. We invite newcomers and experienced Zen students to join us in the zendo or on zoom. \n*Zoom link for this program: https://us02web.zoom.us/j/82008151977
URL:https://valleystreamszen.org/event/dharma-talk-by-rev-soon-jim-hare-hybrid-2/
LOCATION:Sacramento Dharma Center\, Sacramento Dharma Center\, 3111 Wissemann Drive\, Sacramento\, CA\, 95826\, United States
CATEGORIES:All Events,Hybrid Event,Monday Night Meeting
ORGANIZER;CN="Valley Streams Zen Sangha":MAILTO:info@valleystreamszen.org
END:VEVENT
BEGIN:VEVENT
DTSTART;TZID=America/Los_Angeles:20230619T190000
DTEND;TZID=America/Los_Angeles:20230619T210000
DTSTAMP:20260424T211510
CREATED:20230502T184603Z
LAST-MODIFIED:20230608T023422Z
UID:16092-1687201200-1687208400@valleystreamszen.org
SUMMARY:Way-Seeking Mind Talk with Malia McCarthy (Speaker in-person)
DESCRIPTION:Each of us has come to Zen practice as a seeker\, with a spirit of inquiry\, from diverse backgrounds. The idea of our way-seeking mind talks is for members to share how it is they came to practice. Each person tells his or her own story in a unique way that often blends autobiography\, spiritual biography\, and the practice questions engaging each person. \nMalia is a member of the Valley Streams Board of Directors and serves as secretary. \n*Zoom link for this program: https://us02web.zoom.us/j/82008151977
URL:https://valleystreamszen.org/event/way-seeking-mind-talk-with-jody-ansell-speaker-in-person-2/
LOCATION:Sacramento Dharma Center\, Sacramento Dharma Center\, 3111 Wissemann Drive\, Sacramento\, CA\, 95826\, United States
CATEGORIES:All Events,Hybrid Event,Monday Night Meeting
ORGANIZER;CN="Valley Streams Zen Sangha":MAILTO:info@valleystreamszen.org
END:VEVENT
BEGIN:VEVENT
DTSTART;TZID=America/Los_Angeles:20230626T190000
DTEND;TZID=America/Los_Angeles:20230626T210000
DTSTAMP:20260424T211510
CREATED:20230502T183835Z
LAST-MODIFIED:20230608T024028Z
UID:16087-1687806000-1687813200@valleystreamszen.org
SUMMARY:Dharma Talk by Shōku Kathy Early (Speaker on Zoom)
DESCRIPTION:Guest teacher Shōku Kathy Early came to zen practice in 1994 through classes with Tenshin Reb Anderson at the Yoga Room in Berkeley while working as a semiconductor engineer in Silicon Valley.  She then practiced for several years with Keido Les Kaye at Kannon Do Zen Center in Mountain View\, after which she trained at San Francisco Zen Center for 16 years. She was priest ordained by Tenshin Anderson in 2005. Shōku also spent a year and a half in residence at Toshoji International Training Monastery\, in Okayama\, Japan\, including four angos (90 day training periods). \nOur Monday night programs begin with zazen (sitting meditation) followed by a devotional service and dharma talk\, group discussion\, practice circle or retreat night. There are no membership requirements to participate. We invite donations to support the room rental\, visits by teachers\, and other sangha activities. Valley Streams Zen Sangha is dedicated to the study of Buddha’s teaching and the practice of meditation. We invite newcomers and experienced Zen students to join us in-person or on zoom. \n*Zoom link for this program: https://us02web.zoom.us/j/82008151977
URL:https://valleystreamszen.org/event/dharma-talk-by-shoku-kathy-early-hybrid-2/
LOCATION:Sacramento Dharma Center\, Sacramento Dharma Center\, 3111 Wissemann Drive\, Sacramento\, CA\, 95826\, United States
CATEGORIES:All Events,Hybrid Event,Monday Night Meeting
ORGANIZER;CN="Valley Streams Zen Sangha":MAILTO:info@valleystreamszen.org
END:VEVENT
END:VCALENDAR