BEGIN:VCALENDAR
VERSION:2.0
PRODID:-//Valley Streams Zen Sangha - ECPv6.15.18//NONSGML v1.0//EN
CALSCALE:GREGORIAN
METHOD:PUBLISH
X-WR-CALNAME:Valley Streams Zen Sangha
X-ORIGINAL-URL:https://valleystreamszen.org
X-WR-CALDESC:Events for Valley Streams Zen Sangha
REFRESH-INTERVAL;VALUE=DURATION:PT1H
X-Robots-Tag:noindex
X-PUBLISHED-TTL:PT1H
BEGIN:VTIMEZONE
TZID:America/Los_Angeles
BEGIN:DAYLIGHT
TZOFFSETFROM:-0800
TZOFFSETTO:-0700
TZNAME:PDT
DTSTART:20190310T100000
END:DAYLIGHT
BEGIN:STANDARD
TZOFFSETFROM:-0700
TZOFFSETTO:-0800
TZNAME:PST
DTSTART:20191103T090000
END:STANDARD
BEGIN:DAYLIGHT
TZOFFSETFROM:-0800
TZOFFSETTO:-0700
TZNAME:PDT
DTSTART:20200308T100000
END:DAYLIGHT
BEGIN:STANDARD
TZOFFSETFROM:-0700
TZOFFSETTO:-0800
TZNAME:PST
DTSTART:20201101T090000
END:STANDARD
BEGIN:DAYLIGHT
TZOFFSETFROM:-0800
TZOFFSETTO:-0700
TZNAME:PDT
DTSTART:20210314T100000
END:DAYLIGHT
BEGIN:STANDARD
TZOFFSETFROM:-0700
TZOFFSETTO:-0800
TZNAME:PST
DTSTART:20211107T090000
END:STANDARD
END:VTIMEZONE
BEGIN:VEVENT
DTSTART;TZID=America/Los_Angeles:20200403T120000
DTEND;TZID=America/Los_Angeles:20200403T130000
DTSTAMP:20260422T112504
CREATED:20200328T203830Z
LAST-MODIFIED:20200328T203830Z
UID:10093-1585915200-1585918800@valleystreamszen.org
SUMMARY:ONLINE - Writing & Sitting Together at our Dharma Gates
DESCRIPTION:Join us for this shared opportunity for growth and development\, co-led by Doralee Grindler Katonah and Linda Dekker.  We will come together for one hour\, with a guided writing time as the preamble to a 20-minute zazen practice; followed by another guided writing time\, and then time to share. With pens and silent stillness\, we will open our hearts to the dharma gates arising in the moment and journal before ‘sitting’ together and after our ‘sit’.\nDuring this challenging time our possibilities for spiritual development and greater aliveness continue. In the words of Beth Jacobs: \n“Deep experience is beyond words\, but writing doesn’t just convey information. It causes things to happen\, things that change both the writer and the reader forever.” (from A Buddhist Journal – Guided Practices for Writers and Meditators\, Berkeley\, CA: North Atlantic Books\, 2018) \n*To join the meeting by computer\, you must install Zoom software: \n\nPrior to the meeting\, download the free Zoom Client for Meetings (13 MB)  As you “Wait for the host to start the meeting” click the Test Computer Audio button to make sure you can hear and be heard by others.\nMeeting ID: 963528048\nAt 11:50 am\, join the meeting at:  https://zoom.us/j/963528048\nIf you cannot download or run the application\, you can join from your browser. (Using Chrome seems to work best.)\nThe program will start at noon and go for about 1 hour.\n\n*To join by telephone (audio only): \n\ncall 1 669 900 6833 (Milpitas)\nAt the voice prompt\, enter the Meeting ID: 963528048\nControls for phone: *9 = Raise hand;  *6 = Mute/unmute
URL:https://valleystreamszen.org/event/online-writing-sitting-together-at-our-dharma-gates-4/
LOCATION:3111 Wissemann Drive\, Sacramento\, 95826\, United States
CATEGORIES:All Events,CLOSED,Online Event,Special Event
END:VEVENT
END:VCALENDAR