BEGIN:VCALENDAR
VERSION:2.0
PRODID:-//Valley Streams Zen Sangha - ECPv6.15.18//NONSGML v1.0//EN
CALSCALE:GREGORIAN
METHOD:PUBLISH
X-ORIGINAL-URL:https://valleystreamszen.org
X-WR-CALDESC:Events for Valley Streams Zen Sangha
REFRESH-INTERVAL;VALUE=DURATION:PT1H
X-Robots-Tag:noindex
X-PUBLISHED-TTL:PT1H
BEGIN:VTIMEZONE
TZID:America/Los_Angeles
BEGIN:DAYLIGHT
TZOFFSETFROM:-0800
TZOFFSETTO:-0700
TZNAME:PDT
DTSTART:20190310T100000
END:DAYLIGHT
BEGIN:STANDARD
TZOFFSETFROM:-0700
TZOFFSETTO:-0800
TZNAME:PST
DTSTART:20191103T090000
END:STANDARD
BEGIN:DAYLIGHT
TZOFFSETFROM:-0800
TZOFFSETTO:-0700
TZNAME:PDT
DTSTART:20200308T100000
END:DAYLIGHT
BEGIN:STANDARD
TZOFFSETFROM:-0700
TZOFFSETTO:-0800
TZNAME:PST
DTSTART:20201101T090000
END:STANDARD
BEGIN:DAYLIGHT
TZOFFSETFROM:-0800
TZOFFSETTO:-0700
TZNAME:PDT
DTSTART:20210314T100000
END:DAYLIGHT
BEGIN:STANDARD
TZOFFSETFROM:-0700
TZOFFSETTO:-0800
TZNAME:PST
DTSTART:20211107T090000
END:STANDARD
END:VTIMEZONE
BEGIN:VEVENT
DTSTART;TZID=America/Los_Angeles:20200414T160000
DTEND;TZID=America/Los_Angeles:20200414T170000
DTSTAMP:20260422T041645
CREATED:20200404T214212Z
LAST-MODIFIED:20200404T214212Z
UID:10094-1586880000-1586883600@valleystreamszen.org
SUMMARY:Book Discussion Group (ONLINE)
DESCRIPTION:Everyone is invited to join a discussion group focused on Reb Anderson’s new book\, Entering the Mind of Buddha\, Zen and the Six Heroic Practices of Bodhisattvas. \nWe will meet over a period of six weeks via Zoom\, beginning Tuesday April 14 from 4-5 pm. There are many sources for the book including Amazon\, Kindle\, Nook\, Barnes and Noble\, Penguin and others. Instead of reading an entire chapter aloud (as we do in our  Thursday study group)\, we will ask people to read a meaningful (to them) excerpt from the chapter\, and then ask questions or make a comment. \n  \nTo enroll in this group\, contact Sarah O’Gara\,  sarah_ogara@yahoo.com or  (916) 484-6808.  If do not have a copy of the text please inform the organizer that you will audit the course rather than actively participate. \n\n\nFirst\, download the  Zoom Client for Meetings software.(13 MB)\nGet the Meeting ID Number from Sarah.\nIf you prefer to join by telephone\, call 669 900 6833 and follow the prompts for entering the meeting ID number.
URL:https://valleystreamszen.org/event/book-discussion-group-4/2020-04-14/
LOCATION:3111 Wissemann Drive\, Sacramento\, 95826\, United States
CATEGORIES:All Events,CLOSED,Online Event,Study Group
END:VEVENT
END:VCALENDAR