BEGIN:VCALENDAR
VERSION:2.0
PRODID:-//Valley Streams Zen Sangha - ECPv6.15.18//NONSGML v1.0//EN
CALSCALE:GREGORIAN
METHOD:PUBLISH
X-ORIGINAL-URL:https://valleystreamszen.org
X-WR-CALDESC:Events for Valley Streams Zen Sangha
REFRESH-INTERVAL;VALUE=DURATION:PT1H
X-Robots-Tag:noindex
X-PUBLISHED-TTL:PT1H
BEGIN:VTIMEZONE
TZID:America/Los_Angeles
BEGIN:DAYLIGHT
TZOFFSETFROM:-0800
TZOFFSETTO:-0700
TZNAME:PDT
DTSTART:20190310T100000
END:DAYLIGHT
BEGIN:STANDARD
TZOFFSETFROM:-0700
TZOFFSETTO:-0800
TZNAME:PST
DTSTART:20191103T090000
END:STANDARD
BEGIN:DAYLIGHT
TZOFFSETFROM:-0800
TZOFFSETTO:-0700
TZNAME:PDT
DTSTART:20200308T100000
END:DAYLIGHT
BEGIN:STANDARD
TZOFFSETFROM:-0700
TZOFFSETTO:-0800
TZNAME:PST
DTSTART:20201101T090000
END:STANDARD
BEGIN:DAYLIGHT
TZOFFSETFROM:-0800
TZOFFSETTO:-0700
TZNAME:PDT
DTSTART:20210314T100000
END:DAYLIGHT
BEGIN:STANDARD
TZOFFSETFROM:-0700
TZOFFSETTO:-0800
TZNAME:PST
DTSTART:20211107T090000
END:STANDARD
END:VTIMEZONE
BEGIN:VEVENT
DTSTART;TZID=America/Los_Angeles:20200417T114500
DTEND;TZID=America/Los_Angeles:20200417T130000
DTSTAMP:20260422T041700
CREATED:20200409T213328Z
LAST-MODIFIED:20200409T213328Z
UID:10103-1587123900-1587128400@valleystreamszen.org
SUMMARY:Writing & Sitting Together at our Dharma Gates
DESCRIPTION:Led by Doralee Grindler Katonah and Linda Dekker. \nComing together online for one hour\, with a guided writing time as the preamble to a 20-minute zazen practice together\, followed by another guided writing time and then time to share. The sharing time will be facilitated with practice circle guidelines – silent listening with no cross talk or commentary. Sharing of thoughts and/or writing are welcomed with respect for when we choose not to share. During this challenging time our possibilities for spiritual development and greater aliveness continue. \nMeetings are planned for Friday April 17\, May 1\, 15 & 29.\nPlease log in at 11:45 am so we can begin at noon.\nFor latest information\, contact Doralee Grindler Katonah\, grindkaton@icloud.com or sign up for our Weekly Emails. \n\n\nIf you are new to Zoom\, download  Zoom Client for Meetings (13 MB)\nGet the Meeting ID Number from Doralee or in the Weekly Email.\nOr\, dial in by telephone (audio only)\, by calling 669 900 6833\, then follow the prompts for entering the meeting ID.
URL:https://valleystreamszen.org/event/writing-sitting-together-at-our-dharma-gates-led-by-doralee-grindler-katonah-and-linda-dekker-4/2020-04-17/
LOCATION:3111 Wissemann Drive\, Sacramento\, 95826\, United States
CATEGORIES:All Events,CLOSED,Online Event,Special Event
END:VEVENT
END:VCALENDAR