BEGIN:VCALENDAR
VERSION:2.0
PRODID:-//Valley Streams Zen Sangha - ECPv6.15.18//NONSGML v1.0//EN
CALSCALE:GREGORIAN
METHOD:PUBLISH
X-ORIGINAL-URL:https://valleystreamszen.org
X-WR-CALDESC:Events for Valley Streams Zen Sangha
REFRESH-INTERVAL;VALUE=DURATION:PT1H
X-Robots-Tag:noindex
X-PUBLISHED-TTL:PT1H
BEGIN:VTIMEZONE
TZID:America/Los_Angeles
BEGIN:DAYLIGHT
TZOFFSETFROM:-0800
TZOFFSETTO:-0700
TZNAME:PDT
DTSTART:20190310T100000
END:DAYLIGHT
BEGIN:STANDARD
TZOFFSETFROM:-0700
TZOFFSETTO:-0800
TZNAME:PST
DTSTART:20191103T090000
END:STANDARD
BEGIN:DAYLIGHT
TZOFFSETFROM:-0800
TZOFFSETTO:-0700
TZNAME:PDT
DTSTART:20200308T100000
END:DAYLIGHT
BEGIN:STANDARD
TZOFFSETFROM:-0700
TZOFFSETTO:-0800
TZNAME:PST
DTSTART:20201101T090000
END:STANDARD
BEGIN:DAYLIGHT
TZOFFSETFROM:-0800
TZOFFSETTO:-0700
TZNAME:PDT
DTSTART:20210314T100000
END:DAYLIGHT
BEGIN:STANDARD
TZOFFSETFROM:-0700
TZOFFSETTO:-0800
TZNAME:PST
DTSTART:20211107T090000
END:STANDARD
END:VTIMEZONE
BEGIN:VEVENT
DTSTART;TZID=America/Los_Angeles:20200419T183000
DTEND;TZID=America/Los_Angeles:20200419T203000
DTSTAMP:20260422T060940
CREATED:20191220T001125Z
LAST-MODIFIED:20191220T001125Z
UID:10085-1587321000-1587328200@valleystreamszen.org
SUMMARY:The New Ecosattva Path\, online talk by David Loy (SBMG)
DESCRIPTION:For more information and the Zoom link\, go to the SBMG website. \n \nDavid Robert Loy\, PhD\, is a professor\, writer\, and Zen teacher in the Sanbo Zen tradition of Japanese Zen Buddhism. He is a prolific author\, whose essays and books have been translated into many languages. He is on the advisory boards of Buddhist Global Relief\, the Clear View Project\, Zen Peacemakers\, and the Ernest Becker Foundation. David is especially concerned about social justice\, activism\, and ecological issues\, and authored Ecodharma: Buddhist Teachings for the Precipice. \nDavid Loy will also give the Dharma talk on Monday April 20\, 7-8:30 pm.
URL:https://valleystreamszen.org/event/the-new-ecosattva-path-online-talk-by-david-loy-sbmg-4/
LOCATION:3111 Wissemann Drive\, Sacramento\, 95826\, United States
CATEGORIES:All Events,CLOSED,Online Event
END:VEVENT
END:VCALENDAR