BEGIN:VCALENDAR
VERSION:2.0
PRODID:-//Valley Streams Zen Sangha - ECPv6.15.18//NONSGML v1.0//EN
CALSCALE:GREGORIAN
METHOD:PUBLISH
X-WR-CALNAME:Valley Streams Zen Sangha
X-ORIGINAL-URL:https://valleystreamszen.org
X-WR-CALDESC:Events for Valley Streams Zen Sangha
REFRESH-INTERVAL;VALUE=DURATION:PT1H
X-Robots-Tag:noindex
X-PUBLISHED-TTL:PT1H
BEGIN:VTIMEZONE
TZID:America/Los_Angeles
BEGIN:DAYLIGHT
TZOFFSETFROM:-0800
TZOFFSETTO:-0700
TZNAME:PDT
DTSTART:20190310T100000
END:DAYLIGHT
BEGIN:STANDARD
TZOFFSETFROM:-0700
TZOFFSETTO:-0800
TZNAME:PST
DTSTART:20191103T090000
END:STANDARD
BEGIN:DAYLIGHT
TZOFFSETFROM:-0800
TZOFFSETTO:-0700
TZNAME:PDT
DTSTART:20200308T100000
END:DAYLIGHT
BEGIN:STANDARD
TZOFFSETFROM:-0700
TZOFFSETTO:-0800
TZNAME:PST
DTSTART:20201101T090000
END:STANDARD
BEGIN:DAYLIGHT
TZOFFSETFROM:-0800
TZOFFSETTO:-0700
TZNAME:PDT
DTSTART:20210314T100000
END:DAYLIGHT
BEGIN:STANDARD
TZOFFSETFROM:-0700
TZOFFSETTO:-0800
TZNAME:PST
DTSTART:20211107T090000
END:STANDARD
END:VTIMEZONE
BEGIN:VEVENT
DTSTART;TZID=America/Los_Angeles:20200504T190000
DTEND;TZID=America/Los_Angeles:20200504T203000
DTSTAMP:20260422T022244
CREATED:20200222T182331Z
LAST-MODIFIED:20200222T182331Z
UID:10091-1588618800-1588624200@valleystreamszen.org
SUMMARY:What can the coronavirus teach us? A Buddhist perspective\,  by David Robert Loy (moved from April 20)
DESCRIPTION:Dr. David Loy will offer his teaching online using Zoom video conferencing software. Full instructions for joining by computer or phone will be sent via our Weekly Email.  *You may offer a donation to the teacher by clicking on the Donate button at the bottom of this page. \nDavid Robert Loy\, PhD\, is a professor\, writer\, and Zen teacher in the Sanbo Zen tradition of Japanese Zen Buddhism. He is a prolific author\, whose essays and books have been translated into many languages. He is on the advisory boards of Buddhist Global Relief\, the Clear View Project\, Zen Peacemakers\, and the Ernest Becker Foundation. David is especially concerned about social justice\, activism\, and ecological issues\, and authored Ecodharma: Buddhist Teachings for the Precipice. \n\n*To join the meeting by computer: \n\nPrior to the meeting\, download the free Zoom Client for Meetings (13 MB)  As you “Wait for the host to start the meeting” click the Test Computer Audio button to make sure you can hear and be heard by others.\nMeeting ID: You must be on our mailing list to receive the Meeting ID. It will be sent to you in the Weekly Email on the day of the event.\nAt 6:50 pm\, join the meeting at: https://zoom.us/j/[Meeting ID]\nIf you cannot download or run the application\, you can join from your browser. (Chrome or Firefox works best.)\n\n*To join by mobile phone (audio only): \n\n\n\nDial 669-900-6833 and follow voice prompts for entering the Meeting ID.\nThe one tap string of numbers are included in the Weekly Email.\nControls by phone: *9 = Raise hand;  *6 = Mute/unmute
URL:https://valleystreamszen.org/event/dharma-talk-by-david-robert-loy-4/
LOCATION:3111 Wissemann Drive\, Sacramento\, 95826\, United States
CATEGORIES:All Events,CLOSED,Monday Night Meeting,Online Event
END:VEVENT
END:VCALENDAR