BEGIN:VCALENDAR
VERSION:2.0
PRODID:-//Valley Streams Zen Sangha - ECPv6.15.18//NONSGML v1.0//EN
CALSCALE:GREGORIAN
METHOD:PUBLISH
X-ORIGINAL-URL:https://valleystreamszen.org
X-WR-CALDESC:Events for Valley Streams Zen Sangha
REFRESH-INTERVAL;VALUE=DURATION:PT1H
X-Robots-Tag:noindex
X-PUBLISHED-TTL:PT1H
BEGIN:VTIMEZONE
TZID:America/Los_Angeles
BEGIN:DAYLIGHT
TZOFFSETFROM:-0800
TZOFFSETTO:-0700
TZNAME:PDT
DTSTART:20190310T100000
END:DAYLIGHT
BEGIN:STANDARD
TZOFFSETFROM:-0700
TZOFFSETTO:-0800
TZNAME:PST
DTSTART:20191103T090000
END:STANDARD
BEGIN:DAYLIGHT
TZOFFSETFROM:-0800
TZOFFSETTO:-0700
TZNAME:PDT
DTSTART:20200308T100000
END:DAYLIGHT
BEGIN:STANDARD
TZOFFSETFROM:-0700
TZOFFSETTO:-0800
TZNAME:PST
DTSTART:20201101T090000
END:STANDARD
BEGIN:DAYLIGHT
TZOFFSETFROM:-0800
TZOFFSETTO:-0700
TZNAME:PDT
DTSTART:20210314T100000
END:DAYLIGHT
BEGIN:STANDARD
TZOFFSETFROM:-0700
TZOFFSETTO:-0800
TZNAME:PST
DTSTART:20211107T090000
END:STANDARD
END:VTIMEZONE
BEGIN:VEVENT
DTSTART;TZID=America/Los_Angeles:20200601T190000
DTEND;TZID=America/Los_Angeles:20200601T200000
DTSTAMP:20260420T072414
CREATED:20200222T183156Z
LAST-MODIFIED:20200222T183156Z
UID:10092-1591038000-1591041600@valleystreamszen.org
SUMMARY:Practice Talk by Paravrtti Doralee Grindler Katonah (ONLINE)
DESCRIPTION:“The Gift of Zazen is ILLIMITABLE!  Don’t Waste Any Time!”  In her talk Doralee will share encouragements for quickening our practice.  Doralee serves as our Ino (head of the mediation hall) and is also president of the VSZS board of directors. She was priest ordained in 2019 by Sojun Diane Martin. \nDoralee’s talk in PDF. \n\nDuring the pandemic\, we will meet online using Zoom video conferencing software. To receive the Meeting ID# and password for each meeting\, please Sign Up for our Weekly Emails. \n*To join the meeting by computer\, you must install Zoom software: \n\nSign Up for Weekly Emails to receive each Meeting ID#\nPrior to the meeting\, download the free Zoom Client for Meetings (13 MB)  As you “Wait for the host to start the meeting” click the Test Computer Audio button to make sure you can hear and be heard by others.\nDownload the chants in PDF.\nAt 6:50 pm\, join the meeting at: https://zoom.us/j/[Meeting ID]\nIf you cannot download or run the application\, you can join from your browser. (Using Chrome or Firefox works best for this.)\nWe will start at 7pm with this approximate schedule: 20 minute sitting\, followed by chanting\, Dharma talk & sharing; then announcements – about 1 hour total.\n\n*To join by telephone (audio only): \n\nDial 669 900 6833 (San Jose) and follow voice prompts for entering the Meeting ID#.\nThe one tap string of numbers are included in the Weekly Email.\nPhone Controls: *9 = Raise hand;  *6 = Mute/unmute\n\nWe will continue to monitor local health advisories regarding group meetings. We of course hope to be able to resume our in-person programs as soon as it is safe to do so.  Valley Streams Zen Sangha is dedicated to the study of Buddha’s teaching and the practice of meditation. We invite newcomers and experienced Zen students to join us.
URL:https://valleystreamszen.org/event/monday-night-zazen-and-program-2020-06-01-4/
LOCATION:3111 Wissemann Drive\, Sacramento\, 95826\, United States
CATEGORIES:All Events,Monday Night Meeting,Online Event
END:VEVENT
END:VCALENDAR