BEGIN:VCALENDAR
VERSION:2.0
PRODID:-//Valley Streams Zen Sangha - ECPv6.15.18//NONSGML v1.0//EN
CALSCALE:GREGORIAN
METHOD:PUBLISH
X-ORIGINAL-URL:https://valleystreamszen.org
X-WR-CALDESC:Events for Valley Streams Zen Sangha
REFRESH-INTERVAL;VALUE=DURATION:PT1H
X-Robots-Tag:noindex
X-PUBLISHED-TTL:PT1H
BEGIN:VTIMEZONE
TZID:America/Los_Angeles
BEGIN:DAYLIGHT
TZOFFSETFROM:-0800
TZOFFSETTO:-0700
TZNAME:PDT
DTSTART:20190310T100000
END:DAYLIGHT
BEGIN:STANDARD
TZOFFSETFROM:-0700
TZOFFSETTO:-0800
TZNAME:PST
DTSTART:20191103T090000
END:STANDARD
BEGIN:DAYLIGHT
TZOFFSETFROM:-0800
TZOFFSETTO:-0700
TZNAME:PDT
DTSTART:20200308T100000
END:DAYLIGHT
BEGIN:STANDARD
TZOFFSETFROM:-0700
TZOFFSETTO:-0800
TZNAME:PST
DTSTART:20201101T090000
END:STANDARD
BEGIN:DAYLIGHT
TZOFFSETFROM:-0800
TZOFFSETTO:-0700
TZNAME:PDT
DTSTART:20210314T100000
END:DAYLIGHT
BEGIN:STANDARD
TZOFFSETFROM:-0700
TZOFFSETTO:-0800
TZNAME:PST
DTSTART:20211107T090000
END:STANDARD
END:VTIMEZONE
BEGIN:VEVENT
DTSTART;TZID=America/Los_Angeles:20200616T154500
DTEND;TZID=America/Los_Angeles:20200616T170000
DTSTAMP:20260420T170325
CREATED:20200601T215606Z
LAST-MODIFIED:20200601T215606Z
UID:10114-1592322300-1592326800@valleystreamszen.org
SUMMARY:Tuesday Book Group (ONLINE - 7 weeks)
DESCRIPTION:We will discuss the Buddha’s teaching of the Four Noble Truths and the Eightfold Path as presented by Which That Hanh in his book\, The Heart of Buddha’s Teaching. This book group is ideal for people who want a grounding in or a review of fundamental Buddhist teachings. Please purchase or borrow the book for your study. \n  \nSyllabus:\nWeek 1\, pages  1-23: 4 Noble Truths\nWeek 2\, pages 24-46: 4 Noble Truths (con’t.)\nWeek 3\, pages 49-63: Right View & Right Thought\nWeek 4\, pages 64-83: Right Mindfulness\nWeek 5\, pages 84-93: Right Speech\nWeek 6\, pages 94-104: Right Action/Right Effort\nWeek 7\, pages 105-112: Right Concentration/Right Livelihood \n• To sign up for the Book Group and receive the Zoom link\, contact Jody Ansell\, joaansell@gmail.com
URL:https://valleystreamszen.org/event/tuesday-book-group-online-7-weeks-4/2020-06-16/
LOCATION:3111 Wissemann Drive\, Sacramento\, 95826\, United States
CATEGORIES:All Events,Online Event,Study Group
END:VEVENT
END:VCALENDAR