BEGIN:VCALENDAR
VERSION:2.0
PRODID:-//Valley Streams Zen Sangha - ECPv6.15.18//NONSGML v1.0//EN
CALSCALE:GREGORIAN
METHOD:PUBLISH
X-ORIGINAL-URL:https://valleystreamszen.org
X-WR-CALDESC:Events for Valley Streams Zen Sangha
REFRESH-INTERVAL;VALUE=DURATION:PT1H
X-Robots-Tag:noindex
X-PUBLISHED-TTL:PT1H
BEGIN:VTIMEZONE
TZID:America/Los_Angeles
BEGIN:DAYLIGHT
TZOFFSETFROM:-0800
TZOFFSETTO:-0700
TZNAME:PDT
DTSTART:20190310T100000
END:DAYLIGHT
BEGIN:STANDARD
TZOFFSETFROM:-0700
TZOFFSETTO:-0800
TZNAME:PST
DTSTART:20191103T090000
END:STANDARD
BEGIN:DAYLIGHT
TZOFFSETFROM:-0800
TZOFFSETTO:-0700
TZNAME:PDT
DTSTART:20200308T100000
END:DAYLIGHT
BEGIN:STANDARD
TZOFFSETFROM:-0700
TZOFFSETTO:-0800
TZNAME:PST
DTSTART:20201101T090000
END:STANDARD
BEGIN:DAYLIGHT
TZOFFSETFROM:-0800
TZOFFSETTO:-0700
TZNAME:PDT
DTSTART:20210314T100000
END:DAYLIGHT
BEGIN:STANDARD
TZOFFSETFROM:-0700
TZOFFSETTO:-0800
TZNAME:PST
DTSTART:20211107T090000
END:STANDARD
END:VTIMEZONE
BEGIN:VEVENT
DTSTART;TZID=America/Los_Angeles:20200620T100000
DTEND;TZID=America/Los_Angeles:20200620T120000
DTSTAMP:20260420T072411
CREATED:20200528T213044Z
LAST-MODIFIED:20200528T213044Z
UID:10112-1592647200-1592654400@valleystreamszen.org
SUMMARY:Journal Practice for the Pandemic\, led by Beth Jacobs\, Ph.D. (ONLINE)
DESCRIPTION:In this unprecedented time\, a writing practice can help sustain a sense of orientation within the chaos. We can discern awareness of the First Noble Truth through articulation of our personal challenges\, behaviors\, feelings\, and reactions to events. Expressive writing helps us both stay with and let go of the enormous pressure of current changes as expressed by the pandemic. After a 30-minute meditation\, we will discuss applications of therapeutic writing processes to global and shared trauma. Beth Jacobs will guide us through three different writing techniques. \nBeth Jacobs is a writer\, clinical psychologist\, and a lay-entrusted Soto Zen teacher. Her books include The Original Buddhist Psychology\, A Buddhist Journal; Guided Practices for Writers and Meditators. \nREGISTRATION: at Eventbrite.com\nFee: $20 or what is realistic for you.\nInformation: Doralee at grindkaton@icloud.com
URL:https://valleystreamszen.org/event/journal-practice-for-the-pandemic-led-by-beth-jacobs-ph-d-online-4/
LOCATION:3111 Wissemann Drive\, Sacramento\, 95826\, United States
CATEGORIES:All Events,Online Event,Retreat,Special Event
END:VEVENT
END:VCALENDAR