BEGIN:VCALENDAR
VERSION:2.0
PRODID:-//Valley Streams Zen Sangha - ECPv6.15.18//NONSGML v1.0//EN
CALSCALE:GREGORIAN
METHOD:PUBLISH
X-ORIGINAL-URL:https://valleystreamszen.org
X-WR-CALDESC:Events for Valley Streams Zen Sangha
REFRESH-INTERVAL;VALUE=DURATION:PT1H
X-Robots-Tag:noindex
X-PUBLISHED-TTL:PT1H
BEGIN:VTIMEZONE
TZID:America/Los_Angeles
BEGIN:DAYLIGHT
TZOFFSETFROM:-0800
TZOFFSETTO:-0700
TZNAME:PDT
DTSTART:20180311T100000
END:DAYLIGHT
BEGIN:STANDARD
TZOFFSETFROM:-0700
TZOFFSETTO:-0800
TZNAME:PST
DTSTART:20181104T090000
END:STANDARD
BEGIN:DAYLIGHT
TZOFFSETFROM:-0800
TZOFFSETTO:-0700
TZNAME:PDT
DTSTART:20190310T100000
END:DAYLIGHT
BEGIN:STANDARD
TZOFFSETFROM:-0700
TZOFFSETTO:-0800
TZNAME:PST
DTSTART:20191103T090000
END:STANDARD
BEGIN:DAYLIGHT
TZOFFSETFROM:-0800
TZOFFSETTO:-0700
TZNAME:PDT
DTSTART:20200308T100000
END:DAYLIGHT
BEGIN:STANDARD
TZOFFSETFROM:-0700
TZOFFSETTO:-0800
TZNAME:PST
DTSTART:20201101T090000
END:STANDARD
END:VTIMEZONE
BEGIN:VEVENT
DTSTART;TZID=America/Los_Angeles:20190601T093000
DTEND;TZID=America/Los_Angeles:20190601T163000
DTSTAMP:20260425T193429
CREATED:20181101T183445Z
LAST-MODIFIED:20181101T183445Z
UID:9868-1559381400-1559406600@valleystreamszen.org
SUMMARY:Dharma Calligraphy: Create Your Own Scroll\, with Rev. Val Szymanski
DESCRIPTION:Please join us for our 4th annual Dharma Art Day for an opportunity to create your own calligraphy scroll!  The retreat will be led by Rev. Val Szymanski\, founding teacher of Bamboo in the Wind Zen sangha\, and  esteemed calligrapher.\nNo previous experience is necessary\, and all supplies will be provided. Class size is limited to 20.\nRegister at Eventbrite.com
URL:https://valleystreamszen.org/event/dharma-art-day-calligraphy-led-by-val-szymanski-4/
LOCATION:3111 Wissemann Drive\, Sacramento\, CA\, 95826\, United States
CATEGORIES:All Events,Retreat,Special Event
END:VEVENT
BEGIN:VEVENT
DTSTART;TZID=America/Los_Angeles:20190609T140000
DTEND;TZID=America/Los_Angeles:20190609T160000
DTSTAMP:20260425T193429
CREATED:20190609T155804Z
LAST-MODIFIED:20190609T155804Z
UID:10055-1560088800-1560096000@valleystreamszen.org
SUMMARY:Jukai Ceremony
DESCRIPTION:
URL:https://valleystreamszen.org/event/jukai-ceremony-4/
LOCATION:3111 Wissemann Drive\, Sacramento\, CA\, 95826\, United States
CATEGORIES:All Events,Special Event
END:VEVENT
BEGIN:VEVENT
DTSTART;TZID=America/Los_Angeles:20190615T090000
DTEND;TZID=America/Los_Angeles:20190615T140000
DTSTAMP:20260425T193429
CREATED:20190611T161251Z
LAST-MODIFIED:20190611T161251Z
UID:10056-1560589200-1560607200@valleystreamszen.org
SUMMARY:SDC Yard Sale - Volunteers needed!
DESCRIPTION:Clean out your closets and garage – then donate your lightly used items to the\nDharma Center Yard Sale. \nEmail Linda Dekker to volunteer and to arrange for dropping off donations at the Dharma Center.  zendekker@gmail.com
URL:https://valleystreamszen.org/event/sdc-yard-sale-volunteers-needed-4/
LOCATION:3111 Wissemann Drive\, Sacramento\, CA\, 95826\, United States
CATEGORIES:All Events,Special Event
END:VEVENT
END:VCALENDAR