BEGIN:VCALENDAR
VERSION:2.0
PRODID:-//Valley Streams Zen Sangha - ECPv6.15.18//NONSGML v1.0//EN
CALSCALE:GREGORIAN
METHOD:PUBLISH
X-WR-CALNAME:Valley Streams Zen Sangha
X-ORIGINAL-URL:https://valleystreamszen.org
X-WR-CALDESC:Events for Valley Streams Zen Sangha
REFRESH-INTERVAL;VALUE=DURATION:PT1H
X-Robots-Tag:noindex
X-PUBLISHED-TTL:PT1H
BEGIN:VTIMEZONE
TZID:America/Los_Angeles
BEGIN:DAYLIGHT
TZOFFSETFROM:-0800
TZOFFSETTO:-0700
TZNAME:PDT
DTSTART:20180311T100000
END:DAYLIGHT
BEGIN:STANDARD
TZOFFSETFROM:-0700
TZOFFSETTO:-0800
TZNAME:PST
DTSTART:20181104T090000
END:STANDARD
BEGIN:DAYLIGHT
TZOFFSETFROM:-0800
TZOFFSETTO:-0700
TZNAME:PDT
DTSTART:20190310T100000
END:DAYLIGHT
BEGIN:STANDARD
TZOFFSETFROM:-0700
TZOFFSETTO:-0800
TZNAME:PST
DTSTART:20191103T090000
END:STANDARD
BEGIN:DAYLIGHT
TZOFFSETFROM:-0800
TZOFFSETTO:-0700
TZNAME:PDT
DTSTART:20200308T100000
END:DAYLIGHT
BEGIN:STANDARD
TZOFFSETFROM:-0700
TZOFFSETTO:-0800
TZNAME:PST
DTSTART:20201101T090000
END:STANDARD
END:VTIMEZONE
BEGIN:VEVENT
DTSTART;TZID=America/Los_Angeles:20191103T100000
DTEND;TZID=America/Los_Angeles:20191103T130000
DTSTAMP:20260425T042138
CREATED:20191015T044636Z
LAST-MODIFIED:20191015T044636Z
UID:10074-1572775200-1572786000@valleystreamszen.org
SUMMARY:Sangha Annual Meeting & Potluck Brunch
DESCRIPTION:This is a once-a-year opportunity to meet your sangha friends\, new board members and get the news about Valley Streams Zen Sangha. All members\, along with their family & friends are warmly invited to attend. \nPlease let us know by email or in person\, what food offering\, and how many people you will bring. Drinks and utensils will be provided.
URL:https://valleystreamszen.org/event/sangha-annual-meeting-potluck-brunch-3-4/
LOCATION:3111 Wissemann Drive\, Sacramento\, CA\, 95826\, United States
CATEGORIES:All Events,Special Event
END:VEVENT
BEGIN:VEVENT
DTSTART;TZID=America/Los_Angeles:20191104T190000
DTEND;TZID=America/Los_Angeles:20191104T210000
DTSTAMP:20260425T042138
CREATED:20190326T231836Z
LAST-MODIFIED:20190326T231836Z
UID:9937-1572894000-1572901200@valleystreamszen.org
SUMMARY:Celebration of Doralee Grindler Katonah's Priest Ordination
DESCRIPTION:After zazen\, we will celebrate Doralee Grindler Katonah’s recent priest ordination with her root teacher\, Sojun Diane Martin\, with whom she has studied for the past 18 years.  Doralee’s ordination into the Soto Zen lineages of Shunryu Suzuki and Dainin Katagiri\, took place on October 19th at Indian Creek Zen Farm near Ottawa\, Illinois. \nDuring her time of priest training Rev. Val Szymanski\, Guiding Teacher at Bamboo in the Wind Zen Sangha in Sunnyvale\, CA. has been her second teacher\, here in California. Rev. Val received transmission from Roshi Diane Martin in 2010. In addition\, Cornelia Junfu Shonkwiler\, Head Teacher at Middle Way Zen in San Jose\, Ca.\, was Doralee’s sewing teacher. \nRev. Val with the assistance of Practice Leader Jim Hare will conduct this welcoming of priesthood ceremony at the Sacramento Dharma Center. \nAll are invited to share in this auspicious event and enjoy tea and treats after the ceremony.
URL:https://valleystreamszen.org/event/monday-evening-zazen-service-and-program-2019-07-22-2019-11-04-4/
LOCATION:3111 Wissemann Drive\, Sacramento\, CA\, 95826\, United States
CATEGORIES:All Events,Monday Night Meeting,Special Event
END:VEVENT
BEGIN:VEVENT
DTSTART;TZID=America/Los_Angeles:20191109T130000
DTEND;TZID=America/Los_Angeles:20191109T160000
DTSTAMP:20260425T042138
CREATED:20190827T185217Z
LAST-MODIFIED:20190827T185217Z
UID:10059-1573304400-1573315200@valleystreamszen.org
SUMMARY:Sacramento Dharma Center's Third Anniversary Party
DESCRIPTION:You are invited to celebrate what your generous time\, effort and financial support has manifested as we mark another year together in our beautiful Dharma Center building. Bring your family and friends!\nMore details at SDC website. \nIf you would like to be on the volunteer committee for the party contact Linda Dekker at zendekker@gmail.com.
URL:https://valleystreamszen.org/event/sacramento-dharma-centers-third-anniversary-party-4/
LOCATION:3111 Wissemann Drive\, Sacramento\, CA\, 95826\, United States
CATEGORIES:All Events,Special Event
END:VEVENT
END:VCALENDAR