BEGIN:VCALENDAR
VERSION:2.0
PRODID:-//Valley Streams Zen Sangha - ECPv6.15.18//NONSGML v1.0//EN
CALSCALE:GREGORIAN
METHOD:PUBLISH
X-ORIGINAL-URL:https://valleystreamszen.org
X-WR-CALDESC:Events for Valley Streams Zen Sangha
REFRESH-INTERVAL;VALUE=DURATION:PT1H
X-Robots-Tag:noindex
X-PUBLISHED-TTL:PT1H
BEGIN:VTIMEZONE
TZID:America/Los_Angeles
BEGIN:DAYLIGHT
TZOFFSETFROM:-0800
TZOFFSETTO:-0700
TZNAME:PDT
DTSTART:20180311T100000
END:DAYLIGHT
BEGIN:STANDARD
TZOFFSETFROM:-0700
TZOFFSETTO:-0800
TZNAME:PST
DTSTART:20181104T090000
END:STANDARD
BEGIN:DAYLIGHT
TZOFFSETFROM:-0800
TZOFFSETTO:-0700
TZNAME:PDT
DTSTART:20190310T100000
END:DAYLIGHT
BEGIN:STANDARD
TZOFFSETFROM:-0700
TZOFFSETTO:-0800
TZNAME:PST
DTSTART:20191103T090000
END:STANDARD
BEGIN:DAYLIGHT
TZOFFSETFROM:-0800
TZOFFSETTO:-0700
TZNAME:PDT
DTSTART:20200308T100000
END:DAYLIGHT
BEGIN:STANDARD
TZOFFSETFROM:-0700
TZOFFSETTO:-0800
TZNAME:PST
DTSTART:20201101T090000
END:STANDARD
END:VTIMEZONE
BEGIN:VEVENT
DTSTART;TZID=America/Los_Angeles:20190919T171500
DTEND;TZID=America/Los_Angeles:20190919T203000
DTSTAMP:20260425T073850
CREATED:20190608T224907Z
LAST-MODIFIED:20190608T224907Z
UID:10054-1568913300-1568925000@valleystreamszen.org
SUMMARY:Nature walk: Bats of the Yolo Bypass Wildlife Area
DESCRIPTION:Join us at Yolo Basin Wildlife Headquarters for this special event of seeing and learning about the Mexican Free-tailed Bats. Following a 45-minute indoor presentation on bat natural history\, the group will carpool to the Yolo Bypass Wildlife Area to watch one of the largest colonies of  bats in California as it emerges in large ribbons to hunt insects at sunset. To get to the bat viewing site\, we will travel through leased rice farming fields to an area not open to the public. The whole experience takes about three hours. This is a family friendly event with a small amount of walking. \nDirections from Sacramento:  From interstate 80 West take the Mace Boulevard Exit in Davis.  Turn left at the off-ramp light.  Turn left at the next light at the Mace Boulevard and Chiles Road intersection. Once on Chiles Road east of the Mace intersection\, travel approximately 1.5 mileseast to the Yolo Bypass Wildlife Area headquarters\, 45211 County Road 32B (Chiles Road). \nWant to Carpool?  Meet at the Sacramento Dharma Center at 4:30 p.m. (3111 Wissemann Dr.\, Sacramento) Consider parking on the street as this is a SIM practice evening. \n**Sign up at a sangha meeting or email info@valleystreamszen.org to let us know how many people you will bring.
URL:https://valleystreamszen.org/event/nature-walk-bats-at-the-yolo-causeway-4/
LOCATION:3111 Wissemann Drive\, Sacramento\, CA\, 95826\, United States
CATEGORIES:All Events,Special Event
END:VEVENT
END:VCALENDAR