BEGIN:VCALENDAR
VERSION:2.0
PRODID:-//Valley Streams Zen Sangha - ECPv6.15.18//NONSGML v1.0//EN
CALSCALE:GREGORIAN
METHOD:PUBLISH
X-WR-CALNAME:Valley Streams Zen Sangha
X-ORIGINAL-URL:https://valleystreamszen.org
X-WR-CALDESC:Events for Valley Streams Zen Sangha
REFRESH-INTERVAL;VALUE=DURATION:PT1H
X-Robots-Tag:noindex
X-PUBLISHED-TTL:PT1H
BEGIN:VTIMEZONE
TZID:America/Los_Angeles
BEGIN:DAYLIGHT
TZOFFSETFROM:-0800
TZOFFSETTO:-0700
TZNAME:PDT
DTSTART:20180311T100000
END:DAYLIGHT
BEGIN:STANDARD
TZOFFSETFROM:-0700
TZOFFSETTO:-0800
TZNAME:PST
DTSTART:20181104T090000
END:STANDARD
BEGIN:DAYLIGHT
TZOFFSETFROM:-0800
TZOFFSETTO:-0700
TZNAME:PDT
DTSTART:20190310T100000
END:DAYLIGHT
BEGIN:STANDARD
TZOFFSETFROM:-0700
TZOFFSETTO:-0800
TZNAME:PST
DTSTART:20191103T090000
END:STANDARD
BEGIN:DAYLIGHT
TZOFFSETFROM:-0800
TZOFFSETTO:-0700
TZNAME:PDT
DTSTART:20200308T100000
END:DAYLIGHT
BEGIN:STANDARD
TZOFFSETFROM:-0700
TZOFFSETTO:-0800
TZNAME:PST
DTSTART:20201101T090000
END:STANDARD
END:VTIMEZONE
BEGIN:VEVENT
DTSTART;TZID=America/Los_Angeles:20191012T083000
DTEND;TZID=America/Los_Angeles:20191012T130000
DTSTAMP:20260425T085337
CREATED:20191007T182847Z
LAST-MODIFIED:20191007T182847Z
UID:10073-1570869000-1570885200@valleystreamszen.org
SUMMARY:Thangka Paintings - History\, Construction & Symbols
DESCRIPTION:Gus Koehler will offer a half-day course on the study of Buddhist Thangkas\, and how to use them to support practice. Gus will decode the symbols and meanings of the Buddha Shakyamuni\, Manjusri\, and White Tara paintings which hang in our meditation hall. The Wheel of Time image will also be examined. \nGus has studied with various teachers including: Paramahansa Muktananda\, Sixteenth Gyalwa Karmapa\, Rangjung Rigpe Dorje\, Ajit Mukerji\, Sogyal Rinpoche\, His Holiness the Dali Lama\, Lama Lodo\, Lama Surya Das\, Anam Thubten\, Lama Dawa and Dzogchen Lama Drimed.
URL:https://valleystreamszen.org/event/thangka-paintings-history-construction-symbols-4/
LOCATION:3111 Wissemann Drive\, Sacramento\, CA\, 95826\, United States
CATEGORIES:All Events,Special Event
END:VEVENT
END:VCALENDAR