BEGIN:VCALENDAR
VERSION:2.0
PRODID:-//Valley Streams Zen Sangha - ECPv6.15.18//NONSGML v1.0//EN
CALSCALE:GREGORIAN
METHOD:PUBLISH
X-WR-CALNAME:Valley Streams Zen Sangha
X-ORIGINAL-URL:https://valleystreamszen.org
X-WR-CALDESC:Events for Valley Streams Zen Sangha
REFRESH-INTERVAL;VALUE=DURATION:PT1H
X-Robots-Tag:noindex
X-PUBLISHED-TTL:PT1H
BEGIN:VTIMEZONE
TZID:America/Los_Angeles
BEGIN:DAYLIGHT
TZOFFSETFROM:-0800
TZOFFSETTO:-0700
TZNAME:PDT
DTSTART:20190310T100000
END:DAYLIGHT
BEGIN:STANDARD
TZOFFSETFROM:-0700
TZOFFSETTO:-0800
TZNAME:PST
DTSTART:20191103T090000
END:STANDARD
BEGIN:DAYLIGHT
TZOFFSETFROM:-0800
TZOFFSETTO:-0700
TZNAME:PDT
DTSTART:20200308T100000
END:DAYLIGHT
BEGIN:STANDARD
TZOFFSETFROM:-0700
TZOFFSETTO:-0800
TZNAME:PST
DTSTART:20201101T090000
END:STANDARD
BEGIN:DAYLIGHT
TZOFFSETFROM:-0800
TZOFFSETTO:-0700
TZNAME:PDT
DTSTART:20210314T100000
END:DAYLIGHT
BEGIN:STANDARD
TZOFFSETFROM:-0700
TZOFFSETTO:-0800
TZNAME:PST
DTSTART:20211107T090000
END:STANDARD
END:VTIMEZONE
BEGIN:VEVENT
DTSTART;TZID=America/Los_Angeles:20200319T080000
DTEND;TZID=America/Los_Angeles:20200319T090000
DTSTAMP:20260424T044334
CREATED:20190608T020132Z
LAST-MODIFIED:20190608T020132Z
UID:9957-1584604800-1584608400@valleystreamszen.org
SUMMARY:Study Group (meeting online via Zoom)
DESCRIPTION:Study is one of the pillars of Zen practice. Please join us every Thursday morning for our ongoing study group to discuss ancient and contemporary texts. \n\nFacilitated by Rev. So-On Jim Hare.\nReadings from Mahayana Buddhism & Soto Zen texts and commentaries.\nContact Rollin Ives (twl4148@gmail.com) for current readings.
URL:https://valleystreamszen.org/event/study-group-4-2020-03-19-4/
LOCATION:3111 Wissemann Drive\, Sacramento\, CA\, 95826\, United States
CATEGORIES:All Events,CLOSED,Study Group
END:VEVENT
END:VCALENDAR