BEGIN:VCALENDAR
VERSION:2.0
PRODID:-//Valley Streams Zen Sangha - ECPv6.15.18//NONSGML v1.0//EN
CALSCALE:GREGORIAN
METHOD:PUBLISH
X-ORIGINAL-URL:https://valleystreamszen.org
X-WR-CALDESC:Events for Valley Streams Zen Sangha
REFRESH-INTERVAL;VALUE=DURATION:PT1H
X-Robots-Tag:noindex
X-PUBLISHED-TTL:PT1H
BEGIN:VTIMEZONE
TZID:America/Los_Angeles
BEGIN:DAYLIGHT
TZOFFSETFROM:-0800
TZOFFSETTO:-0700
TZNAME:PDT
DTSTART:20250309T100000
END:DAYLIGHT
BEGIN:STANDARD
TZOFFSETFROM:-0700
TZOFFSETTO:-0800
TZNAME:PST
DTSTART:20251102T090000
END:STANDARD
BEGIN:DAYLIGHT
TZOFFSETFROM:-0800
TZOFFSETTO:-0700
TZNAME:PDT
DTSTART:20260308T100000
END:DAYLIGHT
BEGIN:STANDARD
TZOFFSETFROM:-0700
TZOFFSETTO:-0800
TZNAME:PST
DTSTART:20261101T090000
END:STANDARD
BEGIN:DAYLIGHT
TZOFFSETFROM:-0800
TZOFFSETTO:-0700
TZNAME:PDT
DTSTART:20270314T100000
END:DAYLIGHT
BEGIN:STANDARD
TZOFFSETFROM:-0700
TZOFFSETTO:-0800
TZNAME:PST
DTSTART:20271107T090000
END:STANDARD
END:VTIMEZONE
BEGIN:VEVENT
DTSTART;TZID=America/Los_Angeles:20260730T080000
DTEND;TZID=America/Los_Angeles:20260730T090000
DTSTAMP:20260420T225059
CREATED:20230521T144946Z
LAST-MODIFIED:20251220T212121Z
UID:20240-1785398400-1785402000@valleystreamszen.org
SUMMARY:Study Group (Hybrid)
DESCRIPTION:The Zen Study Group meets at the Sacramento Dharma Center and on Zoom. The study group is facilitated by Rev. So’on Jim Hare\, with readings from ancient and contemporary Mahayana Buddhist & Soto Zen texts and commentaries. \nTo join the Thursday morning study group\, email the coordinator\, Rollin Ives\, twl4148@gmail.com
URL:https://valleystreamszen.org/event/study-group-hybrid-2023-09-28/2026-07-30/
LOCATION:Sacramento Dharma Center\, Sacramento Dharma Center\, 3111 Wissemann Drive\, Sacramento\, CA\, 95826\, United States
CATEGORIES:All Events,Hybrid Event,Study Group
ORGANIZER;CN="Valley Streams Zen Sangha":MAILTO:info@valleystreamszen.org
END:VEVENT
BEGIN:VEVENT
DTSTART;TZID=America/Los_Angeles:20260806T080000
DTEND;TZID=America/Los_Angeles:20260806T090000
DTSTAMP:20260420T225059
CREATED:20230521T144946Z
LAST-MODIFIED:20251220T212122Z
UID:20241-1786003200-1786006800@valleystreamszen.org
SUMMARY:Study Group (Hybrid)
DESCRIPTION:The Zen Study Group meets at the Sacramento Dharma Center and on Zoom. The study group is facilitated by Rev. So’on Jim Hare\, with readings from ancient and contemporary Mahayana Buddhist & Soto Zen texts and commentaries. \nTo join the Thursday morning study group\, email the coordinator\, Rollin Ives\, twl4148@gmail.com
URL:https://valleystreamszen.org/event/study-group-hybrid-2023-09-28/2026-08-06/
LOCATION:Sacramento Dharma Center\, Sacramento Dharma Center\, 3111 Wissemann Drive\, Sacramento\, CA\, 95826\, United States
CATEGORIES:All Events,Hybrid Event,Study Group
ORGANIZER;CN="Valley Streams Zen Sangha":MAILTO:info@valleystreamszen.org
END:VEVENT
BEGIN:VEVENT
DTSTART;TZID=America/Los_Angeles:20260813T080000
DTEND;TZID=America/Los_Angeles:20260813T090000
DTSTAMP:20260420T225059
CREATED:20230521T144946Z
LAST-MODIFIED:20251220T212123Z
UID:20242-1786608000-1786611600@valleystreamszen.org
SUMMARY:Study Group (Hybrid)
DESCRIPTION:The Zen Study Group meets at the Sacramento Dharma Center and on Zoom. The study group is facilitated by Rev. So’on Jim Hare\, with readings from ancient and contemporary Mahayana Buddhist & Soto Zen texts and commentaries. \nTo join the Thursday morning study group\, email the coordinator\, Rollin Ives\, twl4148@gmail.com
URL:https://valleystreamszen.org/event/study-group-hybrid-2023-09-28/2026-08-13/
LOCATION:Sacramento Dharma Center\, Sacramento Dharma Center\, 3111 Wissemann Drive\, Sacramento\, CA\, 95826\, United States
CATEGORIES:All Events,Hybrid Event,Study Group
ORGANIZER;CN="Valley Streams Zen Sangha":MAILTO:info@valleystreamszen.org
END:VEVENT
BEGIN:VEVENT
DTSTART;TZID=America/Los_Angeles:20260820T080000
DTEND;TZID=America/Los_Angeles:20260820T090000
DTSTAMP:20260420T225059
CREATED:20230521T144946Z
LAST-MODIFIED:20251220T212124Z
UID:20243-1787212800-1787216400@valleystreamszen.org
SUMMARY:Study Group (Hybrid)
DESCRIPTION:The Zen Study Group meets at the Sacramento Dharma Center and on Zoom. The study group is facilitated by Rev. So’on Jim Hare\, with readings from ancient and contemporary Mahayana Buddhist & Soto Zen texts and commentaries. \nTo join the Thursday morning study group\, email the coordinator\, Rollin Ives\, twl4148@gmail.com
URL:https://valleystreamszen.org/event/study-group-hybrid-2023-09-28/2026-08-20/
LOCATION:Sacramento Dharma Center\, Sacramento Dharma Center\, 3111 Wissemann Drive\, Sacramento\, CA\, 95826\, United States
CATEGORIES:All Events,Hybrid Event,Study Group
ORGANIZER;CN="Valley Streams Zen Sangha":MAILTO:info@valleystreamszen.org
END:VEVENT
BEGIN:VEVENT
DTSTART;TZID=America/Los_Angeles:20260827T080000
DTEND;TZID=America/Los_Angeles:20260827T090000
DTSTAMP:20260420T225059
CREATED:20230521T144946Z
LAST-MODIFIED:20251220T212125Z
UID:20244-1787817600-1787821200@valleystreamszen.org
SUMMARY:Study Group (Hybrid)
DESCRIPTION:The Zen Study Group meets at the Sacramento Dharma Center and on Zoom. The study group is facilitated by Rev. So’on Jim Hare\, with readings from ancient and contemporary Mahayana Buddhist & Soto Zen texts and commentaries. \nTo join the Thursday morning study group\, email the coordinator\, Rollin Ives\, twl4148@gmail.com
URL:https://valleystreamszen.org/event/study-group-hybrid-2023-09-28/2026-08-27/
LOCATION:Sacramento Dharma Center\, Sacramento Dharma Center\, 3111 Wissemann Drive\, Sacramento\, CA\, 95826\, United States
CATEGORIES:All Events,Hybrid Event,Study Group
ORGANIZER;CN="Valley Streams Zen Sangha":MAILTO:info@valleystreamszen.org
END:VEVENT
BEGIN:VEVENT
DTSTART;TZID=America/Los_Angeles:20260903T080000
DTEND;TZID=America/Los_Angeles:20260903T090000
DTSTAMP:20260420T225059
CREATED:20230521T144946Z
LAST-MODIFIED:20251220T212125Z
UID:20245-1788422400-1788426000@valleystreamszen.org
SUMMARY:Study Group (Hybrid)
DESCRIPTION:The Zen Study Group meets at the Sacramento Dharma Center and on Zoom. The study group is facilitated by Rev. So’on Jim Hare\, with readings from ancient and contemporary Mahayana Buddhist & Soto Zen texts and commentaries. \nTo join the Thursday morning study group\, email the coordinator\, Rollin Ives\, twl4148@gmail.com
URL:https://valleystreamszen.org/event/study-group-hybrid-2023-09-28/2026-09-03/
LOCATION:Sacramento Dharma Center\, Sacramento Dharma Center\, 3111 Wissemann Drive\, Sacramento\, CA\, 95826\, United States
CATEGORIES:All Events,Hybrid Event,Study Group
ORGANIZER;CN="Valley Streams Zen Sangha":MAILTO:info@valleystreamszen.org
END:VEVENT
BEGIN:VEVENT
DTSTART;TZID=America/Los_Angeles:20260910T080000
DTEND;TZID=America/Los_Angeles:20260910T090000
DTSTAMP:20260420T225059
CREATED:20230521T144946Z
LAST-MODIFIED:20251220T212128Z
UID:20246-1789027200-1789030800@valleystreamszen.org
SUMMARY:Study Group (Hybrid)
DESCRIPTION:The Zen Study Group meets at the Sacramento Dharma Center and on Zoom. The study group is facilitated by Rev. So’on Jim Hare\, with readings from ancient and contemporary Mahayana Buddhist & Soto Zen texts and commentaries. \nTo join the Thursday morning study group\, email the coordinator\, Rollin Ives\, twl4148@gmail.com
URL:https://valleystreamszen.org/event/study-group-hybrid-2023-09-28/2026-09-10/
LOCATION:Sacramento Dharma Center\, Sacramento Dharma Center\, 3111 Wissemann Drive\, Sacramento\, CA\, 95826\, United States
CATEGORIES:All Events,Hybrid Event,Study Group
ORGANIZER;CN="Valley Streams Zen Sangha":MAILTO:info@valleystreamszen.org
END:VEVENT
BEGIN:VEVENT
DTSTART;TZID=America/Los_Angeles:20260917T080000
DTEND;TZID=America/Los_Angeles:20260917T090000
DTSTAMP:20260420T225059
CREATED:20230521T144946Z
LAST-MODIFIED:20251220T212129Z
UID:20247-1789632000-1789635600@valleystreamszen.org
SUMMARY:Study Group (Hybrid)
DESCRIPTION:The Zen Study Group meets at the Sacramento Dharma Center and on Zoom. The study group is facilitated by Rev. So’on Jim Hare\, with readings from ancient and contemporary Mahayana Buddhist & Soto Zen texts and commentaries. \nTo join the Thursday morning study group\, email the coordinator\, Rollin Ives\, twl4148@gmail.com
URL:https://valleystreamszen.org/event/study-group-hybrid-2023-09-28/2026-09-17/
LOCATION:Sacramento Dharma Center\, Sacramento Dharma Center\, 3111 Wissemann Drive\, Sacramento\, CA\, 95826\, United States
CATEGORIES:All Events,Hybrid Event,Study Group
ORGANIZER;CN="Valley Streams Zen Sangha":MAILTO:info@valleystreamszen.org
END:VEVENT
BEGIN:VEVENT
DTSTART;TZID=America/Los_Angeles:20260924T080000
DTEND;TZID=America/Los_Angeles:20260924T090000
DTSTAMP:20260420T225059
CREATED:20230521T144946Z
LAST-MODIFIED:20251220T212130Z
UID:20248-1790236800-1790240400@valleystreamszen.org
SUMMARY:Study Group (Hybrid)
DESCRIPTION:The Zen Study Group meets at the Sacramento Dharma Center and on Zoom. The study group is facilitated by Rev. So’on Jim Hare\, with readings from ancient and contemporary Mahayana Buddhist & Soto Zen texts and commentaries. \nTo join the Thursday morning study group\, email the coordinator\, Rollin Ives\, twl4148@gmail.com
URL:https://valleystreamszen.org/event/study-group-hybrid-2023-09-28/2026-09-24/
LOCATION:Sacramento Dharma Center\, Sacramento Dharma Center\, 3111 Wissemann Drive\, Sacramento\, CA\, 95826\, United States
CATEGORIES:All Events,Hybrid Event,Study Group
ORGANIZER;CN="Valley Streams Zen Sangha":MAILTO:info@valleystreamszen.org
END:VEVENT
BEGIN:VEVENT
DTSTART;TZID=America/Los_Angeles:20261001T080000
DTEND;TZID=America/Los_Angeles:20261001T090000
DTSTAMP:20260420T225059
CREATED:20230521T144946Z
LAST-MODIFIED:20251220T212131Z
UID:20249-1790841600-1790845200@valleystreamszen.org
SUMMARY:Study Group (Hybrid)
DESCRIPTION:The Zen Study Group meets at the Sacramento Dharma Center and on Zoom. The study group is facilitated by Rev. So’on Jim Hare\, with readings from ancient and contemporary Mahayana Buddhist & Soto Zen texts and commentaries. \nTo join the Thursday morning study group\, email the coordinator\, Rollin Ives\, twl4148@gmail.com
URL:https://valleystreamszen.org/event/study-group-hybrid-2023-09-28/2026-10-01/
LOCATION:Sacramento Dharma Center\, Sacramento Dharma Center\, 3111 Wissemann Drive\, Sacramento\, CA\, 95826\, United States
CATEGORIES:All Events,Hybrid Event,Study Group
ORGANIZER;CN="Valley Streams Zen Sangha":MAILTO:info@valleystreamszen.org
END:VEVENT
BEGIN:VEVENT
DTSTART;TZID=America/Los_Angeles:20261008T080000
DTEND;TZID=America/Los_Angeles:20261008T090000
DTSTAMP:20260420T225059
CREATED:20230521T144946Z
LAST-MODIFIED:20251220T212132Z
UID:20250-1791446400-1791450000@valleystreamszen.org
SUMMARY:Study Group (Hybrid)
DESCRIPTION:The Zen Study Group meets at the Sacramento Dharma Center and on Zoom. The study group is facilitated by Rev. So’on Jim Hare\, with readings from ancient and contemporary Mahayana Buddhist & Soto Zen texts and commentaries. \nTo join the Thursday morning study group\, email the coordinator\, Rollin Ives\, twl4148@gmail.com
URL:https://valleystreamszen.org/event/study-group-hybrid-2023-09-28/2026-10-08/
LOCATION:Sacramento Dharma Center\, Sacramento Dharma Center\, 3111 Wissemann Drive\, Sacramento\, CA\, 95826\, United States
CATEGORIES:All Events,Hybrid Event,Study Group
ORGANIZER;CN="Valley Streams Zen Sangha":MAILTO:info@valleystreamszen.org
END:VEVENT
BEGIN:VEVENT
DTSTART;TZID=America/Los_Angeles:20261015T080000
DTEND;TZID=America/Los_Angeles:20261015T090000
DTSTAMP:20260420T225059
CREATED:20230521T144946Z
LAST-MODIFIED:20251220T212133Z
UID:20251-1792051200-1792054800@valleystreamszen.org
SUMMARY:Study Group (Hybrid)
DESCRIPTION:The Zen Study Group meets at the Sacramento Dharma Center and on Zoom. The study group is facilitated by Rev. So’on Jim Hare\, with readings from ancient and contemporary Mahayana Buddhist & Soto Zen texts and commentaries. \nTo join the Thursday morning study group\, email the coordinator\, Rollin Ives\, twl4148@gmail.com
URL:https://valleystreamszen.org/event/study-group-hybrid-2023-09-28/2026-10-15/
LOCATION:Sacramento Dharma Center\, Sacramento Dharma Center\, 3111 Wissemann Drive\, Sacramento\, CA\, 95826\, United States
CATEGORIES:All Events,Hybrid Event,Study Group
ORGANIZER;CN="Valley Streams Zen Sangha":MAILTO:info@valleystreamszen.org
END:VEVENT
BEGIN:VEVENT
DTSTART;TZID=America/Los_Angeles:20261022T080000
DTEND;TZID=America/Los_Angeles:20261022T090000
DTSTAMP:20260420T225059
CREATED:20230521T144946Z
LAST-MODIFIED:20251220T212134Z
UID:20252-1792656000-1792659600@valleystreamszen.org
SUMMARY:Study Group (Hybrid)
DESCRIPTION:The Zen Study Group meets at the Sacramento Dharma Center and on Zoom. The study group is facilitated by Rev. So’on Jim Hare\, with readings from ancient and contemporary Mahayana Buddhist & Soto Zen texts and commentaries. \nTo join the Thursday morning study group\, email the coordinator\, Rollin Ives\, twl4148@gmail.com
URL:https://valleystreamszen.org/event/study-group-hybrid-2023-09-28/2026-10-22/
LOCATION:Sacramento Dharma Center\, Sacramento Dharma Center\, 3111 Wissemann Drive\, Sacramento\, CA\, 95826\, United States
CATEGORIES:All Events,Hybrid Event,Study Group
ORGANIZER;CN="Valley Streams Zen Sangha":MAILTO:info@valleystreamszen.org
END:VEVENT
BEGIN:VEVENT
DTSTART;TZID=America/Los_Angeles:20261029T080000
DTEND;TZID=America/Los_Angeles:20261029T090000
DTSTAMP:20260420T225059
CREATED:20230521T144946Z
LAST-MODIFIED:20251220T212135Z
UID:20253-1793260800-1793264400@valleystreamszen.org
SUMMARY:Study Group (Hybrid)
DESCRIPTION:The Zen Study Group meets at the Sacramento Dharma Center and on Zoom. The study group is facilitated by Rev. So’on Jim Hare\, with readings from ancient and contemporary Mahayana Buddhist & Soto Zen texts and commentaries. \nTo join the Thursday morning study group\, email the coordinator\, Rollin Ives\, twl4148@gmail.com
URL:https://valleystreamszen.org/event/study-group-hybrid-2023-09-28/2026-10-29/
LOCATION:Sacramento Dharma Center\, Sacramento Dharma Center\, 3111 Wissemann Drive\, Sacramento\, CA\, 95826\, United States
CATEGORIES:All Events,Hybrid Event,Study Group
ORGANIZER;CN="Valley Streams Zen Sangha":MAILTO:info@valleystreamszen.org
END:VEVENT
BEGIN:VEVENT
DTSTART;TZID=America/Los_Angeles:20261105T080000
DTEND;TZID=America/Los_Angeles:20261105T090000
DTSTAMP:20260420T225059
CREATED:20230521T144946Z
LAST-MODIFIED:20251220T212136Z
UID:20254-1793865600-1793869200@valleystreamszen.org
SUMMARY:Study Group (Hybrid)
DESCRIPTION:The Zen Study Group meets at the Sacramento Dharma Center and on Zoom. The study group is facilitated by Rev. So’on Jim Hare\, with readings from ancient and contemporary Mahayana Buddhist & Soto Zen texts and commentaries. \nTo join the Thursday morning study group\, email the coordinator\, Rollin Ives\, twl4148@gmail.com
URL:https://valleystreamszen.org/event/study-group-hybrid-2023-09-28/2026-11-05/
LOCATION:Sacramento Dharma Center\, Sacramento Dharma Center\, 3111 Wissemann Drive\, Sacramento\, CA\, 95826\, United States
CATEGORIES:All Events,Hybrid Event,Study Group
ORGANIZER;CN="Valley Streams Zen Sangha":MAILTO:info@valleystreamszen.org
END:VEVENT
BEGIN:VEVENT
DTSTART;TZID=America/Los_Angeles:20261112T080000
DTEND;TZID=America/Los_Angeles:20261112T090000
DTSTAMP:20260420T225059
CREATED:20230521T144946Z
LAST-MODIFIED:20251220T212137Z
UID:20255-1794470400-1794474000@valleystreamszen.org
SUMMARY:Study Group (Hybrid)
DESCRIPTION:The Zen Study Group meets at the Sacramento Dharma Center and on Zoom. The study group is facilitated by Rev. So’on Jim Hare\, with readings from ancient and contemporary Mahayana Buddhist & Soto Zen texts and commentaries. \nTo join the Thursday morning study group\, email the coordinator\, Rollin Ives\, twl4148@gmail.com
URL:https://valleystreamszen.org/event/study-group-hybrid-2023-09-28/2026-11-12/
LOCATION:Sacramento Dharma Center\, Sacramento Dharma Center\, 3111 Wissemann Drive\, Sacramento\, CA\, 95826\, United States
CATEGORIES:All Events,Hybrid Event,Study Group
ORGANIZER;CN="Valley Streams Zen Sangha":MAILTO:info@valleystreamszen.org
END:VEVENT
BEGIN:VEVENT
DTSTART;TZID=America/Los_Angeles:20261119T080000
DTEND;TZID=America/Los_Angeles:20261119T090000
DTSTAMP:20260420T225059
CREATED:20230521T144946Z
LAST-MODIFIED:20251220T212141Z
UID:20256-1795075200-1795078800@valleystreamszen.org
SUMMARY:Study Group (Hybrid)
DESCRIPTION:The Zen Study Group meets at the Sacramento Dharma Center and on Zoom. The study group is facilitated by Rev. So’on Jim Hare\, with readings from ancient and contemporary Mahayana Buddhist & Soto Zen texts and commentaries. \nTo join the Thursday morning study group\, email the coordinator\, Rollin Ives\, twl4148@gmail.com
URL:https://valleystreamszen.org/event/study-group-hybrid-2023-09-28/2026-11-19/
LOCATION:Sacramento Dharma Center\, Sacramento Dharma Center\, 3111 Wissemann Drive\, Sacramento\, CA\, 95826\, United States
CATEGORIES:All Events,Hybrid Event,Study Group
ORGANIZER;CN="Valley Streams Zen Sangha":MAILTO:info@valleystreamszen.org
END:VEVENT
BEGIN:VEVENT
DTSTART;TZID=America/Los_Angeles:20261126T080000
DTEND;TZID=America/Los_Angeles:20261126T090000
DTSTAMP:20260420T225059
CREATED:20230521T144946Z
LAST-MODIFIED:20251220T212142Z
UID:20257-1795680000-1795683600@valleystreamszen.org
SUMMARY:Study Group (Hybrid)
DESCRIPTION:The Zen Study Group meets at the Sacramento Dharma Center and on Zoom. The study group is facilitated by Rev. So’on Jim Hare\, with readings from ancient and contemporary Mahayana Buddhist & Soto Zen texts and commentaries. \nTo join the Thursday morning study group\, email the coordinator\, Rollin Ives\, twl4148@gmail.com
URL:https://valleystreamszen.org/event/study-group-hybrid-2023-09-28/2026-11-26/
LOCATION:Sacramento Dharma Center\, Sacramento Dharma Center\, 3111 Wissemann Drive\, Sacramento\, CA\, 95826\, United States
CATEGORIES:All Events,Hybrid Event,Study Group
ORGANIZER;CN="Valley Streams Zen Sangha":MAILTO:info@valleystreamszen.org
END:VEVENT
BEGIN:VEVENT
DTSTART;TZID=America/Los_Angeles:20261203T080000
DTEND;TZID=America/Los_Angeles:20261203T090000
DTSTAMP:20260420T225100
CREATED:20230521T144946Z
LAST-MODIFIED:20251220T212142Z
UID:20258-1796284800-1796288400@valleystreamszen.org
SUMMARY:Study Group (Hybrid)
DESCRIPTION:The Zen Study Group meets at the Sacramento Dharma Center and on Zoom. The study group is facilitated by Rev. So’on Jim Hare\, with readings from ancient and contemporary Mahayana Buddhist & Soto Zen texts and commentaries. \nTo join the Thursday morning study group\, email the coordinator\, Rollin Ives\, twl4148@gmail.com
URL:https://valleystreamszen.org/event/study-group-hybrid-2023-09-28/2026-12-03/
LOCATION:Sacramento Dharma Center\, Sacramento Dharma Center\, 3111 Wissemann Drive\, Sacramento\, CA\, 95826\, United States
CATEGORIES:All Events,Hybrid Event,Study Group
ORGANIZER;CN="Valley Streams Zen Sangha":MAILTO:info@valleystreamszen.org
END:VEVENT
BEGIN:VEVENT
DTSTART;TZID=America/Los_Angeles:20261210T080000
DTEND;TZID=America/Los_Angeles:20261210T090000
DTSTAMP:20260420T225100
CREATED:20230521T144946Z
LAST-MODIFIED:20251220T212143Z
UID:20259-1796889600-1796893200@valleystreamszen.org
SUMMARY:Study Group (Hybrid)
DESCRIPTION:The Zen Study Group meets at the Sacramento Dharma Center and on Zoom. The study group is facilitated by Rev. So’on Jim Hare\, with readings from ancient and contemporary Mahayana Buddhist & Soto Zen texts and commentaries. \nTo join the Thursday morning study group\, email the coordinator\, Rollin Ives\, twl4148@gmail.com
URL:https://valleystreamszen.org/event/study-group-hybrid-2023-09-28/2026-12-10/
LOCATION:Sacramento Dharma Center\, Sacramento Dharma Center\, 3111 Wissemann Drive\, Sacramento\, CA\, 95826\, United States
CATEGORIES:All Events,Hybrid Event,Study Group
ORGANIZER;CN="Valley Streams Zen Sangha":MAILTO:info@valleystreamszen.org
END:VEVENT
BEGIN:VEVENT
DTSTART;TZID=America/Los_Angeles:20261217T080000
DTEND;TZID=America/Los_Angeles:20261217T090000
DTSTAMP:20260420T225100
CREATED:20230521T144946Z
LAST-MODIFIED:20251220T212144Z
UID:20260-1797494400-1797498000@valleystreamszen.org
SUMMARY:Study Group (Hybrid)
DESCRIPTION:The Zen Study Group meets at the Sacramento Dharma Center and on Zoom. The study group is facilitated by Rev. So’on Jim Hare\, with readings from ancient and contemporary Mahayana Buddhist & Soto Zen texts and commentaries. \nTo join the Thursday morning study group\, email the coordinator\, Rollin Ives\, twl4148@gmail.com
URL:https://valleystreamszen.org/event/study-group-hybrid-2023-09-28/2026-12-17/
LOCATION:Sacramento Dharma Center\, Sacramento Dharma Center\, 3111 Wissemann Drive\, Sacramento\, CA\, 95826\, United States
CATEGORIES:All Events,Hybrid Event,Study Group
ORGANIZER;CN="Valley Streams Zen Sangha":MAILTO:info@valleystreamszen.org
END:VEVENT
BEGIN:VEVENT
DTSTART;TZID=America/Los_Angeles:20261224T080000
DTEND;TZID=America/Los_Angeles:20261224T090000
DTSTAMP:20260420T225100
CREATED:20230521T144946Z
LAST-MODIFIED:20251220T212145Z
UID:20262-1798099200-1798102800@valleystreamszen.org
SUMMARY:Study Group (Hybrid)
DESCRIPTION:The Zen Study Group meets at the Sacramento Dharma Center and on Zoom. The study group is facilitated by Rev. So’on Jim Hare\, with readings from ancient and contemporary Mahayana Buddhist & Soto Zen texts and commentaries. \nTo join the Thursday morning study group\, email the coordinator\, Rollin Ives\, twl4148@gmail.com
URL:https://valleystreamszen.org/event/study-group-hybrid-2023-09-28/2026-12-24/
LOCATION:Sacramento Dharma Center\, Sacramento Dharma Center\, 3111 Wissemann Drive\, Sacramento\, CA\, 95826\, United States
CATEGORIES:All Events,Hybrid Event,Study Group
ORGANIZER;CN="Valley Streams Zen Sangha":MAILTO:info@valleystreamszen.org
END:VEVENT
END:VCALENDAR