BEGIN:VCALENDAR
VERSION:2.0
PRODID:-//Valley Streams Zen Sangha - ECPv6.15.18//NONSGML v1.0//EN
CALSCALE:GREGORIAN
METHOD:PUBLISH
X-WR-CALNAME:Valley Streams Zen Sangha
X-ORIGINAL-URL:https://valleystreamszen.org
X-WR-CALDESC:Events for Valley Streams Zen Sangha
REFRESH-INTERVAL;VALUE=DURATION:PT1H
X-Robots-Tag:noindex
X-PUBLISHED-TTL:PT1H
BEGIN:VTIMEZONE
TZID:America/Los_Angeles
BEGIN:DAYLIGHT
TZOFFSETFROM:-0800
TZOFFSETTO:-0700
TZNAME:PDT
DTSTART:20200308T100000
END:DAYLIGHT
BEGIN:STANDARD
TZOFFSETFROM:-0700
TZOFFSETTO:-0800
TZNAME:PST
DTSTART:20201101T090000
END:STANDARD
BEGIN:DAYLIGHT
TZOFFSETFROM:-0800
TZOFFSETTO:-0700
TZNAME:PDT
DTSTART:20210314T100000
END:DAYLIGHT
BEGIN:STANDARD
TZOFFSETFROM:-0700
TZOFFSETTO:-0800
TZNAME:PST
DTSTART:20211107T090000
END:STANDARD
BEGIN:DAYLIGHT
TZOFFSETFROM:-0800
TZOFFSETTO:-0700
TZNAME:PDT
DTSTART:20220313T100000
END:DAYLIGHT
BEGIN:STANDARD
TZOFFSETFROM:-0700
TZOFFSETTO:-0800
TZNAME:PST
DTSTART:20221106T090000
END:STANDARD
END:VTIMEZONE
BEGIN:VEVENT
DTSTART;TZID=America/Los_Angeles:20210802T190000
DTEND;TZID=America/Los_Angeles:20210802T203000
DTSTAMP:20260424T210829
CREATED:20210510T193202Z
LAST-MODIFIED:20210510T193202Z
UID:10246-1627930800-1627936200@valleystreamszen.org
SUMMARY:Dharma Talk by Paravrtti Doralee Grindler Katonah (in-person & online)
DESCRIPTION:Paravrtti Doralee Grindler Katonah serves as Ino\, or head of the meditation hall. She studied in the Soto Zen lineage with Sojun Diane Martin in Illinois and Rev. Val Szymanski in California. She was priest ordained in 2019 by Sojun Diane Martin. Doralee works as a clinical psychologist.  (www.livingforwardwhole.com) \nOur Monday night programs begin with zazen (sitting meditation) followed by a devotional service and dharma talk\, group discussion\, practice circle or retreat night. There are no membership requirements to participate. We invite donations to support the room rental\, visits by teachers\, and other sangha activities. Valley Streams Zen Sangha is dedicated to the study of Buddha’s teaching and the practice of meditation. We invite newcomers and experienced Zen students to join us. \n\nFor those who are joining us online: \n\nMeeting ID for Monday Evenings: https://us02web.zoom.us/j/82008151977\nPrior to the meeting\, download the free Zoom Client for Meetings (13 MB)  As you Wait for the host to start the meeting click the Test Computer Audio button to make sure you can hear and be heard by others.\nDownload the chants in PDF.\nAt 6:50 pm\, join the meeting.\nThe program will begin at 7pm with this approximate schedule: 30 minute sitting; 5 minute chant; announcements; then a 30-40 minute Talk/Discussion.\n\n*To join by telephone (audio only): \n\nDial 669 900 6833 (San Jose) and follow voice prompts for entering the Meeting ID and password.\nPhone Controls: *9 = Raise hand; *6 = Mute/unmute
URL:https://valleystreamszen.org/event/monday-evening-zazen-service-program-2021-07-12-2021-08-02-4/
LOCATION:3111 Wissemann Drive\, Sacramento\, CA\, 95826\, United States
CATEGORIES:All Events,Monday Night Meeting,Online Event
END:VEVENT
BEGIN:VEVENT
DTSTART;TZID=America/Los_Angeles:20210807T083000
DTEND;TZID=America/Los_Angeles:20210807T123000
DTSTAMP:20260424T210829
CREATED:20210611T180755Z
LAST-MODIFIED:20210611T180755Z
UID:10251-1628325000-1628339400@valleystreamszen.org
SUMMARY:Half-day Zazenkai\, led by So-On Jim Hare (in-person OR online)
DESCRIPTION:This sitting may be on Zoom rather than outdoors at the Dharma Center as recently planned. In addition to heightened concerns about Covid\, we are experiencing poor air quality due to fires in the Sierra. If these conditions continue on Saturday\, the sitting will be held via Zoom. Please call or send an email for most recent venue information. \nZazenkai is a silent meditation retreat that doesn’t feature a Dharma talk. It is simply to go deeply into the practice of zazen; allowing silence and stillness to offer their blessings. The schedule will alternate six half-hour periods of sitting and walking meditation\, with a short silent break in mid-morning. \n\nIf this is your first time practicing with us or your first half-day sitting\, please call So-On Jim at 916-456-7752 to learn more about the day.\n\nRegister on Eventbrite.com
URL:https://valleystreamszen.org/event/half-day-sitting-led-by-so-on-jim-hare-sacramento-dharma-center-online-4/
LOCATION:3111 Wissemann Drive\, Sacramento\, CA\, 95826\, United States
CATEGORIES:All Events,Half-Day Sitting,Online Event,Retreat
END:VEVENT
BEGIN:VEVENT
DTSTART;TZID=America/Los_Angeles:20210809T180000
DTEND;TZID=America/Los_Angeles:20210809T184000
DTSTAMP:20260424T210829
CREATED:20201230T215355Z
LAST-MODIFIED:20201230T215355Z
UID:10227-1628532000-1628534400@valleystreamszen.org
SUMMARY:Introduction to Zen Meditation (online)
DESCRIPTION:On the second Monday of each month\, we offer a 40-minute introduction to Zen practice.  We focus on the art of sitting meditation\, with emphasis on posture\, breath and mental focus. This is for new meditators and those wishing to refresh their practice of meditative immersion. \nThis class WILL BE HELD ONLINE BECAUSE OF CURRENT COVID-19 GUIDELINES. zoom link: https://us02web.zoom.us/j/89078415062 \n Sign up for Weekly Emails to receive current program information.
URL:https://valleystreamszen.org/event/introduction-to-zen-meditation-2021-07-12-2021-08-09-4/
LOCATION:3111 Wissemann Drive\, Sacramento\, CA\, 95826\, United States
CATEGORIES:All Events,Meditation Instruction,Monday Night Meeting,Online Event
END:VEVENT
BEGIN:VEVENT
DTSTART;TZID=America/Los_Angeles:20210809T190000
DTEND;TZID=America/Los_Angeles:20210809T203000
DTSTAMP:20260424T210829
CREATED:20210510T193202Z
LAST-MODIFIED:20210510T193202Z
UID:10247-1628535600-1628541000@valleystreamszen.org
SUMMARY:Dharma Talk by Rev. Myo Lahey (in-person & online)
DESCRIPTION:Rev. Myo Lahey\, Abbot of Hartford Street Zen Center in San Francisco and our guiding teacher\, will offer the Dharma talk this evening. Myo has previously served as head of practice (Tanto) at Tassajara Zen Mountain Center. He is a Dharma heir of Tenshin Reb Anderson. Raised in an observant Roman Catholic home\, Myo was drawn to religion and spirituality at an early age and found Zen Buddhism in his teens. He began sitting in 1969 and practiced with many San Francisco Zen Center practitioners and teachers\, including Dainin Katigiri-roshi\, Kobun Chino-sensei\, Yoshimura-sensei\, and Issan Dorsey. Myo studied Sanskrit at UC Berkeley for ten years. \nOur Monday night programs begin with zazen (sitting meditation) followed by a devotional service and dharma talk\, group discussion\, practice circle or retreat night. There are no membership requirements to participate. We invite donations to support the room rental\, visits by teachers\, and other sangha activities. Valley Streams Zen Sangha is dedicated to the study of Buddha’s teaching and the practice of meditation. We invite newcomers and experienced Zen students to join us. \n\n\nMeeting ID for Monday Evenings: https://us02web.zoom.us/j/82008151977\nPrior to the meeting\, download the free Zoom Client for Meetings (13 MB)  As you Wait for the host to start the meeting click the Test Computer Audio button to make sure you can hear and be heard by others.\nDownload the chants in PDF.\nAt 6:50 pm\, join the meeting.\nThe program will begin at 7pm with this approximate schedule: 30 minute sitting; 5 minute chant; announcements; then a 30-40 minute Talk/Discussion.\n\n*To join by telephone (audio only): \n\nDial 669 900 6833 (San Jose) and follow voice prompts for entering the Meeting ID and password.\nPhone Controls: *9 = Raise hand; *6 = Mute/unmute
URL:https://valleystreamszen.org/event/monday-evening-zazen-service-program-2021-07-12-2021-08-09-4/
LOCATION:3111 Wissemann Drive\, Sacramento\, CA\, 95826\, United States
CATEGORIES:All Events,Monday Night Meeting,Online Event
END:VEVENT
BEGIN:VEVENT
DTSTART;TZID=America/Los_Angeles:20210816T190000
DTEND;TZID=America/Los_Angeles:20210816T203000
DTSTAMP:20260424T210829
CREATED:20210510T193202Z
LAST-MODIFIED:20210510T193202Z
UID:10248-1629140400-1629145800@valleystreamszen.org
SUMMARY:Dharma Talk by So-On Jim Hare (in-person & online)
DESCRIPTION:So-On Jim Hare  serves as Tanto\, or head of practice. He lived in the San Francisco Zen Center community from 1980 to 1984\, and was lay ordained by Tenshin Reb Anderson in 1985. He served as Head Student at Green Gulch Farm during the spring 2002 practice period. He was priest ordained by Myo Lahey in 2016. \nOur Monday night programs begin with zazen (sitting meditation) followed by a devotional service and dharma talk\, group discussion\, practice circle or retreat night. There are no membership requirements to participate. We invite donations to support the room rental\, visits by teachers\, and other sangha activities. Valley Streams Zen Sangha is dedicated to the study of Buddha’s teaching and the practice of meditation. We invite newcomers and experienced Zen students to join us. \n\n\nMeeting ID for Monday Evenings: https://us02web.zoom.us/j/82008151977\nPrior to the meeting\, download the free Zoom Client for Meetings (13 MB)  As you Wait for the host to start the meeting click the Test Computer Audio button to make sure you can hear and be heard by others.\nDownload the chants in PDF.\nAt 6:50 pm\, join the meeting.\nThe program will begin at 7pm with this approximate schedule: 30 minute sitting; 5 minute chant; announcements; then a 30-40 minute Talk/Discussion.\n\n*To join by telephone (audio only): \n\nDial 669 900 6833 (San Jose) and follow voice prompts for entering the Meeting ID and password.\nPhone Controls: *9 = Raise hand; *6 = Mute/unmute
URL:https://valleystreamszen.org/event/monday-evening-zazen-service-program-2021-07-12-2021-08-09-2021-08-16-4/
LOCATION:3111 Wissemann Drive\, Sacramento\, CA\, 95826\, United States
CATEGORIES:All Events,Monday Night Meeting,Online Event
END:VEVENT
BEGIN:VEVENT
DTSTART;TZID=America/Los_Angeles:20210823T190000
DTEND;TZID=America/Los_Angeles:20210823T203000
DTSTAMP:20260424T210829
CREATED:20210510T193202Z
LAST-MODIFIED:20210510T193202Z
UID:10249-1629745200-1629750600@valleystreamszen.org
SUMMARY:Way-seeking Mind Talk by Dell Richards (in-person & online)
DESCRIPTION:Each of us has come to Zen practice as a seeker\, with a spirit of inquiry\, from diverse backgrounds. The idea of our way-seeking mind talks is for members to share how it is they came to practice. Each person tells his or her own story in a unique way that often blends autobiography\, spiritual biography\, and the practice questions that each is engaged with. \n\nOur Monday night programs begin with zazen (sitting meditation) followed by a devotional service and dharma talk\, group discussion\, practice circle or retreat night. There are no membership requirements to participate. We invite donations to support the room rental\, visits by teachers\, and other sangha activities. Valley Streams Zen Sangha is dedicated to the study of Buddha’s teaching and the practice of meditation. We invite newcomers and experienced Zen students to join us. \n\n\nMeeting ID for Monday Evenings: https://us02web.zoom.us/j/82008151977\nPrior to the meeting\, download the free Zoom Client for Meetings (13 MB)  As you Wait for the host to start the meeting click the Test Computer Audio button to make sure you can hear and be heard by others.\nDownload the chants in PDF.\nAt 6:50 pm\, join the meeting.\nThe program will begin at 7pm with this approximate schedule: 30 minute sitting; 5 minute chant; announcements; then a 30-40 minute Talk/Discussion.\n\n*To join by telephone (audio only): \n\nDial 669 900 6833 (San Jose) and follow voice prompts for entering the Meeting ID and password.\nPhone Controls: *9 = Raise hand; *6 = Mute/unmute
URL:https://valleystreamszen.org/event/monday-evening-zazen-service-program-2021-07-12-2021-08-09-2021-08-23-4/
LOCATION:3111 Wissemann Drive\, Sacramento\, CA\, 95826\, United States
CATEGORIES:All Events,Monday Night Meeting,Online Event
END:VEVENT
BEGIN:VEVENT
DTSTART;TZID=America/Los_Angeles:20210826T163000
DTEND;TZID=America/Los_Angeles:20210826T180000
DTSTAMP:20260424T210829
CREATED:20210712T192118Z
LAST-MODIFIED:20210712T192118Z
UID:10252-1629995400-1630000800@valleystreamszen.org
SUMMARY:Book Club (ONLINE)
DESCRIPTION:Our intention with this book club is to continue our inquiry into the relationship between white supremacy\, white privilege and the Dharma. We will meet monthly on the fourth Thursday\, with a book selected by the group. We will rotate facilitators.  ALL ARE WELCOME.\nContact: Doralee Grindler Katonah at grindkaton@icloud.com or Linda Dekker at zendekker@gmail.com
URL:https://valleystreamszen.org/event/book-club-online-2021-08-26-4/2021-08-26/
LOCATION:3111 Wissemann Drive\, Sacramento\, CA\, 95826\, United States
CATEGORIES:All Events,Online Event,Study Group
END:VEVENT
BEGIN:VEVENT
DTSTART;TZID=America/Los_Angeles:20210830T190000
DTEND;TZID=America/Los_Angeles:20210830T203000
DTSTAMP:20260424T210829
CREATED:20210510T193202Z
LAST-MODIFIED:20210510T193202Z
UID:10250-1630350000-1630355400@valleystreamszen.org
SUMMARY:Retreat Night (in-person & online)
DESCRIPTION:On Retreat Night we offer an opportunity to settle into your meditation practice with three 25-minute periods of zazen\, interspersed with walking meditation (called kinhin). Turning the light inward we explore the causes of suffering and what can end it. This invitation is extended to everyone. \n\nOur Monday night programs begin with zazen (meditation) followed by a devotional service and dharma talk\, group discussion\, practice circle or retreat night. There are no membership requirements to participate. We invite donations to support the room rental\, visits by teachers\, and other sangha activities. Valley Streams Zen Sangha is dedicated to the study of Buddha’s teaching and the practice of meditation. We invite newcomers and experienced Zen students to join us. \nFor those who are joining us online: \n\nMeeting ID for Monday Evenings: https://us02web.zoom.us/j/82008151977\nPrior to the meeting\, download the free Zoom Client for Meetings (13 MB)  As you Wait for the host to start the meeting click the Test Computer Audio button to make sure you can hear and be heard by others.\nDownload the chants in PDF.\nAt 6:50 pm\, join the meeting.\nThe program will begin at 7pm with this approximate schedule: 30 minute sitting; 5 minute chant; announcements; then a 30-40 minute Talk/Discussion.\n\n*To join by telephone (audio only): \n\nDial 669 900 6833 (San Jose) and follow voice prompts for entering the Meeting ID and password.\nPhone Controls: *9 = Raise hand; *6 = Mute/unmute
URL:https://valleystreamszen.org/event/monday-evening-zazen-service-program-2021-07-12-2021-08-09-2021-08-30-4/
LOCATION:3111 Wissemann Drive\, Sacramento\, CA\, 95826\, United States
CATEGORIES:All Events,Monday Night Meeting,Online Event,Retreat Night
END:VEVENT
END:VCALENDAR