BEGIN:VCALENDAR
VERSION:2.0
PRODID:-//Valley Streams Zen Sangha - ECPv6.15.18//NONSGML v1.0//EN
CALSCALE:GREGORIAN
METHOD:PUBLISH
X-WR-CALNAME:Valley Streams Zen Sangha
X-ORIGINAL-URL:https://valleystreamszen.org
X-WR-CALDESC:Events for Valley Streams Zen Sangha
REFRESH-INTERVAL;VALUE=DURATION:PT1H
X-Robots-Tag:noindex
X-PUBLISHED-TTL:PT1H
BEGIN:VTIMEZONE
TZID:America/Los_Angeles
BEGIN:DAYLIGHT
TZOFFSETFROM:-0800
TZOFFSETTO:-0700
TZNAME:PDT
DTSTART:20200308T100000
END:DAYLIGHT
BEGIN:STANDARD
TZOFFSETFROM:-0700
TZOFFSETTO:-0800
TZNAME:PST
DTSTART:20201101T090000
END:STANDARD
BEGIN:DAYLIGHT
TZOFFSETFROM:-0800
TZOFFSETTO:-0700
TZNAME:PDT
DTSTART:20210314T100000
END:DAYLIGHT
BEGIN:STANDARD
TZOFFSETFROM:-0700
TZOFFSETTO:-0800
TZNAME:PST
DTSTART:20211107T090000
END:STANDARD
BEGIN:DAYLIGHT
TZOFFSETFROM:-0800
TZOFFSETTO:-0700
TZNAME:PDT
DTSTART:20220313T100000
END:DAYLIGHT
BEGIN:STANDARD
TZOFFSETFROM:-0700
TZOFFSETTO:-0800
TZNAME:PST
DTSTART:20221106T090000
END:STANDARD
END:VTIMEZONE
BEGIN:VEVENT
DTSTART;TZID=America/Los_Angeles:20211002T090000
DTEND;TZID=America/Los_Angeles:20211002T170000
DTSTAMP:20260424T173726
CREATED:20210917T160542Z
LAST-MODIFIED:20210917T160542Z
UID:10290-1633165200-1633194000@valleystreamszen.org
SUMMARY:Awakening Bodhi Mind - A One-day Zen Retreat\, led by So-On Jim Hare
DESCRIPTION:Zen master Dogen speaks of “raising an aspiration to escalade the very sky.” What is the place for such audacity in our practice?   \nMany of us begin Zen practice with the hope that it will relieve the pain and grief we feel much of the time. Later\, we learn that relieving suffering is just part of the work. The Buddhas point the way toward complete liberation\, not only for ourselves but for all beings. The aspiration for such liberation is called Bodhicittapada. \nWe will explore the aspiration for enlightenment in our one-day sitting\, through multiple periods of zazen\, a morning Dharma talk and afternoon discussion. \nPlease note this is an IN-PERSON retreat. All who attend must be vaccinated against Covid-19. In addition\, masking and social distancing protocols will be practiced. \n\nIf this is your first time practicing with us or your first one-day sitting\, please call So-On Jim at 916-456-7752 to learn more about the day.\nPlease bring a bag lunch.\nFee is by donation.\n\nREGISTER ON EVENTBRITE.COM \n 
URL:https://valleystreamszen.org/event/awakening-bodhi-mind-a-one-day-zen-retreat-led-by-so-on-jim-hare-3/
LOCATION:3111 Wissemann Drive\, Sacramento\, CA\, 95826\, United States
CATEGORIES:All Events,One-Day Sitting,Retreat
END:VEVENT
BEGIN:VEVENT
DTSTART;TZID=America/Los_Angeles:20211004T190000
DTEND;TZID=America/Los_Angeles:20211004T210000
DTSTAMP:20260424T173726
CREATED:20210819T202451Z
LAST-MODIFIED:20210819T202451Z
UID:10276-1633374000-1633381200@valleystreamszen.org
SUMMARY:Dharma Talk by Rev. Myo Lahey (in-person & online)
DESCRIPTION:Rev. Myo Lahey is Abbot at Hartford Street Zen Center in San Francisco and our guiding teacher. He has previously served as Practice Leader at Tassajara Zen Mountain Center. He is a Dharma heir of Tenshin Reb Anderson. Tonight’s talk will be online from Hartford Street Zen Center. \nOur Monday night programs begin with zazen (meditation) followed by a devotional service and dharma talk\, group discussion\, practice circle or retreat night. There are no membership requirements to participate. We invite donations to support the room rental\, visits by teachers\, and other sangha activities. Valley Streams Zen Sangha is dedicated to the study of Buddha’s teaching and the practice of meditation. We invite newcomers and experienced Zen students to join us. \n*Zoom link for this program: https://us02web.zoom.us/j/82008151977
URL:https://valleystreamszen.org/event/monday-evening-zazen-and-program-in-person-online-2021-10-04-3/
LOCATION:3111 Wissemann Drive\, Sacramento\, CA\, 95826\, United States
CATEGORIES:All Events,Monday Night Meeting,Online Event
END:VEVENT
BEGIN:VEVENT
DTSTART;TZID=America/Los_Angeles:20211011T180000
DTEND;TZID=America/Los_Angeles:20211011T184000
DTSTAMP:20260424T173726
CREATED:20201230T215355Z
LAST-MODIFIED:20201230T215355Z
UID:10229-1633975200-1633977600@valleystreamszen.org
SUMMARY:Introduction to Zen Meditation
DESCRIPTION:On the second Monday of each month\, we offer a 40-minute introduction to Zen practice.  We focus on the art of sitting meditation\, with emphasis on posture\, breath and mental focus. This is for new meditators and those wishing to refresh their practice of meditative immersion. \nSign up for Weekly Emails to receive current program information.
URL:https://valleystreamszen.org/event/introduction-to-zen-meditation-2021-07-12-2021-08-09-2021-10-11-4/
LOCATION:3111 Wissemann Drive\, Sacramento\, CA\, 95826\, United States
CATEGORIES:All Events,Meditation Instruction,Monday Night Meeting
END:VEVENT
BEGIN:VEVENT
DTSTART;TZID=America/Los_Angeles:20211011T190000
DTEND;TZID=America/Los_Angeles:20211011T210000
DTSTAMP:20260424T173726
CREATED:20210819T202451Z
LAST-MODIFIED:20210819T202451Z
UID:10277-1633978800-1633986000@valleystreamszen.org
SUMMARY:Dharma Talk by So-On Jim Hare (in-person & online)
DESCRIPTION:So-On Jim Hare  serves as Tanto\, or head of practice. He lived in the San Francisco Zen Center community from 1980 to 1984\, and was lay ordained by Tenshin Reb Anderson in 1985. He served as Head Student at Green Gulch Farm during the spring 2002 practice period. He was priest ordained by Rev. Myo Lahey in 2016. \nOur Monday night programs begin with zazen (meditation) followed by a devotional service and dharma talk\, group discussion\, practice circle or retreat night. There are no membership requirements to participate. We invite donations to support the room rental\, visits by teachers\, and other sangha activities. Valley Streams Zen Sangha is dedicated to the study of Buddha’s teaching and the practice of meditation. We invite newcomers and experienced Zen students to join us. \n*Zoom link for this program:  https://us02web.zoom.us/j/82008151977
URL:https://valleystreamszen.org/event/monday-evening-zazen-and-program-in-person-online-2021-10-11-3/
LOCATION:3111 Wissemann Drive\, Sacramento\, CA\, 95826\, United States
CATEGORIES:All Events,Monday Night Meeting,Online Event
END:VEVENT
BEGIN:VEVENT
DTSTART;TZID=America/Los_Angeles:20211018T190000
DTEND;TZID=America/Los_Angeles:20211018T210000
DTSTAMP:20260424T173726
CREATED:20210819T202451Z
LAST-MODIFIED:20210819T202451Z
UID:10278-1634583600-1634590800@valleystreamszen.org
SUMMARY:Dharma Talk by Rev. Ben Connelly (in-person & online)
DESCRIPTION:Ben Connelly is a Soto Zen teacher and Dharma heir in the Dainin Katagiri Roshi lineage. He also teaches mindfulness in a wide variety of secular contexts including police and corporate training\, correctional facilities\, and addiction recovery and wellness groups. Ben is based at Minnesota Zen Meditation Center and travels to teach across the United States. He lives in Minneapolis\, Minnesota. He is the author of: Inside the Grass Hut: Living Shitou’s Classic Zen Poem\, Inside Vasubandhu’s Yogacara: a Practitioner’s Guide\, and Mindfulness and Intimacy. \n\nOur Monday night programs begin with zazen (meditation) followed by a devotional service and dharma talk\, group discussion\, practice circle or retreat night. There are no membership requirements to participate. We invite donations to support the room rental\, visits by teachers\, and other sangha activities. Valley Streams Zen Sangha is dedicated to the study of Buddha’s teaching and the practice of meditation. We invite newcomers and experienced Zen students to join us.
URL:https://valleystreamszen.org/event/monday-evening-zazen-and-program-in-person-online-2021-10-18-3/
LOCATION:3111 Wissemann Drive\, Sacramento\, CA\, 95826\, United States
CATEGORIES:All Events,Monday Night Meeting,Online Event
END:VEVENT
BEGIN:VEVENT
DTSTART;TZID=America/Los_Angeles:20211024T103000
DTEND;TZID=America/Los_Angeles:20211024T120000
DTSTAMP:20260424T173726
CREATED:20210923T223758Z
LAST-MODIFIED:20210923T223758Z
UID:10291-1635071400-1635076800@valleystreamszen.org
SUMMARY:Annual Sangha Meeting - on ZOOM
DESCRIPTION:It’s a virtual event!\nBring your coffee or tea and a pastry and spend a relaxed Sunday morning catching up with Sangha friends\, hearing the latest news from VSZS Board members\, meeting our two new Board members\, adventuring into an ice-breaker game\, and sharing ideas!\nPresident Doralee will review events of the past year\, and Treasurer Larry Smith will present the Sangha’s financial report. We will assemble in our Zoom cubicles and in breakout rooms to more easily talk about what has been and what could be for our sangha in the coming year.\n• Register on  Eventbrite
URL:https://valleystreamszen.org/event/annual-sangha-meeting-3/
LOCATION:3111 Wissemann Drive\, Sacramento\, CA\, 95826\, United States
CATEGORIES:All Events,Online Event,Special Event
END:VEVENT
BEGIN:VEVENT
DTSTART;TZID=America/Los_Angeles:20211025T190000
DTEND;TZID=America/Los_Angeles:20211025T210000
DTSTAMP:20260424T173726
CREATED:20210819T202451Z
LAST-MODIFIED:20210819T202451Z
UID:10279-1635188400-1635195600@valleystreamszen.org
SUMMARY:Dharma Talk by Lama Rod Owens (online video)
DESCRIPTION:Love and Rage – The Path of Liberation Through Anger – Lama Rod Owens interviewed by Rabbi Dr. Shmuly Yanklowitz : an online video.\n \nAll of us have many reasons to be angry and even enraged in this fractured world we are living in. Come listen to Lama Owens and participate in a discussion about how we practice with “negative” emotions as an aspect of seeking social justice and healing for all beings. \nLama Rod Owens is an author\, activist\, African American gay man and authorized lama in the Kagyu School of Tibetan Buddhism who explores spiritual practices that transform anger and rage into a force of healing in this world. \n\n\n\n\n\n\nOur Monday night programs begin with zazen (meditation) followed by a devotional service and dharma talk\, group discussion\, practice circle or retreat night. There are no membership requirements to participate. We invite donations to support the room rental\, visits by teachers\, and other sangha activities. Valley Streams Zen Sangha is dedicated to the study of Buddha’s teaching and the practice of meditation. We invite newcomers and experienced Zen students to join us.
URL:https://valleystreamszen.org/event/monday-evening-zazen-and-program-in-person-online-2021-10-25-3/
LOCATION:3111 Wissemann Drive\, Sacramento\, CA\, 95826\, United States
CATEGORIES:All Events,Monday Night Meeting,Online Event
END:VEVENT
END:VCALENDAR